BEGIN:VCALENDAR
VERSION:2.0
PRODID:-//Lady Velvet Cabaret - ECPv6.0.9//NONSGML v1.0//EN
CALSCALE:GREGORIAN
METHOD:PUBLISH
X-ORIGINAL-URL:https://ladyvelvetcabaret.com.au
X-WR-CALDESC:Events for Lady Velvet Cabaret
REFRESH-INTERVAL;VALUE=DURATION:PT1H
X-Robots-Tag:noindex
X-PUBLISHED-TTL:PT1H
BEGIN:VTIMEZONE
TZID:Australia/Perth
BEGIN:STANDARD
TZOFFSETFROM:+0800
TZOFFSETTO:+0800
TZNAME:AWST
DTSTART:20190101T000000
END:STANDARD
END:VTIMEZONE
BEGIN:VEVENT
DTSTART;VALUE=DATE:20190131
DTEND;VALUE=DATE:20190201
DTSTAMP:20260422T054253
CREATED:20190117T084250Z
LAST-MODIFIED:20190117T084250Z
UID:4401-1548892800-1548979199@ladyvelvetcabaret.com.au
SUMMARY:Sugar performs in Baby Got Back: Size Queens
DESCRIPTION:Baby Got Back presents Size Queens – an incredible touring showcase of Australia’s top burlesque talent\, featuring Sugar du Joure! \nTime: 10pm
URL:https://ladyvelvetcabaret.com.au/event/sugar-performs-in-baby-got-back-size-queens-3/
LOCATION:The Edith Spiegeltent\, Yagan Square
CATEGORIES:LVC Performer at Event
ATTACH;FMTTYPE=image/jpeg:https://ladyvelvetcabaret.com.au/wp-content/uploads/2019/01/Baby-Got-Back.jpg
END:VEVENT
BEGIN:VEVENT
DTSTART;TZID=Australia/Perth:20190131T213000
DTEND;TZID=Australia/Perth:20190131T223000
DTSTAMP:20260422T054253
CREATED:20190123T021939Z
LAST-MODIFIED:20190123T021939Z
UID:4552-1548970200-1548973800@ladyvelvetcabaret.com.au
SUMMARY:Lola performs in Pupperotica: Foreplay! at Fringe World
DESCRIPTION:Lola Moore stars in and produces Pupperotica: Foreplay\, at Perth’s Fringe World Festival!
URL:https://ladyvelvetcabaret.com.au/event/lola-performs-in-pupperotica-foreplay-at-fringe-world-5/
LOCATION:Fringe World
CATEGORIES:LVC Performer at Event
ATTACH;FMTTYPE=image/jpeg:https://ladyvelvetcabaret.com.au/wp-content/uploads/2019/01/51073017_222882765286880_8743843035655176192_n.jpg
END:VEVENT
END:VCALENDAR