BEGIN:VCALENDAR
VERSION:2.0
PRODID:-//Lady Velvet Cabaret - ECPv6.0.9//NONSGML v1.0//EN
CALSCALE:GREGORIAN
METHOD:PUBLISH
X-ORIGINAL-URL:https://ladyvelvetcabaret.com.au
X-WR-CALDESC:Events for Lady Velvet Cabaret
REFRESH-INTERVAL;VALUE=DURATION:PT1H
X-Robots-Tag:noindex
X-PUBLISHED-TTL:PT1H
BEGIN:VTIMEZONE
TZID:Australia/Perth
BEGIN:STANDARD
TZOFFSETFROM:+0800
TZOFFSETTO:+0800
TZNAME:AWST
DTSTART:20190101T000000
END:STANDARD
END:VTIMEZONE
BEGIN:VEVENT
DTSTART;VALUE=DATE:20190202
DTEND;VALUE=DATE:20190203
DTSTAMP:20260422T054254
CREATED:20190117T084314Z
LAST-MODIFIED:20190117T084314Z
UID:4405-1549065600-1549151999@ladyvelvetcabaret.com.au
SUMMARY:Sugar performs in Baby Got Back: Size Queens
DESCRIPTION:Baby Got Back presents Size Queens – an incredible touring showcase of Australia’s top burlesque talent\, featuring Sugar du Joure! \nTime: 10pm
URL:https://ladyvelvetcabaret.com.au/event/sugar-performs-in-baby-got-back-size-queens-5/
LOCATION:The Edith Spiegeltent\, Yagan Square
CATEGORIES:LVC Performer at Event
ATTACH;FMTTYPE=image/jpeg:https://ladyvelvetcabaret.com.au/wp-content/uploads/2019/01/Baby-Got-Back.jpg
END:VEVENT
BEGIN:VEVENT
DTSTART;TZID=Australia/Perth:20190202T203000
DTEND;TZID=Australia/Perth:20190202T203000
DTSTAMP:20260422T054254
CREATED:20181112T093724Z
LAST-MODIFIED:20181112T094946Z
UID:4284-1549139400-1549139400@ladyvelvetcabaret.com.au
SUMMARY:LVC Presents APHROZODIAC at FRINGE WORLD Perth
DESCRIPTION:LVC presents AphroZodiac for two nights only at Perth’s FRINGE WORLD Festival\, proudly supported by City of Stirling.
URL:https://ladyvelvetcabaret.com.au/event/lvc-presents-aphrozodiac-at-fringe-world-perth-2/
LOCATION:Sunset Veranda\, Australia
CATEGORIES:Lady Velvet Cabaret Show
ATTACH;FMTTYPE=image/jpeg:https://ladyvelvetcabaret.com.au/wp-content/uploads/2018/11/Fringe-World-Artwork.jpg
END:VEVENT
END:VCALENDAR