BEGIN:VCALENDAR
VERSION:2.0
PRODID:-//Lady Velvet Cabaret - ECPv6.0.9//NONSGML v1.0//EN
CALSCALE:GREGORIAN
METHOD:PUBLISH
X-ORIGINAL-URL:https://ladyvelvetcabaret.com.au
X-WR-CALDESC:Events for Lady Velvet Cabaret
REFRESH-INTERVAL;VALUE=DURATION:PT1H
X-Robots-Tag:noindex
X-PUBLISHED-TTL:PT1H
BEGIN:VTIMEZONE
TZID:Australia/Perth
BEGIN:STANDARD
TZOFFSETFROM:+0800
TZOFFSETTO:+0800
TZNAME:AWST
DTSTART:20190101T000000
END:STANDARD
END:VTIMEZONE
BEGIN:VEVENT
DTSTART;VALUE=DATE:20190323
DTEND;VALUE=DATE:20190324
DTSTAMP:20260422T040857
CREATED:20190318T063709Z
LAST-MODIFIED:20190318T063915Z
UID:5378-1553299200-1553385599@ladyvelvetcabaret.com.au
SUMMARY:Candy Cheeks roves at a special birthday celebration
DESCRIPTION:Candy Cheeks joins a team of professional performers roving and greeting guests at a special birthday celebration.
URL:https://ladyvelvetcabaret.com.au/event/candy-cheeks-roves-at-a-special-birthday-celebration/
LOCATION:Private home\, Peppermint Grove
CATEGORIES:LVC Performer at Event
ATTACH;FMTTYPE=image/jpeg:https://ladyvelvetcabaret.com.au/wp-content/uploads/2019/03/candy-cheeks-roves-at-a-special-birthday-celebration.jpg
END:VEVENT
END:VCALENDAR