BEGIN:VCALENDAR
VERSION:2.0
PRODID:-//Lady Velvet Cabaret - ECPv6.0.9//NONSGML v1.0//EN
CALSCALE:GREGORIAN
METHOD:PUBLISH
X-WR-CALNAME:Lady Velvet Cabaret
X-ORIGINAL-URL:https://ladyvelvetcabaret.com.au
X-WR-CALDESC:Events for Lady Velvet Cabaret
REFRESH-INTERVAL;VALUE=DURATION:PT1H
X-Robots-Tag:noindex
X-PUBLISHED-TTL:PT1H
BEGIN:VTIMEZONE
TZID:Australia/Perth
BEGIN:STANDARD
TZOFFSETFROM:+0800
TZOFFSETTO:+0800
TZNAME:AWST
DTSTART:20190101T000000
END:STANDARD
END:VTIMEZONE
BEGIN:VEVENT
DTSTART;TZID=Australia/Perth:20190416T201500
DTEND;TZID=Australia/Perth:20190416T211500
DTSTAMP:20260422T023441
CREATED:20190212T105039Z
LAST-MODIFIED:20190212T105039Z
UID:4757-1555445700-1555449300@ladyvelvetcabaret.com.au
SUMMARY:Moulin Rouge! Burlesque Series Short Course
DESCRIPTION:Join prolific performer Sugar du Joure for a five week course filled with glamour\, sensuality\, fun and confidence! Step into the studio and learn everything from styling\, costuming\, persona\, stage presence and of course\, unique choreography. Suitable for dancers of all levels\, this course will have you falling in love with burlesque all over again\, and fees include your performance opportunity at our end of term graduation show.
URL:https://ladyvelvetcabaret.com.au/event/moulin-rouge-burlesque-series-short-course-3/
LOCATION:Lady Velvet Cabaret
CATEGORIES:Class or Workshop
ATTACH;FMTTYPE=image/jpeg:https://ladyvelvetcabaret.com.au/wp-content/uploads/2019/02/LVC-Moulin-Rouge-Instagram-4-.jpg
END:VEVENT
END:VCALENDAR