BEGIN:VCALENDAR
VERSION:2.0
PRODID:-//Lady Velvet Cabaret - ECPv6.0.9//NONSGML v1.0//EN
CALSCALE:GREGORIAN
METHOD:PUBLISH
X-ORIGINAL-URL:https://ladyvelvetcabaret.com.au
X-WR-CALDESC:Events for Lady Velvet Cabaret
REFRESH-INTERVAL;VALUE=DURATION:PT1H
X-Robots-Tag:noindex
X-PUBLISHED-TTL:PT1H
BEGIN:VTIMEZONE
TZID:Australia/Perth
BEGIN:STANDARD
TZOFFSETFROM:+0800
TZOFFSETTO:+0800
TZNAME:AWST
DTSTART:20190101T000000
END:STANDARD
END:VTIMEZONE
BEGIN:VEVENT
DTSTART;TZID=Australia/Perth:20190423T180000
DTEND;TZID=Australia/Perth:20190423T191500
DTSTAMP:20260422T023610
CREATED:20190327T062219Z
LAST-MODIFIED:20190327T062219Z
UID:5462-1556042400-1556046900@ladyvelvetcabaret.com.au
SUMMARY:WAPS and LVC presents... STRETCH TO SPLITS!
DESCRIPTION:We are thrilled to announce a special one off workshop for students looking to achieve and utilise their splits! In this fun workshop with your flexy sexy instructor Candy Cheeks\, you will be working on left\, right\, and middle splits\, including fun variations and new ways to use them. You will learn correct warm up technique\, specialised stretches for your hamstrings and hip flexors\, how to get deeper into your splits and comfortably start to stretch to over-splits! Included in your workshop price is the use of our yoga mats\, and special stretching materials (such as blocks\, bands\, and rollers). Open to all\, whether you are a current student or have never even danced before!  \nWHERE: The WA Performance School\, Subiaco\nWHEN: Tuesday April 23rd 6:00pm – 7:15pm\nPRICE: $25.00\nAGE: Adults only\, 18yrs+ \nPlaces are limited\, book today! Email info@ladyvelvetcabaret.com.au to save your spot – all payments due at least a week prior to workshop to secure your place. \nwww.ladyvelvetcabaret.com.au
URL:https://ladyvelvetcabaret.com.au/event/waps-and-lvc-presents-stretch-to-splits/
LOCATION:The WA Performance School\, Subiaco
CATEGORIES:Class or Workshop
ATTACH;FMTTYPE=image/jpeg:https://ladyvelvetcabaret.com.au/wp-content/uploads/2019/03/waps-and-lvc-presents-stretch-to-splits.jpg
END:VEVENT
BEGIN:VEVENT
DTSTART;TZID=Australia/Perth:20190423T201500
DTEND;TZID=Australia/Perth:20190423T211500
DTSTAMP:20260422T023610
CREATED:20190212T105045Z
LAST-MODIFIED:20190212T105045Z
UID:4758-1556050500-1556054100@ladyvelvetcabaret.com.au
SUMMARY:Moulin Rouge! Burlesque Series Short Course
DESCRIPTION:Join prolific performer Sugar du Joure for a five week course filled with glamour\, sensuality\, fun and confidence! Step into the studio and learn everything from styling\, costuming\, persona\, stage presence and of course\, unique choreography. Suitable for dancers of all levels\, this course will have you falling in love with burlesque all over again\, and fees include your performance opportunity at our end of term graduation show.
URL:https://ladyvelvetcabaret.com.au/event/moulin-rouge-burlesque-series-short-course-4/
LOCATION:Lady Velvet Cabaret
CATEGORIES:Class or Workshop
ATTACH;FMTTYPE=image/jpeg:https://ladyvelvetcabaret.com.au/wp-content/uploads/2019/02/LVC-Moulin-Rouge-Instagram-4-.jpg
END:VEVENT
END:VCALENDAR