BEGIN:VCALENDAR
VERSION:2.0
PRODID:-//Lady Velvet Cabaret - ECPv6.0.9//NONSGML v1.0//EN
CALSCALE:GREGORIAN
METHOD:PUBLISH
X-ORIGINAL-URL:https://ladyvelvetcabaret.com.au
X-WR-CALDESC:Events for Lady Velvet Cabaret
REFRESH-INTERVAL;VALUE=DURATION:PT1H
X-Robots-Tag:noindex
X-PUBLISHED-TTL:PT1H
BEGIN:VTIMEZONE
TZID:Australia/Perth
BEGIN:STANDARD
TZOFFSETFROM:+0800
TZOFFSETTO:+0800
TZNAME:AWST
DTSTART:20190101T000000
END:STANDARD
END:VTIMEZONE
BEGIN:VEVENT
DTSTART;TZID=Australia/Perth:20190629T190000
DTEND;TZID=Australia/Perth:20190629T220000
DTSTAMP:20260421T233423
CREATED:20190619T074719Z
LAST-MODIFIED:20190619T074958Z
UID:6424-1561834800-1561845600@ladyvelvetcabaret.com.au
SUMMARY:Lola Moore competes in Miss Burlesque WA Finals
DESCRIPTION:Lola Moore competes in the Miss Burlesque Western Australia finals at the Astor Theatre\, Perth\nEvent Cost – Currency: (Dollars) $\nEvent Cost – Amount: 30+
URL:https://ladyvelvetcabaret.com.au/event/lola-moore-competes-in-miss-burlesque-wa-finals/
LOCATION:The Astor Theatre\,
CATEGORIES:LVC Performer at Event
ATTACH;FMTTYPE=image/jpeg:https://ladyvelvetcabaret.com.au/wp-content/uploads/2019/06/lola-moore-competes-in-miss-burlesque-wa-finals.jpg
END:VEVENT
BEGIN:VEVENT
DTSTART;TZID=Australia/Perth:20190629T190000
DTEND;TZID=Australia/Perth:20190629T220000
DTSTAMP:20260421T233423
CREATED:20190620T032133Z
LAST-MODIFIED:20190620T032201Z
UID:6436-1561834800-1561845600@ladyvelvetcabaret.com.au
SUMMARY:Sugar du Joure\, featured performer at Miss Burlesque WA 2019
DESCRIPTION:Sugar du Joure performs a very special routine as featured performer for Miss Burlesque WA 2019\nEvent Cost: $
URL:https://ladyvelvetcabaret.com.au/event/sugar-du-joure-featured-performer-at-miss-burlesque-wa-2019/
LOCATION:The Astor Theatre
CATEGORIES:LVC Performer at Event
ATTACH;FMTTYPE=image/jpeg:https://ladyvelvetcabaret.com.au/wp-content/uploads/2019/06/Sugar1.jpg
END:VEVENT
END:VCALENDAR