BEGIN:VCALENDAR
VERSION:2.0
PRODID:-//Lady Velvet Cabaret - ECPv6.0.9//NONSGML v1.0//EN
CALSCALE:GREGORIAN
METHOD:PUBLISH
X-ORIGINAL-URL:https://ladyvelvetcabaret.com.au
X-WR-CALDESC:Events for Lady Velvet Cabaret
REFRESH-INTERVAL;VALUE=DURATION:PT1H
X-Robots-Tag:noindex
X-PUBLISHED-TTL:PT1H
BEGIN:VTIMEZONE
TZID:Australia/Perth
BEGIN:STANDARD
TZOFFSETFROM:+0800
TZOFFSETTO:+0800
TZNAME:AWST
DTSTART:20190101T000000
END:STANDARD
END:VTIMEZONE
BEGIN:VEVENT
DTSTART;TZID=Australia/Perth:20190705T080000
DTEND;TZID=Australia/Perth:20190705T170000
DTSTAMP:20260421T220614
CREATED:20190701T054235Z
LAST-MODIFIED:20190701T054235Z
UID:6485-1562313600-1562346000@ladyvelvetcabaret.com.au
SUMMARY:Bambi and Candy rove at Crown Perth
DESCRIPTION:Bambi la Belle and Candy Cheeks will be bringing a touch of Vegas glam to the Carbon Group celebrations at Crown Perth.
URL:https://ladyvelvetcabaret.com.au/event/bambi-and-candy-rove-at-crown-perth/
LOCATION:Crown Perth
CATEGORIES:LVC Performer at Event
ATTACH;FMTTYPE=image/jpeg:https://ladyvelvetcabaret.com.au/wp-content/uploads/2019/07/65386680_442637489923594_409602243516432384_n.jpg
END:VEVENT
END:VCALENDAR