BEGIN:VCALENDAR
VERSION:2.0
PRODID:-//Lady Velvet Cabaret - ECPv6.0.9//NONSGML v1.0//EN
CALSCALE:GREGORIAN
METHOD:PUBLISH
X-ORIGINAL-URL:https://ladyvelvetcabaret.com.au
X-WR-CALDESC:Events for Lady Velvet Cabaret
REFRESH-INTERVAL;VALUE=DURATION:PT1H
X-Robots-Tag:noindex
X-PUBLISHED-TTL:PT1H
BEGIN:VTIMEZONE
TZID:Australia/Perth
BEGIN:STANDARD
TZOFFSETFROM:+0800
TZOFFSETTO:+0800
TZNAME:AWST
DTSTART:20190101T000000
END:STANDARD
END:VTIMEZONE
BEGIN:VEVENT
DTSTART;TZID=Australia/Perth:20190709T201500
DTEND;TZID=Australia/Perth:20190709T211500
DTSTAMP:20260421T220656
CREATED:20190529T041436Z
LAST-MODIFIED:20190529T041436Z
UID:5958-1562703300-1562706900@ladyvelvetcabaret.com.au
SUMMARY:Robo-A-Gogo Six Week Course
DESCRIPTION:Join Sugar du Joure for a sexy swingin’ sixties course with a twist (and shout!)
URL:https://ladyvelvetcabaret.com.au/event/robo-a-gogo-six-week-course-5/
LOCATION:Lady Velvet Cabaret
CATEGORIES:Class or Workshop
ATTACH;FMTTYPE=image/jpeg:https://ladyvelvetcabaret.com.au/wp-content/uploads/2019/05/robo-a-gogo-six-week-course.jpg
END:VEVENT
END:VCALENDAR