BEGIN:VCALENDAR
VERSION:2.0
PRODID:-//Lady Velvet Cabaret - ECPv6.0.9//NONSGML v1.0//EN
CALSCALE:GREGORIAN
METHOD:PUBLISH
X-ORIGINAL-URL:https://ladyvelvetcabaret.com.au
X-WR-CALDESC:Events for Lady Velvet Cabaret
REFRESH-INTERVAL;VALUE=DURATION:PT1H
X-Robots-Tag:noindex
X-PUBLISHED-TTL:PT1H
BEGIN:VTIMEZONE
TZID:Australia/Perth
BEGIN:STANDARD
TZOFFSETFROM:+0800
TZOFFSETTO:+0800
TZNAME:AWST
DTSTART:20190101T000000
END:STANDARD
END:VTIMEZONE
BEGIN:VEVENT
DTSTART;TZID=Australia/Perth:20190712T183000
DTEND;TZID=Australia/Perth:20190712T210000
DTSTAMP:20260421T220657
CREATED:20190712T022844Z
LAST-MODIFIED:20190712T034720Z
UID:6534-1562956200-1562965200@ladyvelvetcabaret.com.au
SUMMARY:Lucinda performs at City of Perth's Winter Fest Cabaret Theare
DESCRIPTION:Catch Lucinda Panties performing alongside a host of outrageous Perth talent at Perth’s Winter Fest Cabaret Theatre showcase
URL:https://ladyvelvetcabaret.com.au/event/lucinda-performs-at-city-of-perths-winter-fest-cabaret-theare/
LOCATION:City of Perth
CATEGORIES:LVC Performer at Event
ATTACH;FMTTYPE=image/jpeg:https://ladyvelvetcabaret.com.au/wp-content/uploads/2019/07/water1.jpg
END:VEVENT
END:VCALENDAR