BEGIN:VCALENDAR
VERSION:2.0
PRODID:-//Lady Velvet Cabaret - ECPv6.0.9//NONSGML v1.0//EN
CALSCALE:GREGORIAN
METHOD:PUBLISH
X-ORIGINAL-URL:https://ladyvelvetcabaret.com.au
X-WR-CALDESC:Events for Lady Velvet Cabaret
REFRESH-INTERVAL;VALUE=DURATION:PT1H
X-Robots-Tag:noindex
X-PUBLISHED-TTL:PT1H
BEGIN:VTIMEZONE
TZID:Australia/Perth
BEGIN:STANDARD
TZOFFSETFROM:+0800
TZOFFSETTO:+0800
TZNAME:AWST
DTSTART:20190101T000000
END:STANDARD
END:VTIMEZONE
BEGIN:VEVENT
DTSTART;TZID=Australia/Perth:20190719T183000
DTEND;TZID=Australia/Perth:20190719T210000
DTSTAMP:20260421T220614
CREATED:20190712T023041Z
LAST-MODIFIED:20190712T034826Z
UID:6538-1563561000-1563570000@ladyvelvetcabaret.com.au
SUMMARY:Lucinda performs at City of Perth's Winter Fest Cabaret Theare
DESCRIPTION:Catch Lucinda Panties performing alongside a host of outrageous Perth talent at Perth’s Winter Fest Cabaret Theatre showcase
URL:https://ladyvelvetcabaret.com.au/event/lucinda-performs-at-city-of-perths-winter-fest-cabaret-theare-2/
LOCATION:City of Perth
CATEGORIES:LVC Performer at Event
ATTACH;FMTTYPE=image/jpeg:https://ladyvelvetcabaret.com.au/wp-content/uploads/2019/07/water1.jpg
END:VEVENT
END:VCALENDAR