BEGIN:VCALENDAR
VERSION:2.0
PRODID:-//Lady Velvet Cabaret - ECPv6.0.9//NONSGML v1.0//EN
CALSCALE:GREGORIAN
METHOD:PUBLISH
X-ORIGINAL-URL:https://ladyvelvetcabaret.com.au
X-WR-CALDESC:Events for Lady Velvet Cabaret
REFRESH-INTERVAL;VALUE=DURATION:PT1H
X-Robots-Tag:noindex
X-PUBLISHED-TTL:PT1H
BEGIN:VTIMEZONE
TZID:Australia/Perth
BEGIN:STANDARD
TZOFFSETFROM:+0800
TZOFFSETTO:+0800
TZNAME:AWST
DTSTART:20190101T000000
END:STANDARD
END:VTIMEZONE
BEGIN:VEVENT
DTSTART;TZID=Australia/Perth:20190721T180000
DTEND;TZID=Australia/Perth:20190721T213000
DTSTAMP:20260421T220615
CREATED:20190603T034019Z
LAST-MODIFIED:20190611T061152Z
UID:5994-1563732000-1563744600@ladyvelvetcabaret.com.au
SUMMARY:Blast Off Burlesque!
DESCRIPTION:Boldly go where no audience has gone before\, with Lady Velvet Cabaret at the Rosemount Hotel\, 21 July!
URL:https://ladyvelvetcabaret.com.au/event/blast-off-burlesque-2/
LOCATION:The Rosemount Hotel
CATEGORIES:Lady Velvet Cabaret Show
ATTACH;FMTTYPE=image/jpeg:https://ladyvelvetcabaret.com.au/wp-content/uploads/2019/05/LVC-Blast-Off-Burlesque-Instagram-SQUARE.jpg
END:VEVENT
END:VCALENDAR