BEGIN:VCALENDAR
VERSION:2.0
PRODID:-//Lady Velvet Cabaret - ECPv6.0.9//NONSGML v1.0//EN
CALSCALE:GREGORIAN
METHOD:PUBLISH
X-WR-CALNAME:Lady Velvet Cabaret
X-ORIGINAL-URL:https://ladyvelvetcabaret.com.au
X-WR-CALDESC:Events for Lady Velvet Cabaret
REFRESH-INTERVAL;VALUE=DURATION:PT1H
X-Robots-Tag:noindex
X-PUBLISHED-TTL:PT1H
BEGIN:VTIMEZONE
TZID:Australia/Perth
BEGIN:STANDARD
TZOFFSETFROM:+0800
TZOFFSETTO:+0800
TZNAME:AWST
DTSTART:20190101T000000
END:STANDARD
END:VTIMEZONE
BEGIN:VEVENT
DTSTART;VALUE=DATE:20190725
DTEND;VALUE=DATE:20190726
DTSTAMP:20260421T220610
CREATED:20190712T030628Z
LAST-MODIFIED:20190712T035109Z
UID:6546-1564012800-1564099199@ladyvelvetcabaret.com.au
SUMMARY:Sugar du Joure judges Pop Princess at Connections
DESCRIPTION:Sugar judges the amazing talent at Pop Princess\, at Connections Nightclub.
URL:https://ladyvelvetcabaret.com.au/event/sugar-du-joure-judges-pop-princess-at-connections/
LOCATION:Connections Nightclub
CATEGORIES:LVC Performer at Event
ATTACH;FMTTYPE=image/jpeg:https://ladyvelvetcabaret.com.au/wp-content/uploads/2019/07/pop.jpg
END:VEVENT
END:VCALENDAR