BEGIN:VCALENDAR
VERSION:2.0
PRODID:-//Lady Velvet Cabaret - ECPv6.0.9//NONSGML v1.0//EN
CALSCALE:GREGORIAN
METHOD:PUBLISH
X-ORIGINAL-URL:https://ladyvelvetcabaret.com.au
X-WR-CALDESC:Events for Lady Velvet Cabaret
REFRESH-INTERVAL;VALUE=DURATION:PT1H
X-Robots-Tag:noindex
X-PUBLISHED-TTL:PT1H
BEGIN:VTIMEZONE
TZID:Australia/Perth
BEGIN:STANDARD
TZOFFSETFROM:+0800
TZOFFSETTO:+0800
TZNAME:AWST
DTSTART:20190101T000000
END:STANDARD
END:VTIMEZONE
BEGIN:VEVENT
DTSTART;VALUE=DATE:20190726
DTEND;VALUE=DATE:20190727
DTSTAMP:20260421T220657
CREATED:20190712T025241Z
LAST-MODIFIED:20190712T034943Z
UID:6541-1564099200-1564185599@ladyvelvetcabaret.com.au
SUMMARY:Wild Kat judges Miss Nude WA finals\, 2019
DESCRIPTION:Wild Kat judges the finals of Miss Nude WA
URL:https://ladyvelvetcabaret.com.au/event/wild-kat-judges-miss-nude-wa-finals-2019/
LOCATION:TBC
CATEGORIES:LVC Performer at Event
ATTACH;FMTTYPE=image/jpeg:https://ladyvelvetcabaret.com.au/wp-content/uploads/2019/07/65757525_2553331001368047_4957141383484801024_n.jpg
END:VEVENT
END:VCALENDAR