BEGIN:VCALENDAR
VERSION:2.0
PRODID:-//Lady Velvet Cabaret - ECPv6.0.9//NONSGML v1.0//EN
CALSCALE:GREGORIAN
METHOD:PUBLISH
X-ORIGINAL-URL:https://ladyvelvetcabaret.com.au
X-WR-CALDESC:Events for Lady Velvet Cabaret
REFRESH-INTERVAL;VALUE=DURATION:PT1H
X-Robots-Tag:noindex
X-PUBLISHED-TTL:PT1H
BEGIN:VTIMEZONE
TZID:Australia/Perth
BEGIN:STANDARD
TZOFFSETFROM:+0800
TZOFFSETTO:+0800
TZNAME:AWST
DTSTART:20190101T000000
END:STANDARD
END:VTIMEZONE
BEGIN:VEVENT
DTSTART;VALUE=DATE:20190802
DTEND;VALUE=DATE:20190803
DTSTAMP:20260421T203005
CREATED:20190620T032638Z
LAST-MODIFIED:20190620T032638Z
UID:6440-1564704000-1564790399@ladyvelvetcabaret.com.au
SUMMARY:Sugar headlines Vanguard Burlesque in Brisbane QLD
DESCRIPTION:Sugar jets off to Brisbane to perform for Vanguard Burlesque\, headlining with a star-studded cast!
URL:https://ladyvelvetcabaret.com.au/event/sugar-headlines-vanguard-burlesque-in-brisbane-qld/
LOCATION:The Wickham
CATEGORIES:LVC Performer at Event
ATTACH;FMTTYPE=image/jpeg:https://ladyvelvetcabaret.com.au/wp-content/uploads/2019/06/Vanguard.jpg
END:VEVENT
END:VCALENDAR