BEGIN:VCALENDAR
VERSION:2.0
PRODID:-//Lady Velvet Cabaret - ECPv6.0.9//NONSGML v1.0//EN
CALSCALE:GREGORIAN
METHOD:PUBLISH
X-WR-CALNAME:Lady Velvet Cabaret
X-ORIGINAL-URL:https://ladyvelvetcabaret.com.au
X-WR-CALDESC:Events for Lady Velvet Cabaret
REFRESH-INTERVAL;VALUE=DURATION:PT1H
X-Robots-Tag:noindex
X-PUBLISHED-TTL:PT1H
BEGIN:VTIMEZONE
TZID:Australia/Perth
BEGIN:STANDARD
TZOFFSETFROM:+0800
TZOFFSETTO:+0800
TZNAME:AWST
DTSTART:20190101T000000
END:STANDARD
END:VTIMEZONE
BEGIN:VEVENT
DTSTART;VALUE=DATE:20190803
DTEND;VALUE=DATE:20190804
DTSTAMP:20260421T202904
CREATED:20190712T044922Z
LAST-MODIFIED:20190712T045926Z
UID:6592-1564790400-1564876799@ladyvelvetcabaret.com.au
SUMMARY:Sugar du Joure teaches guest workshops at Bombshell Academy\, QLD
DESCRIPTION:Sugar shares her vast Burlesque expertise with students at Bombshell Academy of burlesque in Brisbane!
URL:https://ladyvelvetcabaret.com.au/event/sugar-du-joure-teaches-guest-workshops-at-bombshell-academy-qld/
LOCATION:Bombshell Academy of Burlesque
CATEGORIES:LVC Performer at Event
ATTACH;FMTTYPE=image/jpeg:https://ladyvelvetcabaret.com.au/wp-content/uploads/2019/07/sugar-du-joure-teaches-guest-workshops-at-bombshell-academy-qld.jpg
END:VEVENT
BEGIN:VEVENT
DTSTART;TZID=Australia/Perth:20190803T190000
DTEND;TZID=Australia/Perth:20190803T210000
DTSTAMP:20260421T202904
CREATED:20190712T031959Z
LAST-MODIFIED:20190712T035212Z
UID:6568-1564858800-1564866000@ladyvelvetcabaret.com.au
SUMMARY:Wild Kat performs at "Thrones" Game of Thrones-inspired Dinner Theatre
DESCRIPTION:Wild Kat bellydances at the “Thrones” Game of Thrones-inspired Dinner Theatre event!
URL:https://ladyvelvetcabaret.com.au/event/wild-kat-performs-at-thrones-game-of-thrones-inspired-dinner-theatre/
LOCATION:Rigby’s Bar
CATEGORIES:LVC Performer at Event
ATTACH;FMTTYPE=image/jpeg:https://ladyvelvetcabaret.com.au/wp-content/uploads/2019/07/Kat.jpg
END:VEVENT
END:VCALENDAR