BEGIN:VCALENDAR
VERSION:2.0
PRODID:-//Lady Velvet Cabaret - ECPv6.0.9//NONSGML v1.0//EN
CALSCALE:GREGORIAN
METHOD:PUBLISH
X-ORIGINAL-URL:https://ladyvelvetcabaret.com.au
X-WR-CALDESC:Events for Lady Velvet Cabaret
REFRESH-INTERVAL;VALUE=DURATION:PT1H
X-Robots-Tag:noindex
X-PUBLISHED-TTL:PT1H
BEGIN:VTIMEZONE
TZID:Australia/Perth
BEGIN:STANDARD
TZOFFSETFROM:+0800
TZOFFSETTO:+0800
TZNAME:AWST
DTSTART:20190101T000000
END:STANDARD
END:VTIMEZONE
BEGIN:VEVENT
DTSTART;TZID=Australia/Perth:20190810T190000
DTEND;TZID=Australia/Perth:20190810T210000
DTSTAMP:20260421T203004
CREATED:20190712T032427Z
LAST-MODIFIED:20190712T035256Z
UID:6578-1565463600-1565470800@ladyvelvetcabaret.com.au
SUMMARY:Wild Kat performs at "Thrones" Game of Thrones-inspired Dinner Theatre
DESCRIPTION:Wild Kat bellydances at the “Thrones” Game of Thrones-inspired Dinner Theatre event!
URL:https://ladyvelvetcabaret.com.au/event/wild-kat-performs-at-thrones-game-of-thrones-inspired-dinner-theatre-3/
LOCATION:Rigby’s Bar
CATEGORIES:LVC Performer at Event
ATTACH;FMTTYPE=image/jpeg:https://ladyvelvetcabaret.com.au/wp-content/uploads/2019/07/Kat.jpg
END:VEVENT
END:VCALENDAR