BEGIN:VCALENDAR
VERSION:2.0
PRODID:-//Lady Velvet Cabaret - ECPv6.0.9//NONSGML v1.0//EN
CALSCALE:GREGORIAN
METHOD:PUBLISH
X-WR-CALNAME:Lady Velvet Cabaret
X-ORIGINAL-URL:https://ladyvelvetcabaret.com.au
X-WR-CALDESC:Events for Lady Velvet Cabaret
REFRESH-INTERVAL;VALUE=DURATION:PT1H
X-Robots-Tag:noindex
X-PUBLISHED-TTL:PT1H
BEGIN:VTIMEZONE
TZID:Australia/Perth
BEGIN:STANDARD
TZOFFSETFROM:+0800
TZOFFSETTO:+0800
TZNAME:AWST
DTSTART:20190101T000000
END:STANDARD
END:VTIMEZONE
BEGIN:VEVENT
DTSTART;TZID=Australia/Perth:20190908T130000
DTEND;TZID=Australia/Perth:20190908T160000
DTSTAMP:20260421T190201
CREATED:20190808T030038Z
LAST-MODIFIED:20190808T052910Z
UID:6756-1567947600-1567958400@ladyvelvetcabaret.com.au
SUMMARY:Enter the Boudoir - On Location Pinup Workshop with Sugar du Joure and Claire Alexander Photography
DESCRIPTION:Enter the Boudoir with Sugar du Joure and Claire Alexander photography! Join us for a special on-location shoot at Chris Huzzard Studios\, Perth.
URL:https://ladyvelvetcabaret.com.au/event/enter-the-boudoir-on-location-pinup-workshop-with-sugar-du-joure-and-claire-alexander-photography/
LOCATION:Chris Huzzard Studios\, Perth
CATEGORIES:Class or Workshop
ATTACH;FMTTYPE=image/jpeg:https://ladyvelvetcabaret.com.au/wp-content/uploads/2019/08/LVC-Enter-the-Buodoir-Instagram-SQUARE-2.jpg
END:VEVENT
END:VCALENDAR