BEGIN:VCALENDAR
VERSION:2.0
PRODID:-//Lady Velvet Cabaret - ECPv6.0.9//NONSGML v1.0//EN
CALSCALE:GREGORIAN
METHOD:PUBLISH
X-ORIGINAL-URL:https://ladyvelvetcabaret.com.au
X-WR-CALDESC:Events for Lady Velvet Cabaret
REFRESH-INTERVAL;VALUE=DURATION:PT1H
X-Robots-Tag:noindex
X-PUBLISHED-TTL:PT1H
BEGIN:VTIMEZONE
TZID:Australia/Perth
BEGIN:STANDARD
TZOFFSETFROM:+0800
TZOFFSETTO:+0800
TZNAME:AWST
DTSTART:20190101T000000
END:STANDARD
END:VTIMEZONE
BEGIN:VEVENT
DTSTART;TZID=Australia/Perth:20191013T180000
DTEND;TZID=Australia/Perth:20191013T213000
DTSTAMP:20260421T173232
CREATED:20190812T081721Z
LAST-MODIFIED:20190812T081721Z
UID:6790-1570989600-1571002200@ladyvelvetcabaret.com.au
SUMMARY:The Honeypot - Burlesque Graduation Showcase
DESCRIPTION:LVC artists\, graduates and special guests come together for a sticky-sweet evening of entertainment at North Perth’s Rosemount Hotel.
URL:https://ladyvelvetcabaret.com.au/event/the-honeypot-burlesque-graduation-showcase/
LOCATION:The Rosemount Hotel
CATEGORIES:Lady Velvet Cabaret Show
ATTACH;FMTTYPE=image/jpeg:https://ladyvelvetcabaret.com.au/wp-content/uploads/2019/08/LVC-The-Honeypot-Instagram-SQUARE-1.jpg
END:VEVENT
END:VCALENDAR