BEGIN:VCALENDAR
VERSION:2.0
PRODID:-//Lady Velvet Cabaret - ECPv6.0.9//NONSGML v1.0//EN
CALSCALE:GREGORIAN
METHOD:PUBLISH
X-ORIGINAL-URL:https://ladyvelvetcabaret.com.au
X-WR-CALDESC:Events for Lady Velvet Cabaret
REFRESH-INTERVAL;VALUE=DURATION:PT1H
X-Robots-Tag:noindex
X-PUBLISHED-TTL:PT1H
BEGIN:VTIMEZONE
TZID:Australia/Perth
BEGIN:STANDARD
TZOFFSETFROM:+0800
TZOFFSETTO:+0800
TZNAME:AWST
DTSTART:20190101T000000
END:STANDARD
END:VTIMEZONE
BEGIN:VEVENT
DTSTART;TZID=Australia/Perth:20191025T190000
DTEND;TZID=Australia/Perth:20191025T190000
DTSTAMP:20260421T173226
CREATED:20190905T053835Z
LAST-MODIFIED:20190905T054019Z
UID:6906-1572030000-1572030000@ladyvelvetcabaret.com.au
SUMMARY:LVC Students at the Perth International Burlesque Festival!
DESCRIPTION:Our Cabaret/Modern Burlesque Level 2 students perform at the opening of the Perth International Burlesque Festival! Come and celebrate Perth burlesque as well as national and international artists joining us for this prestigious event.
URL:https://ladyvelvetcabaret.com.au/event/lvc-students-at-the-perth-international-burlesque-festival-2-2/
CATEGORIES:LVC Performer at Event
ATTACH;FMTTYPE=image/png:https://ladyvelvetcabaret.com.au/wp-content/uploads/2019/09/LVC-Logo-with-10-yrs.png
END:VEVENT
BEGIN:VEVENT
DTSTART;TZID=Australia/Perth:20191025T193000
DTEND;TZID=Australia/Perth:20191025T220000
DTSTAMP:20260421T173226
CREATED:20190628T022255Z
LAST-MODIFIED:20190628T022255Z
UID:6469-1572031800-1572040800@ladyvelvetcabaret.com.au
SUMMARY:THE TEASE FACTORY
DESCRIPTION:Perth International Burlesque Festival 2019 Opening Night!
URL:https://ladyvelvetcabaret.com.au/event/the-tease-factory/
LOCATION:The Court Hotel. 50 Beaufort St\, Perth WA 6000\, Australia
CATEGORIES:LVC Performer at Event
ATTACH;FMTTYPE=image/jpeg:https://ladyvelvetcabaret.com.au/wp-content/uploads/2019/06/Malaika-Moon.jpg
END:VEVENT
BEGIN:VEVENT
DTSTART;TZID=Australia/Perth:20191025T200000
DTEND;TZID=Australia/Perth:20191025T223000
DTSTAMP:20260421T173226
CREATED:20190712T031734Z
LAST-MODIFIED:20190712T035133Z
UID:6564-1572033600-1572042600@ladyvelvetcabaret.com.au
SUMMARY:Sugar du Joure performs at the opening night of Perth International Burlesque Festival
DESCRIPTION:Sugar is a featured performer at the opening night celebrations of the Perth International Burlesque Festival 2019!
URL:https://ladyvelvetcabaret.com.au/event/sugar-du-joure-performs-at-the-opening-night-of-perth-international-burlesque-festival/
LOCATION:The Court Hotel
CATEGORIES:LVC Performer at Event
ATTACH;FMTTYPE=image/jpeg:https://ladyvelvetcabaret.com.au/wp-content/uploads/2019/07/sugar2.jpg
END:VEVENT
END:VCALENDAR