BEGIN:VCALENDAR
VERSION:2.0
PRODID:-//Lady Velvet Cabaret - ECPv6.0.9//NONSGML v1.0//EN
CALSCALE:GREGORIAN
METHOD:PUBLISH
X-ORIGINAL-URL:https://ladyvelvetcabaret.com.au
X-WR-CALDESC:Events for Lady Velvet Cabaret
REFRESH-INTERVAL;VALUE=DURATION:PT1H
X-Robots-Tag:noindex
X-PUBLISHED-TTL:PT1H
BEGIN:VTIMEZONE
TZID:Australia/Perth
BEGIN:STANDARD
TZOFFSETFROM:+0800
TZOFFSETTO:+0800
TZNAME:AWST
DTSTART:20200101T000000
END:STANDARD
END:VTIMEZONE
BEGIN:VEVENT
DTSTART;TZID=Australia/Perth:20200324T201500
DTEND;TZID=Australia/Perth:20200324T211500
DTSTAMP:20260421T165225
CREATED:20200212T021652Z
LAST-MODIFIED:20200212T021652Z
UID:8057-1585080900-1585084500@ladyvelvetcabaret.com.au
SUMMARY:THIS IS NEO BURLESQUE Six Week Course with Sugar du Joure
DESCRIPTION:Discover a whole new world of fierceness\, self-love\, and empowerment with Sugar du Joure. Divas of all backgrounds and levels will find something to delight and tantalise in our brand new Burlesque Series course. Stripped-back\, sensual and contemporary\, discover a style of neo-burlesque that will leave you feeling feminine and powerful!\nPlaces are strictly limited and tuition fees are due a week prior to the commencement of the course in order to secure your place. $150 covers your six weeks of tuition plus your participation in a real cabaret graduation show (May 10) with Lady Velvet Cabaret.
URL:https://ladyvelvetcabaret.com.au/event/this-is-neo-burlesque-six-week-course-with-sugar-du-joure/
LOCATION:Lady Velvet Cabaret
CATEGORIES:Class or Workshop
ATTACH;FMTTYPE=image/jpeg:https://ladyvelvetcabaret.com.au/wp-content/uploads/2020/02/LVC-This-is-NEO-Instagram-SQUARE.jpg
END:VEVENT
END:VCALENDAR