BEGIN:VCALENDAR
VERSION:2.0
PRODID:-//Lady Velvet Cabaret - ECPv6.0.9//NONSGML v1.0//EN
CALSCALE:GREGORIAN
METHOD:PUBLISH
X-WR-CALNAME:Lady Velvet Cabaret
X-ORIGINAL-URL:https://ladyvelvetcabaret.com.au
X-WR-CALDESC:Events for Lady Velvet Cabaret
REFRESH-INTERVAL;VALUE=DURATION:PT1H
X-Robots-Tag:noindex
X-PUBLISHED-TTL:PT1H
BEGIN:VTIMEZONE
TZID:Australia/Perth
BEGIN:STANDARD
TZOFFSETFROM:+0800
TZOFFSETTO:+0800
TZNAME:AWST
DTSTART:20200101T000000
END:STANDARD
END:VTIMEZONE
BEGIN:VEVENT
DTSTART;TZID=Australia/Perth:20200726T180000
DTEND;TZID=Australia/Perth:20200726T210000
DTSTAMP:20260421T220609
CREATED:20200701T061327Z
LAST-MODIFIED:20200701T061327Z
UID:9107-1595786400-1595797200@ladyvelvetcabaret.com.au
SUMMARY:Good Showgirls Go to Heaven - Rosemount Hotel
DESCRIPTION:July sees Lady Velvet Cabaret return to the stage to show just how GOOD we’ve all been over the past term!\nFeaturing an angelic cast of award-winning performers from Lady Velvet Cabaret troupe\, plus graduating students from the LVC academy\, artists range from beginner students to national titleholders to international showgirls in this heavenly showcase!
URL:https://ladyvelvetcabaret.com.au/event/good-showgirls-go-to-heaven-rosemount-hotel/
LOCATION:The Rosemount Hotel
CATEGORIES:Lady Velvet Cabaret Show
ATTACH;FMTTYPE=image/jpeg:https://ladyvelvetcabaret.com.au/wp-content/uploads/2020/07/Good-Showgirls-Go-To-Heaven-Instagram-SQUARE.jpg
END:VEVENT
END:VCALENDAR