BEGIN:VCALENDAR
VERSION:2.0
PRODID:-//Lady Velvet Cabaret - ECPv6.0.9//NONSGML v1.0//EN
CALSCALE:GREGORIAN
METHOD:PUBLISH
X-WR-CALNAME:Lady Velvet Cabaret
X-ORIGINAL-URL:https://ladyvelvetcabaret.com.au
X-WR-CALDESC:Events for Lady Velvet Cabaret
REFRESH-INTERVAL;VALUE=DURATION:PT1H
X-Robots-Tag:noindex
X-PUBLISHED-TTL:PT1H
BEGIN:VTIMEZONE
TZID:Australia/Perth
BEGIN:STANDARD
TZOFFSETFROM:+0800
TZOFFSETTO:+0800
TZNAME:AWST
DTSTART:20200101T000000
END:STANDARD
END:VTIMEZONE
BEGIN:VEVENT
DTSTART;TZID=Australia/Perth:20201011T190000
DTEND;TZID=Australia/Perth:20201011T214500
DTSTAMP:20260422T023507
CREATED:20200910T053007Z
LAST-MODIFIED:20200910T053007Z
UID:9720-1602442800-1602452700@ladyvelvetcabaret.com.au
SUMMARY:Goodness Me... It's LVC!
DESCRIPTION:Join the cast of LVC along with students and special guests at our final Graduation Showcase at the Rosemount Hotel for 2020
URL:https://ladyvelvetcabaret.com.au/event/goodness-me-its-lvc/
LOCATION:The Rosemount Hotel
CATEGORIES:Lady Velvet Cabaret Show
ATTACH;FMTTYPE=image/jpeg:https://ladyvelvetcabaret.com.au/wp-content/uploads/2020/09/LVC-Goodness-Me-Instagram-SQUARE.jpg
END:VEVENT
END:VCALENDAR