BEGIN:VCALENDAR
VERSION:2.0
PRODID:-//Lady Velvet Cabaret - ECPv6.0.9//NONSGML v1.0//EN
CALSCALE:GREGORIAN
METHOD:PUBLISH
X-WR-CALNAME:Lady Velvet Cabaret
X-ORIGINAL-URL:https://ladyvelvetcabaret.com.au
X-WR-CALDESC:Events for Lady Velvet Cabaret
REFRESH-INTERVAL;VALUE=DURATION:PT1H
X-Robots-Tag:noindex
X-PUBLISHED-TTL:PT1H
BEGIN:VTIMEZONE
TZID:Australia/Perth
BEGIN:STANDARD
TZOFFSETFROM:+0800
TZOFFSETTO:+0800
TZNAME:AWST
DTSTART:20200101T000000
END:STANDARD
END:VTIMEZONE
BEGIN:VEVENT
DTSTART;VALUE=DATE:20201015
DTEND;VALUE=DATE:20201016
DTSTAMP:20260422T023506
CREATED:20201022T082418Z
LAST-MODIFIED:20201022T082418Z
UID:9977-1602720000-1602806399@ladyvelvetcabaret.com.au
SUMMARY:Lotta L'Amour performs in Cabaret de Paris at Crown Perth
DESCRIPTION:Lotta takes to the stage to bring a touch of Paris to Perth!
URL:https://ladyvelvetcabaret.com.au/event/lotta-lamour-performs-in-cabaret-de-paris-at-crown-perth/
LOCATION:Crown Perth
CATEGORIES:LVC Performer at Event
ATTACH;FMTTYPE=image/jpeg:https://ladyvelvetcabaret.com.au/wp-content/uploads/2020/10/maxresdefault.jpg
END:VEVENT
END:VCALENDAR