BEGIN:VCALENDAR
VERSION:2.0
PRODID:-//Lady Velvet Cabaret - ECPv6.0.9//NONSGML v1.0//EN
CALSCALE:GREGORIAN
METHOD:PUBLISH
X-WR-CALNAME:Lady Velvet Cabaret
X-ORIGINAL-URL:https://ladyvelvetcabaret.com.au
X-WR-CALDESC:Events for Lady Velvet Cabaret
REFRESH-INTERVAL;VALUE=DURATION:PT1H
X-Robots-Tag:noindex
X-PUBLISHED-TTL:PT1H
BEGIN:VTIMEZONE
TZID:Australia/Perth
BEGIN:STANDARD
TZOFFSETFROM:+0800
TZOFFSETTO:+0800
TZNAME:AWST
DTSTART:20200101T000000
END:STANDARD
END:VTIMEZONE
BEGIN:VEVENT
DTSTART;TZID=Australia/Perth:20201031T160000
DTEND;TZID=Australia/Perth:20201031T190000
DTSTAMP:20260422T023507
CREATED:20201022T070018Z
LAST-MODIFIED:20201022T070018Z
UID:9960-1604160000-1604170800@ladyvelvetcabaret.com.au
SUMMARY:Malaika Moon performs in The Big Tease Gala
DESCRIPTION:From the Facebook event – Streamed Live is a night of glamorous classic tease and modern neo-burlesque that will dazzle\, delight and stimulate the senses! The online show will consist of some of the best and most entertaining international and local burlesque performers. \nJoin us in celebrating traditional Bump n’ Grind\, vintage-flavoured tease\, sizzling cabaret and variety entertainment! \nBe delighted\, tantalised and pleasantly entertained as you experience jaw-dropping glamour and high quality shows from leading stars of the stage.
URL:https://ladyvelvetcabaret.com.au/event/malaika-moon-performs-in-the-big-tease-gala/
LOCATION:Streamed Live on Zoom
CATEGORIES:LVC Performer at Event
ATTACH;FMTTYPE=image/jpeg:https://ladyvelvetcabaret.com.au/wp-content/uploads/2020/10/122156327_1903509719788904_8795970796360211711_n.jpg
END:VEVENT
BEGIN:VEVENT
DTSTART;TZID=Australia/Perth:20201031T190000
DTEND;TZID=Australia/Perth:20201031T210000
DTSTAMP:20260422T023507
CREATED:20201110T063233Z
LAST-MODIFIED:20201110T063233Z
UID:10150-1604170800-1604178000@ladyvelvetcabaret.com.au
SUMMARY:LVC Showgirls roving at private event
DESCRIPTION:Two LVC Showgirls will add some sparkle to a special birthday at the Crystal Villas at Crown Towers\, Perth
URL:https://ladyvelvetcabaret.com.au/event/lvc-showgirls-roving-at-private-event-2/
LOCATION:Crown Towers
CATEGORIES:LVC Performer at Event
ATTACH;FMTTYPE=image/jpeg:https://ladyvelvetcabaret.com.au/wp-content/uploads/2020/11/Showgirl-Fan.jpg
END:VEVENT
END:VCALENDAR