BEGIN:VCALENDAR
VERSION:2.0
PRODID:-//Lady Velvet Cabaret - ECPv6.0.9//NONSGML v1.0//EN
CALSCALE:GREGORIAN
METHOD:PUBLISH
X-ORIGINAL-URL:https://ladyvelvetcabaret.com.au
X-WR-CALDESC:Events for Lady Velvet Cabaret
REFRESH-INTERVAL;VALUE=DURATION:PT1H
X-Robots-Tag:noindex
X-PUBLISHED-TTL:PT1H
BEGIN:VTIMEZONE
TZID:Australia/Perth
BEGIN:STANDARD
TZOFFSETFROM:+0800
TZOFFSETTO:+0800
TZNAME:AWST
DTSTART:20200101T000000
END:STANDARD
END:VTIMEZONE
BEGIN:VEVENT
DTSTART;TZID=Australia/Perth:20201218T090000
DTEND;TZID=Australia/Perth:20201218T163000
DTSTAMP:20260422T054351
CREATED:20200819T143023Z
LAST-MODIFIED:20200819T143238Z
UID:9567-1608282000-1608309000@ladyvelvetcabaret.com.au
SUMMARY:Technical Rehearsal for End of Year Concert
DESCRIPTION:The technical rehearsal for the 2020 End of Year Concert
URL:https://ladyvelvetcabaret.com.au/event/technical-rehearsal-for-end-of-year-concert/
LOCATION:The Regal Theatre\, 474 Hay Street Subiaco WA 6008
CATEGORIES:Class or Workshop
END:VEVENT
END:VCALENDAR