BEGIN:VCALENDAR
VERSION:2.0
PRODID:-//Lady Velvet Cabaret - ECPv6.0.9//NONSGML v1.0//EN
CALSCALE:GREGORIAN
METHOD:PUBLISH
X-ORIGINAL-URL:https://ladyvelvetcabaret.com.au
X-WR-CALDESC:Events for Lady Velvet Cabaret
REFRESH-INTERVAL;VALUE=DURATION:PT1H
X-Robots-Tag:noindex
X-PUBLISHED-TTL:PT1H
BEGIN:VTIMEZONE
TZID:Australia/Perth
BEGIN:STANDARD
TZOFFSETFROM:+0800
TZOFFSETTO:+0800
TZNAME:AWST
DTSTART:20210101T000000
END:STANDARD
END:VTIMEZONE
BEGIN:VEVENT
DTSTART;TZID=Australia/Perth:20210127T190000
DTEND;TZID=Australia/Perth:20210127T190000
DTSTAMP:20260422T072251
CREATED:20210127T060220Z
LAST-MODIFIED:20210128T013849Z
UID:10722-1611774000-1611774000@ladyvelvetcabaret.com.au
SUMMARY:Malaika Moon performs at Sonder
DESCRIPTION:Sonder n. “the realisation that each random passer-by is living a life as vivid and complex as your own.” Welcome to Sonder\, an immersive life drawing experience\, designed for the curious. Rove through the winding spaces and discover five vignettes\, glimpses into the private lives of strangers\, unknowingly waiting for you to capture them in time. We invite you to satiate your curiosity; to meet a stranger’s gaze; indulge in the luxury of art and observe the sensuality of the human body; to leave your own world and be suspended in another’s. We invite you to Sonder. Featuring live music. Enjoy a complimentary drink with ticket purchase. All art materials supplied.
URL:https://ladyvelvetcabaret.com.au/event/malaikamoonsonder/
LOCATION:Henry on Eighth
CATEGORIES:LVC Performer at Event
ATTACH;FMTTYPE=image/jpeg:https://ladyvelvetcabaret.com.au/wp-content/uploads/2021/01/143489782_4012451698765573_4049966015876455116_n.jpg
END:VEVENT
END:VCALENDAR