BEGIN:VCALENDAR
VERSION:2.0
PRODID:-//Lady Velvet Cabaret - ECPv6.0.9//NONSGML v1.0//EN
CALSCALE:GREGORIAN
METHOD:PUBLISH
X-ORIGINAL-URL:https://ladyvelvetcabaret.com.au
X-WR-CALDESC:Events for Lady Velvet Cabaret
REFRESH-INTERVAL;VALUE=DURATION:PT1H
X-Robots-Tag:noindex
X-PUBLISHED-TTL:PT1H
BEGIN:VTIMEZONE
TZID:Australia/Perth
BEGIN:STANDARD
TZOFFSETFROM:+0800
TZOFFSETTO:+0800
TZNAME:AWST
DTSTART:20210101T000000
END:STANDARD
END:VTIMEZONE
BEGIN:VEVENT
DTSTART;TZID=Australia/Perth:20210319T180000
DTEND;TZID=Australia/Perth:20210319T213000
DTSTAMP:20260422T102339
CREATED:20210317T094728Z
LAST-MODIFIED:20210317T094728Z
UID:11133-1616176800-1616189400@ladyvelvetcabaret.com.au
SUMMARY:Cece Desist performs at Casino Royale: Immersive Movie Experience
DESCRIPTION:Iconic Bond-girl glamour is brought to life by Perth’s best Burlesque entertainers this summer in the live immersive screening of Casino Royale\, presented by Rooftop Movies and Tease Industries.\nSuit up! Beautiful Bond girls (& boys!) await\, as the thrilling and tantalizing world of James Bond is brought to life atop the Perth city skyline. Cast your bets and keep your poker face steady\, these Bond girls would melt even Daniel Craig’s cold heart!\nBurlesque Cinema is an immersive cinema event that includes live burlesque performances from Perth’s best\, both before and during the film\, bringing iconic movie moments to life before your eyes.
URL:https://ladyvelvetcabaret.com.au/event/cece-desist-performs-at-casino-royale-immersive-movie-experience-2/
LOCATION:Rooftop Cinemas
CATEGORIES:LVC Performer at Event
ATTACH;FMTTYPE=image/png:https://ladyvelvetcabaret.com.au/wp-content/uploads/2021/03/Screen-Shot-2021-03-17-at-5.04.54-pm.png
END:VEVENT
END:VCALENDAR