BEGIN:VCALENDAR
VERSION:2.0
PRODID:-//Lady Velvet Cabaret - ECPv6.0.9//NONSGML v1.0//EN
CALSCALE:GREGORIAN
METHOD:PUBLISH
X-ORIGINAL-URL:https://ladyvelvetcabaret.com.au
X-WR-CALDESC:Events for Lady Velvet Cabaret
REFRESH-INTERVAL;VALUE=DURATION:PT1H
X-Robots-Tag:noindex
X-PUBLISHED-TTL:PT1H
BEGIN:VTIMEZONE
TZID:Australia/Perth
BEGIN:STANDARD
TZOFFSETFROM:+0800
TZOFFSETTO:+0800
TZNAME:AWST
DTSTART:20210101T000000
END:STANDARD
END:VTIMEZONE
BEGIN:VEVENT
DTSTART;TZID=Australia/Perth:20210321T123000
DTEND;TZID=Australia/Perth:20210321T235900
DTSTAMP:20260422T102339
CREATED:20210317T090805Z
LAST-MODIFIED:20210322T010350Z
UID:11121-1616329800-1616371140@ladyvelvetcabaret.com.au
SUMMARY:Malaika Moon performs at Snatch Street Party - Sunday Sesh
DESCRIPTION:Snatch is opening up the Street of Fremantle’s Paddy Troy Mall and turning it into one big dance floor and drinking space. 2021 is the year of firsts for us: first Sunday session + first street party + first foray into Fremantle + first team up with WAM and Newport + first time street drinking has ever been legal in Perth.
URL:https://ladyvelvetcabaret.com.au/event/malaika-moon-performs-at-snatch-street-party-sunday-sesh/
LOCATION:The Newport Hotel\, Fremantle
CATEGORIES:LVC Performer at Event
ATTACH;FMTTYPE=image/jpeg:https://ladyvelvetcabaret.com.au/wp-content/uploads/2021/03/snatch.jpeg
END:VEVENT
END:VCALENDAR