BEGIN:VCALENDAR
VERSION:2.0
PRODID:-//Lady Velvet Cabaret - ECPv6.0.9//NONSGML v1.0//EN
CALSCALE:GREGORIAN
METHOD:PUBLISH
X-ORIGINAL-URL:https://ladyvelvetcabaret.com.au
X-WR-CALDESC:Events for Lady Velvet Cabaret
REFRESH-INTERVAL;VALUE=DURATION:PT1H
X-Robots-Tag:noindex
X-PUBLISHED-TTL:PT1H
BEGIN:VTIMEZONE
TZID:Australia/Perth
BEGIN:STANDARD
TZOFFSETFROM:+0800
TZOFFSETTO:+0800
TZNAME:AWST
DTSTART:20200101T000000
END:STANDARD
END:VTIMEZONE
BEGIN:VEVENT
DTSTART;TZID=Australia/Perth:20201012T000000
DTEND;TZID=Australia/Perth:20201012T000000
DTSTAMP:20260421T174759
CREATED:20191223T072113Z
LAST-MODIFIED:20191223T072113Z
UID:7520-1602460800-1602460800@ladyvelvetcabaret.com.au
SUMMARY:Term 4 Commences
DESCRIPTION:Term 4 commences at LVC
URL:https://ladyvelvetcabaret.com.au/event/term-4-commences/
LOCATION:Lady Velvet Cabaret
CATEGORIES:Term Dates
END:VEVENT
BEGIN:VEVENT
DTSTART;TZID=Australia/Perth:20200720T000000
DTEND;TZID=Australia/Perth:20200720T000000
DTSTAMP:20260421T174759
CREATED:20191223T071920Z
LAST-MODIFIED:20191223T072201Z
UID:7518-1595203200-1595203200@ladyvelvetcabaret.com.au
SUMMARY:Term 3 Commences
DESCRIPTION:Term 3 commences at LVC
URL:https://ladyvelvetcabaret.com.au/event/term-3-commences/
LOCATION:Lady Velvet Cabaret
CATEGORIES:Term Dates
END:VEVENT
BEGIN:VEVENT
DTSTART;TZID=Australia/Perth:20200427T000000
DTEND;TZID=Australia/Perth:20200427T000000
DTSTAMP:20260421T174759
CREATED:20191223T071801Z
LAST-MODIFIED:20191223T071801Z
UID:7516-1587945600-1587945600@ladyvelvetcabaret.com.au
SUMMARY:Term 2 Commences
DESCRIPTION:Term 2 commences at LVC
URL:https://ladyvelvetcabaret.com.au/event/term-2-commences/
LOCATION:Lady Velvet Cabaret
CATEGORIES:Term Dates
END:VEVENT
BEGIN:VEVENT
DTSTART;TZID=Australia/Perth:20200203T000000
DTEND;TZID=Australia/Perth:20200203T000000
DTSTAMP:20260421T174759
CREATED:20191223T071527Z
LAST-MODIFIED:20191223T071527Z
UID:7514-1580688000-1580688000@ladyvelvetcabaret.com.au
SUMMARY:Term 1 Commences
DESCRIPTION:Term 1 commences at LVC
URL:https://ladyvelvetcabaret.com.au/event/term-1-commences/
LOCATION:Lady Velvet Cabaret
CATEGORIES:Term Dates
END:VEVENT
END:VCALENDAR