BEGIN:VCALENDAR
VERSION:2.0
PRODID:-//Lady Velvet Cabaret - ECPv6.0.9//NONSGML v1.0//EN
CALSCALE:GREGORIAN
METHOD:PUBLISH
X-WR-CALNAME:Lady Velvet Cabaret
X-ORIGINAL-URL:https://ladyvelvetcabaret.com.au
X-WR-CALDESC:Events for Lady Velvet Cabaret
REFRESH-INTERVAL;VALUE=DURATION:PT1H
X-Robots-Tag:noindex
X-PUBLISHED-TTL:PT1H
BEGIN:VTIMEZONE
TZID:Australia/Perth
BEGIN:STANDARD
TZOFFSETFROM:+0800
TZOFFSETTO:+0800
TZNAME:AWST
DTSTART:20180101T000000
END:STANDARD
TZID:UTC
BEGIN:STANDARD
TZOFFSETFROM:+0000
TZOFFSETTO:+0000
TZNAME:UTC
DTSTART:20180101T000000
END:STANDARD
END:VTIMEZONE
BEGIN:VEVENT
DTSTART;TZID=Australia/Perth:20180805T130000
DTEND;TZID=Australia/Perth:20180805T160000
DTSTAMP:20260422T115816
CREATED:20180706T041139Z
LAST-MODIFIED:20180706T041139Z
UID:4104-1533474000-1533484800@ladyvelvetcabaret.com.au
SUMMARY:Lady Velvet Cabaret presents... EASY BREEZY BEAUTIFUL PINUP GIRLS!
DESCRIPTION:Lady Velvet Cabaret’s popular Vintage Pinup Workshops are back\, and the forecast is WINDY!  Our fun and fabulous pinup workshops are a great way to meet like-minded pinup enthusiasts\, take beautiful and affordable headshots\, and work with award-winning local artists Sugar Du Joure and Wild Kat Photography to capture your best side and build your pinup portfolio. Each theme encourages creativity and fun\, and this month we are playing with wind! Try something new\, whether it’s long flowing hair\, light fabrics\, veil fans\, or other props – the choice is yours. \nAs per all our workshops\, the theme is optional\, so if you’d prefer to shoot without fans on\, you’re absolutely still welcome.
URL:https://ladyvelvetcabaret.com.au/event/lady-velvet-cabaret-presents-easy-breezy-beautiful-pinup-girls/
LOCATION:The WA Performance School\, 3 Price St Subiaco.
CATEGORIES:Class or Workshop
ATTACH;FMTTYPE=image/jpeg:https://ladyvelvetcabaret.com.au/wp-content/uploads/2018/07/easy-breezy.jpg
END:VEVENT
BEGIN:VEVENT
DTSTART;TZID=Australia/Perth:20180728T080000
DTEND;TZID=Australia/Perth:20180728T170000
DTSTAMP:20260422T115816
CREATED:20180713T024734Z
LAST-MODIFIED:20180713T024734Z
UID:4114-1532764800-1532797200@ladyvelvetcabaret.com.au
SUMMARY:Sugar judges Miss Burlesque AUSTRALIA National Finals
DESCRIPTION:img src=”https://ladyvelvetcabaret.com.au/wp-content/uploads/2018/07/FEATURED-IMAGE.jpg”> \nSugar du Joure is judging 2018’s NATIONAL FINALS of the Miss Burlesque Australia competition in Perth!
URL:https://ladyvelvetcabaret.com.au/event/sugar-judges-miss-burlesque-australia-national-finals/
LOCATION:The Astor Theatre
CATEGORIES:LVC Performer at Event
ATTACH;FMTTYPE=image/jpeg:https://ladyvelvetcabaret.com.au/wp-content/uploads/2018/07/FEATURED-IMAGE.jpg
END:VEVENT
BEGIN:VEVENT
DTSTART;TZID=Australia/Perth:20180715T180000
DTEND;TZID=Australia/Perth:20180715T213000
DTSTAMP:20260422T115816
CREATED:20180529T101016Z
LAST-MODIFIED:20180529T101022Z
UID:4076-1531677600-1531690200@ladyvelvetcabaret.com.au
SUMMARY:Strippin' in the Rain
DESCRIPTION:Strippin’ in the Rain at Rosemount Hotel 15 July
URL:https://ladyvelvetcabaret.com.au/event/strippin-in-the-rain/
LOCATION:The Rosemount Hotel
CATEGORIES:Lady Velvet Cabaret Show
ATTACH;FMTTYPE=image/jpeg:https://ladyvelvetcabaret.com.au/wp-content/uploads/2018/05/Strippin-in-the-Rain-1.jpg
END:VEVENT
BEGIN:VEVENT
DTSTART;TZID=Australia/Perth:20180711T170000
DTEND;TZID=Australia/Perth:20180711T183000
DTSTAMP:20260422T115816
CREATED:20180620T092249Z
LAST-MODIFIED:20180620T092249Z
UID:4095-1531328400-1531333800@ladyvelvetcabaret.com.au
SUMMARY:Tap Dat! Mini-Course
DESCRIPTION:Join Lady Velvet Cabaret for a tap dance mini-course with a difference! Learn unique and fierce tap dance choreography (suitable for beginner to intermediate level tap dancers)\, plus you’ll get the opportunity to perform at a real burlesque show\, Lady Velvet Cabaret presents Strippin’ in the Rain!
URL:https://ladyvelvetcabaret.com.au/event/tap-dat-mini-course-2/
LOCATION:Lady Velvet Cabaret
CATEGORIES:Class or Workshop
ATTACH;FMTTYPE=image/jpeg:https://ladyvelvetcabaret.com.au/wp-content/uploads/2018/06/TAP-DAT-Instagram.jpg
END:VEVENT
BEGIN:VEVENT
DTSTART;TZID=Australia/Perth:20180710T080000
DTEND;TZID=Australia/Perth:20180710T170000
DTSTAMP:20260422T115816
CREATED:20180409T100721Z
LAST-MODIFIED:20180409T100721Z
UID:4007-1531209600-1531242000@ladyvelvetcabaret.com.au
SUMMARY:Tribal Fusion Bellydance 5 Week Course
DESCRIPTION:Discover the unique style of Tribal Fusion Bellydance with Lady Velvet Cabaret! The Tribal Fusion style of Bellydance is known for its pronounced isometric movements\, sensual choreography\, and darker style of music. Amp up your technique with isolation exercises\, develop more fluid movements\, and a more structured carriage of the body under the instruction of Bellydance specialist Wild Kat. Suitable for dancers of all levels\, our upcoming Five Week Course will cover technique\, skills and choreography\, with students learning a full Tribal Fusion style Bellydance routine – you can even opt to perform it onstage at a real cabaret show!\nEnrolment is just $100 for five weeks\, with no registration fees.
URL:https://ladyvelvetcabaret.com.au/event/tribal-fusion-bellydance-5-week-course-5/
LOCATION:The WA Performance School
CATEGORIES:Class or Workshop
ATTACH;FMTTYPE=image/jpeg:https://ladyvelvetcabaret.com.au/wp-content/uploads/2018/04/Tribal-Fusion-Instagram-04-05-18.jpg
END:VEVENT
BEGIN:VEVENT
DTSTART;TZID=Australia/Perth:20180708T130000
DTEND;TZID=Australia/Perth:20180708T143000
DTSTAMP:20260422T115816
CREATED:20180528T075500Z
LAST-MODIFIED:20180528T075500Z
UID:4069-1531054800-1531060200@ladyvelvetcabaret.com.au
SUMMARY:urlesque Side Story - Short Course
DESCRIPTION:Musical-inspired Three Week Course with Sugar du Joure
URL:https://ladyvelvetcabaret.com.au/event/urlesque-side-story-short-course/
LOCATION:Lady Velvet Cabaret
CATEGORIES:Class or Workshop
ATTACH;FMTTYPE=image/jpeg:https://ladyvelvetcabaret.com.au/wp-content/uploads/2018/05/BurlesqueSideStory-BlogImage.jpg
END:VEVENT
BEGIN:VEVENT
DTSTART;TZID=Australia/Perth:20180704T173000
DTEND;TZID=Australia/Perth:20180704T183000
DTSTAMP:20260422T115816
CREATED:20180620T092009Z
LAST-MODIFIED:20180620T092009Z
UID:4092-1530725400-1530729000@ladyvelvetcabaret.com.au
SUMMARY:Tap Dat! Mini-Course
DESCRIPTION:Join Lady Velvet Cabaret for a tap dance mini-course with a difference! Learn unique and fierce tap dance choreography (suitable for beginner to intermediate level tap dancers)\, plus you’ll get the opportunity to perform at a real burlesque show\, Lady Velvet Cabaret presents Strippin’ in the Rain!
URL:https://ladyvelvetcabaret.com.au/event/tap-dat-mini-course/
LOCATION:Lady Velvet Cabaret
CATEGORIES:Class or Workshop
ATTACH;FMTTYPE=image/jpeg:https://ladyvelvetcabaret.com.au/wp-content/uploads/2018/06/TAP-DAT-Instagram.jpg
END:VEVENT
BEGIN:VEVENT
DTSTART;TZID=Australia/Perth:20180703T080000
DTEND;TZID=Australia/Perth:20180703T170000
DTSTAMP:20260422T115816
CREATED:20180409T100636Z
LAST-MODIFIED:20180409T100636Z
UID:4005-1530604800-1530637200@ladyvelvetcabaret.com.au
SUMMARY:Tribal Fusion Bellydance 5 Week Course
DESCRIPTION:Discover the unique style of Tribal Fusion Bellydance with Lady Velvet Cabaret! The Tribal Fusion style of Bellydance is known for its pronounced isometric movements\, sensual choreography\, and darker style of music. Amp up your technique with isolation exercises\, develop more fluid movements\, and a more structured carriage of the body under the instruction of Bellydance specialist Wild Kat. Suitable for dancers of all levels\, our upcoming Five Week Course will cover technique\, skills and choreography\, with students learning a full Tribal Fusion style Bellydance routine – you can even opt to perform it onstage at a real cabaret show!\nEnrolment is just $100 for five weeks\, with no registration fees.
URL:https://ladyvelvetcabaret.com.au/event/tribal-fusion-bellydance-5-week-course-4/
LOCATION:The WA Performance School
CATEGORIES:Class or Workshop
ATTACH;FMTTYPE=image/jpeg:https://ladyvelvetcabaret.com.au/wp-content/uploads/2018/04/Tribal-Fusion-Instagram-04-05-18.jpg
END:VEVENT
BEGIN:VEVENT
DTSTART;TZID=Australia/Perth:20180701T130000
DTEND;TZID=Australia/Perth:20180701T143000
DTSTAMP:20260422T115816
CREATED:20180528T075306Z
LAST-MODIFIED:20180528T075306Z
UID:4067-1530450000-1530455400@ladyvelvetcabaret.com.au
SUMMARY:Burlesque Side Story - Short Course
DESCRIPTION:Musical-inspired Three Week Course with Sugar du Joure
URL:https://ladyvelvetcabaret.com.au/event/burlesque-side-story-short-course-2/
LOCATION:Lady Velvet Cabaret
CATEGORIES:Class or Workshop
ATTACH;FMTTYPE=image/jpeg:https://ladyvelvetcabaret.com.au/wp-content/uploads/2018/05/BurlesqueSideStory-BlogImage.jpg
END:VEVENT
BEGIN:VEVENT
DTSTART;TZID=Australia/Perth:20180626T080000
DTEND;TZID=Australia/Perth:20180626T170000
DTSTAMP:20260422T115816
CREATED:20180409T100601Z
LAST-MODIFIED:20180409T100601Z
UID:4003-1530000000-1530032400@ladyvelvetcabaret.com.au
SUMMARY:Tribal Fusion Bellydance 5 Week Course
DESCRIPTION:Discover the unique style of Tribal Fusion Bellydance with Lady Velvet Cabaret! The Tribal Fusion style of Bellydance is known for its pronounced isometric movements\, sensual choreography\, and darker style of music. Amp up your technique with isolation exercises\, develop more fluid movements\, and a more structured carriage of the body under the instruction of Bellydance specialist Wild Kat. Suitable for dancers of all levels\, our upcoming Five Week Course will cover technique\, skills and choreography\, with students learning a full Tribal Fusion style Bellydance routine – you can even opt to perform it onstage at a real cabaret show!\nEnrolment is just $100 for five weeks\, with no registration fees.
URL:https://ladyvelvetcabaret.com.au/event/tribal-fusion-bellydance-5-week-course-3/
LOCATION:The WA Performance School
CATEGORIES:Class or Workshop
ATTACH;FMTTYPE=image/jpeg:https://ladyvelvetcabaret.com.au/wp-content/uploads/2018/04/Tribal-Fusion-Instagram-04-05-18.jpg
END:VEVENT
BEGIN:VEVENT
DTSTART;TZID=Australia/Perth:20180624T130000
DTEND;TZID=Australia/Perth:20180624T143000
DTSTAMP:20260422T115816
CREATED:20180528T074951Z
LAST-MODIFIED:20180528T074951Z
UID:4064-1529845200-1529850600@ladyvelvetcabaret.com.au
SUMMARY:Burlesque Side Story - Short Course
DESCRIPTION:Musical-inspired Three Week Course with Sugar du Joure
URL:https://ladyvelvetcabaret.com.au/event/burlesque-side-story-short-course/
LOCATION:Lady Velvet Cabaret
CATEGORIES:Class or Workshop
ATTACH;FMTTYPE=image/jpeg:https://ladyvelvetcabaret.com.au/wp-content/uploads/2018/05/BurlesqueSideStory-BlogImage.jpg
END:VEVENT
BEGIN:VEVENT
DTSTART;TZID=Australia/Perth:20180619T201500
DTEND;TZID=Australia/Perth:20180619T211500
DTSTAMP:20260422T115816
CREATED:20180409T100414Z
LAST-MODIFIED:20180410T023513Z
UID:4001-1529439300-1529442900@ladyvelvetcabaret.com.au
SUMMARY:Tribal Fusion Bellydance 5 Week Course
DESCRIPTION:Discover the unique style of Tribal Fusion Bellydance with Lady Velvet Cabaret! The Tribal Fusion style of Bellydance is known for its pronounced isometric movements\, sensual choreography\, and darker style of music. Amp up your technique with isolation exercises\, develop more fluid movements\, and a more structured carriage of the body under the instruction of Bellydance specialist Wild Kat. Suitable for dancers of all levels\, our upcoming Five Week Course will cover technique\, skills and choreography\, with students learning a full Tribal Fusion style Bellydance routine – you can even opt to perform it onstage at a real cabaret show!\nEnrolment is just $100 for five weeks\, with no registration fees.
URL:https://ladyvelvetcabaret.com.au/event/tribal-fusion-bellydance-5-week-course-2/
LOCATION:The WA Performance School
CATEGORIES:Class or Workshop
ATTACH;FMTTYPE=image/jpeg:https://ladyvelvetcabaret.com.au/wp-content/uploads/2018/04/Tribal-Fusion-Instagram-04-05-18.jpg
END:VEVENT
BEGIN:VEVENT
DTSTART;VALUE=DATE:20180616
DTEND;VALUE=DATE:20180617
DTSTAMP:20260422T115816
CREATED:20180515T034914Z
LAST-MODIFIED:20180515T034914Z
UID:4046-1529107200-1529193599@ladyvelvetcabaret.com.au
SUMMARY:LED Ballerinas Roving at Event
DESCRIPTION:Three stunning ballerinas in beautiful LED costumes roving and performing at the Clubswa Awards Night\, Crown Perth \nEvent Cost – Currency: (Dollars) $\nEvent Cost – Amount: N/A
URL:https://ladyvelvetcabaret.com.au/event/led-ballerinas-roving-at-event/
LOCATION:Crown Ballroom
CATEGORIES:LVC Performer at Event
ATTACH;FMTTYPE=image/jpeg:https://ladyvelvetcabaret.com.au/wp-content/uploads/2018/05/ballet.jpg
END:VEVENT
BEGIN:VEVENT
DTSTART;VALUE=DATE:20180616
DTEND;VALUE=DATE:20180617
DTSTAMP:20260422T115816
CREATED:20180515T032739Z
LAST-MODIFIED:20180515T041627Z
UID:4042-1529107200-1529193599@ladyvelvetcabaret.com.au
SUMMARY:Le Cabaret Noir at Ellington Jazz Club
DESCRIPTION:Lady Velvet Cabaret presents Le Cabaret Noir
URL:https://ladyvelvetcabaret.com.au/event/le-cabaret-noir-at-ellington-jazz-club/
LOCATION:The Ellington Jazz Club
CATEGORIES:LVC Performer at Event
ATTACH;FMTTYPE=image/jpeg:https://ladyvelvetcabaret.com.au/wp-content/uploads/2018/05/Le-Cabaret-Noir-Artwork-Brief-Instagram.jpg
END:VEVENT
BEGIN:VEVENT
DTSTART;TZID=Australia/Perth:20180612T201500
DTEND;TZID=Australia/Perth:20180612T211500
DTSTAMP:20260422T115816
CREATED:20180409T100207Z
LAST-MODIFIED:20180410T023508Z
UID:3998-1528834500-1528838100@ladyvelvetcabaret.com.au
SUMMARY:Tribal Fusion Bellydance 5 Week Course
DESCRIPTION:Discover the unique style of Tribal Fusion Bellydance with Lady Velvet Cabaret! The Tribal Fusion style of Bellydance is known for its pronounced isometric movements\, sensual choreography\, and darker style of music. Amp up your technique with isolation exercises\, develop more fluid movements\, and a more structured carriage of the body under the instruction of Bellydance specialist Wild Kat. Suitable for dancers of all levels\, our upcoming Five Week Course will cover technique\, skills and choreography\, with students learning a full Tribal Fusion style Bellydance routine – you can even opt to perform it onstage at a real cabaret show!\nEnrolment is just $100 for five weeks\, with no registration fees.
URL:https://ladyvelvetcabaret.com.au/event/tribal-fusion-bellydance-5-week-course/
LOCATION:The WA Performance School
CATEGORIES:Class or Workshop
ATTACH;FMTTYPE=image/jpeg:https://ladyvelvetcabaret.com.au/wp-content/uploads/2018/04/Tribal-Fusion-Instagram-04-05-18.jpg
END:VEVENT
BEGIN:VEVENT
DTSTART;TZID=Australia/Perth:20180520T130000
DTEND;TZID=Australia/Perth:20180520T160000
DTSTAMP:20260422T115816
CREATED:20180420T065111Z
LAST-MODIFIED:20180423T035845Z
UID:4033-1526821200-1526832000@ladyvelvetcabaret.com.au
SUMMARY:Lady Velvet Cabaret presents... DISNEYBOUNDING PINUP WORKSHOP!
DESCRIPTION:Join Lady Velvet Cabaret for a day filled with Disney pinup glamour!  \nDisneybounding is a creative craze sweeping the pinup\ncommunity! Disneybounding is the creative response to the Disneyland policy which forbids adults from attending Disneyland while dressed as their favourite characters (lest they be confused for real cast members). This isn’t cosplay\, so there’s no need to dress exactly like your character (though full costumes are still welcome!)\, simply choose wardrobe pieces and accessories that match the colours or pattern of your character’s costume – think of it as Disney Daywear! Your clothing can be as casual or elaborate as you like\, plus you can bring and share props or accessories. Discover thebeautiful range of headpieces from local designer Tempest Eve and even borrow one for your shoot if you like to add that extra bit of princess glamour. \nCheck out Lady Velvet Cabaret on Facebook and Instagram for more Disneybounding inspiration and get planning – bookings must be secured by 13th May! \nBOOKINGS: Email info@ladyvelvetcabaret.com.au or use the online student portal to enrol!
URL:https://ladyvelvetcabaret.com.au/event/lady-velvet-cabaret-presents-disneybounding-pinup-workshop/
LOCATION:The WA Performance School\, upstairs at Lords Recreation Centre – 3 Price St\, Subiaco.
ATTACH;FMTTYPE=image/jpeg:https://ladyvelvetcabaret.com.au/wp-content/uploads/2018/04/Disneybounding-Website-Blog-Cover.jpg
END:VEVENT
BEGIN:VEVENT
DTSTART;VALUE=DATE:20180518
DTEND;VALUE=DATE:20180519
DTSTAMP:20260422T115816
CREATED:20180228T085730Z
LAST-MODIFIED:20180228T085730Z
UID:3924-1526601600-1526687999@ladyvelvetcabaret.com.au
SUMMARY:Miss Burlesque WA
DESCRIPTION:Miss Burlesque WA heats featuring Perth’s best burlesque artists\, including Lady Velvet Cabaret’s Lola Moore \nEvent Cost – Amount: TBC
URL:https://ladyvelvetcabaret.com.au/event/miss-burlesque-wa/
LOCATION:The Astor Theatre
CATEGORIES:LVC Performer at Event
ATTACH;FMTTYPE=image/jpeg:https://ladyvelvetcabaret.com.au/wp-content/uploads/2018/02/mba.jpg
END:VEVENT
BEGIN:VEVENT
DTSTART;TZID=Australia/Perth:20180508T201500
DTEND;TZID=Australia/Perth:20180508T211500
DTSTAMP:20260422T115816
CREATED:20180326T063228Z
LAST-MODIFIED:20180326T063228Z
UID:3983-1525810500-1525814100@ladyvelvetcabaret.com.au
SUMMARY:Competitive Burlesque Course with Sugar du Joure
DESCRIPTION:Lady Velvet Cabaret’s Competitive Burlesque Four Week Course
URL:https://ladyvelvetcabaret.com.au/event/competitive-burlesque-course-with-sugar-du-joure-4/
LOCATION:Lady Velvet Cabaret
CATEGORIES:Class or Workshop
ATTACH;FMTTYPE=image/jpeg:https://ladyvelvetcabaret.com.au/wp-content/uploads/2018/03/Burly_Queens-event.jpg
END:VEVENT
BEGIN:VEVENT
DTSTART;TZID=Australia/Perth:20180505T080000
DTEND;TZID=Australia/Perth:20180505T170000
DTSTAMP:20260422T115816
CREATED:20180227T071616Z
LAST-MODIFIED:20180227T071616Z
UID:3918-1525507200-1525539600@ladyvelvetcabaret.com.au
SUMMARY:New Zealand Burlesque Festival
DESCRIPTION:Lola Moore performs at the New Zealand Burlesque Festival
URL:https://ladyvelvetcabaret.com.au/event/new-zealand-burlesque-festival/
LOCATION:New Zealand Burlesque Festival
CATEGORIES:LVC Performer at Event
ATTACH;FMTTYPE=image/png:https://ladyvelvetcabaret.com.au/wp-content/uploads/2018/02/keren.png
END:VEVENT
BEGIN:VEVENT
DTSTART;TZID=Australia/Perth:20180501T201500
DTEND;TZID=Australia/Perth:20180501T211500
DTSTAMP:20260422T115816
CREATED:20180326T063209Z
LAST-MODIFIED:20180326T063209Z
UID:3981-1525205700-1525209300@ladyvelvetcabaret.com.au
SUMMARY:Competitive Burlesque Course with Sugar du Joure
DESCRIPTION:Lady Velvet Cabaret’s Competitive Burlesque Four Week Course
URL:https://ladyvelvetcabaret.com.au/event/competitive-burlesque-course-with-sugar-du-joure-3/
LOCATION:Lady Velvet Cabaret
CATEGORIES:Class or Workshop
ATTACH;FMTTYPE=image/jpeg:https://ladyvelvetcabaret.com.au/wp-content/uploads/2018/03/Burly_Queens-event.jpg
END:VEVENT
BEGIN:VEVENT
DTSTART;TZID=Australia/Perth:20180429T180000
DTEND;TZID=Australia/Perth:20180429T210000
DTSTAMP:20260422T115816
CREATED:20180321T031302Z
LAST-MODIFIED:20180321T031354Z
UID:3962-1525024800-1525035600@ladyvelvetcabaret.com.au
SUMMARY:BEAUTY AND THE TEASE
DESCRIPTION:Join the cast of Lady Velvet Cabaret and special guests for a fabulous variety show featuring burlesque\, cabaret\, song and dance. \nCost: $15+BF
URL:https://ladyvelvetcabaret.com.au/event/beauty-and-the-tease/
LOCATION:The Rosemount Hotel
CATEGORIES:Lady Velvet Cabaret Show
ATTACH;FMTTYPE=image/jpeg:https://ladyvelvetcabaret.com.au/wp-content/uploads/2018/03/Beauty-and-the-Tease.jpg
END:VEVENT
BEGIN:VEVENT
DTSTART;TZID=Australia/Perth:20180424T201500
DTEND;TZID=Australia/Perth:20180424T211500
DTSTAMP:20260422T115816
CREATED:20180326T063146Z
LAST-MODIFIED:20180326T063146Z
UID:3979-1524600900-1524604500@ladyvelvetcabaret.com.au
SUMMARY:Competitive Burlesque Course with Sugar du Joure
DESCRIPTION:Lady Velvet Cabaret’s Competitive Burlesque Four Week Course
URL:https://ladyvelvetcabaret.com.au/event/competitive-burlesque-course-with-sugar-du-joure-2/
LOCATION:Lady Velvet Cabaret
CATEGORIES:Class or Workshop
ATTACH;FMTTYPE=image/jpeg:https://ladyvelvetcabaret.com.au/wp-content/uploads/2018/03/Burly_Queens-event.jpg
END:VEVENT
BEGIN:VEVENT
DTSTART;TZID=Australia/Perth:20180417T201500
DTEND;TZID=Australia/Perth:20180417T211500
DTSTAMP:20260422T115816
CREATED:20180326T062706Z
LAST-MODIFIED:20180326T062706Z
UID:3976-1523996100-1523999700@ladyvelvetcabaret.com.au
SUMMARY:Competitive Burlesque Course with Sugar du Joure
DESCRIPTION:Lady Velvet Cabaret’s Competitive Burlesque Four Week Course
URL:https://ladyvelvetcabaret.com.au/event/competitive-burlesque-course-with-sugar-du-joure/
LOCATION:Lady Velvet Cabaret
CATEGORIES:Class or Workshop
ATTACH;FMTTYPE=image/jpeg:https://ladyvelvetcabaret.com.au/wp-content/uploads/2018/03/Burly_Queens-event.jpg
END:VEVENT
BEGIN:VEVENT
DTSTART;TZID=Australia/Perth:20180415T130000
DTEND;TZID=Australia/Perth:20180415T160000
DTSTAMP:20260422T115816
CREATED:20180326T102128Z
LAST-MODIFIED:20180326T102128Z
UID:3990-1523797200-1523808000@ladyvelvetcabaret.com.au
SUMMARY:Bohemian Dreams Pinup Workshop
DESCRIPTION:The Bohemian Dreams Pinup Workshop with Sugar du Joure and Wild Kat Photography!
URL:https://ladyvelvetcabaret.com.au/event/bohemian-dreams-pinup-workshop/
LOCATION:Lady Velvet Cabaret
ATTACH;FMTTYPE=image/jpeg:https://ladyvelvetcabaret.com.au/wp-content/uploads/2018/03/Artwork-Brief-Bohemian-Dreams-SQUARE-6-1.jpg
END:VEVENT
BEGIN:VEVENT
DTSTART;TZID=Australia/Perth:20180414T130000
DTEND;TZID=Australia/Perth:20180414T150000
DTSTAMP:20260422T115816
CREATED:20180411T052133Z
LAST-MODIFIED:20180411T052133Z
UID:4012-1523710800-1523718000@ladyvelvetcabaret.com.au
SUMMARY:Roving Hostess at Toast to the Coast
DESCRIPTION:Wild Kat and Ginger Snaps will be roving at The Marina Mindarie for Toast to the Coast on April 14!
URL:https://ladyvelvetcabaret.com.au/event/roving-hostess-at-toast-to-the-coast/
LOCATION:The Marina Mindarie
CATEGORIES:LVC Performer at Event
ATTACH;FMTTYPE=image/jpeg:https://ladyvelvetcabaret.com.au/wp-content/uploads/2018/04/toast-coast.jpg
END:VEVENT
BEGIN:VEVENT
DTSTART;TZID=Australia/Perth:20180325T130000
DTEND;TZID=Australia/Perth:20180325T160000
DTSTAMP:20260422T115816
CREATED:20180306T032600Z
LAST-MODIFIED:20180306T090746Z
UID:3938-1521982800-1521993600@ladyvelvetcabaret.com.au
SUMMARY:Bling it On Pinup Workshop
DESCRIPTION:Join Sugar du Joure and Wild Kat Photography for a special sparkly pinup workshop!
URL:https://ladyvelvetcabaret.com.au/event/bling-pinup-workshop/
LOCATION:Lady Velvet Cabaret
CATEGORIES:Class or Workshop
ATTACH;FMTTYPE=image/png:https://ladyvelvetcabaret.com.au/wp-content/uploads/2018/03/bling-it-on.png
END:VEVENT
BEGIN:VEVENT
DTSTART;TZID=Australia/Perth:20180302T080000
DTEND;TZID=Australia/Perth:20180303T170000
DTSTAMP:20260422T115816
CREATED:20180227T070305Z
LAST-MODIFIED:20180227T070305Z
UID:3915-1519977600-1520096400@ladyvelvetcabaret.com.au
SUMMARY:Burlesque - Blast from the Past
DESCRIPTION:Lucinda Panties & Lola Moore perform at Busselton Fringe Festival
URL:https://ladyvelvetcabaret.com.au/event/burlesque-blast-past/
LOCATION:Busselton Fringe Festival
CATEGORIES:LVC Performer at Event
ATTACH;FMTTYPE=image/jpeg:https://ladyvelvetcabaret.com.au/wp-content/uploads/2018/02/burlesque.jpg
END:VEVENT
BEGIN:VEVENT
DTSTART;TZID=Australia/Perth:20180227T080000
DTEND;TZID=Australia/Perth:20180301T170000
DTSTAMP:20260422T115816
CREATED:20180227T065439Z
LAST-MODIFIED:20180227T065439Z
UID:3911-1519718400-1519923600@ladyvelvetcabaret.com.au
SUMMARY:Pupperotica in Busselton
DESCRIPTION:Lola Moore performs in Pupperotica at Busselton’s LiveLighter Fringe Festival
URL:https://ladyvelvetcabaret.com.au/event/pupperotica-in-busselton/
LOCATION:Busselton Fringe Festival
CATEGORIES:LVC Performer at Event
ATTACH;FMTTYPE=image/jpeg:https://ladyvelvetcabaret.com.au/wp-content/uploads/2018/02/pupp.jpg
END:VEVENT
BEGIN:VEVENT
DTSTART;TZID=Australia/Perth:20180224T080000
DTEND;TZID=Australia/Perth:20180224T170000
DTSTAMP:20260422T115816
CREATED:20180301T131529Z
LAST-MODIFIED:20180301T131529Z
UID:3935-1519459200-1519491600@ladyvelvetcabaret.com.au
SUMMARY:Roving Pinups at the Mindarie Chilli Festival
DESCRIPTION:Ginger Snaps and Wild Kat rove at The Marina Mindarie for the annual Chilli Festival
URL:https://ladyvelvetcabaret.com.au/event/roving-pinups-mindarie-chilli-festival/
LOCATION:The Marina Mindarie
CATEGORIES:LVC Performer at Event
ATTACH;FMTTYPE=image/jpeg:https://ladyvelvetcabaret.com.au/wp-content/uploads/2018/03/chilifest2018-118.jpg
END:VEVENT
BEGIN:VEVENT
DTSTART;TZID=UTC:20180218T130000
DTEND;TZID=UTC:20180218T160000
DTSTAMP:20260422T115816
CREATED:20180118T023010Z
LAST-MODIFIED:20180119T093128Z
UID:3885-1518958800-1518969600@ladyvelvetcabaret.com.au
SUMMARY:ICONIC Vintage Pinup Workshop
DESCRIPTION:On 18th February take over the Lady Velvet Cabaret studios for an afternoon and channel your favourite icon for your own stylish pinup shoot. Mix and mingle with Perth’s pinup enthusiasts\, and receive guidance and instruction from Sugar du Joure\, Miss Burlesque Australia 1st RU 2016\, pinup diva\, and plus size stylist. \nPose for the award-winning Wild Kat Photography dressed as your favourite pinup icon – you may be inspired by stars like Audrey Hepburn\, Marilyn Monroe\, Bettie Paige or Dita von Teese\, or perhaps you want to channel an iconic character like Rosie the Riveter or Jackie O? Maybe you’re a cosplay fanatic and want to bring your own pinup Harley Quinn\, Catwoman\, Poison Ivy or Jessica Rabbit to life?\nYou’re limited only by your creativity – and if you’d rather bring along one of your own iconic looks\, you are more than welcome!
URL:https://ladyvelvetcabaret.com.au/event/iconic-vintage-pinup-workshop/
LOCATION:Lady Velvet Cabaret
CATEGORIES:Class or Workshop
END:VEVENT
END:VCALENDAR