BEGIN:VCALENDAR
VERSION:2.0
PRODID:-//Lady Velvet Cabaret - ECPv6.0.9//NONSGML v1.0//EN
CALSCALE:GREGORIAN
METHOD:PUBLISH
X-WR-CALNAME:Lady Velvet Cabaret
X-ORIGINAL-URL:https://ladyvelvetcabaret.com.au
X-WR-CALDESC:Events for Lady Velvet Cabaret
REFRESH-INTERVAL;VALUE=DURATION:PT1H
X-Robots-Tag:noindex
X-PUBLISHED-TTL:PT1H
BEGIN:VTIMEZONE
TZID:Australia/Perth
BEGIN:STANDARD
TZOFFSETFROM:+0800
TZOFFSETTO:+0800
TZNAME:AWST
DTSTART:20190101T000000
END:STANDARD
END:VTIMEZONE
BEGIN:VEVENT
DTSTART;VALUE=DATE:20190305
DTEND;VALUE=DATE:20190306
DTSTAMP:20260422T090722
CREATED:20190117T085156Z
LAST-MODIFIED:20190117T085455Z
UID:4409-1551744000-1551830399@ladyvelvetcabaret.com.au
SUMMARY:Sugar performs in Adelaide\, in Baby Got Back: Size Queens
DESCRIPTION:Sugar du Joure joins the cast of Baby Got Back for a national tour of Size Queens! Catch her performing at Adelaide Fringe 5-17 March. \nTime: 8:40pm
URL:https://ladyvelvetcabaret.com.au/event/sugar-performs-in-adelaide-in-baby-got-back-size-queens/
LOCATION:Gluttony
CATEGORIES:LVC Performer at Event
ATTACH;FMTTYPE=image/jpeg:https://ladyvelvetcabaret.com.au/wp-content/uploads/2019/01/Baby-Got-Back.jpg
END:VEVENT
BEGIN:VEVENT
DTSTART;TZID=Australia/Perth:20190302T183000
DTEND;TZID=Australia/Perth:20190302T230000
DTSTAMP:20260422T090722
CREATED:20190301T050705Z
LAST-MODIFIED:20190301T050705Z
UID:4960-1551551400-1551567600@ladyvelvetcabaret.com.au
SUMMARY:Lucinda performs at Adventureworld Fright Nights
DESCRIPTION:Lucinda Panties plays the character of Gladys the nasty lunch lady at Adventureworld’s Fright Nights event!
URL:https://ladyvelvetcabaret.com.au/event/lucinda-performs-at-adventureworld-fright-nights-2/
LOCATION:AdventureWorld
CATEGORIES:LVC Performer at Event
ATTACH;FMTTYPE=image/jpeg:https://ladyvelvetcabaret.com.au/wp-content/uploads/2019/03/50946110_10156777409559564_4853991550528520192_n.jpg
END:VEVENT
BEGIN:VEVENT
DTSTART;TZID=Australia/Perth:20190301T183000
DTEND;TZID=Australia/Perth:20190301T230000
DTSTAMP:20260422T090722
CREATED:20190301T050710Z
LAST-MODIFIED:20190301T050710Z
UID:4961-1551465000-1551481200@ladyvelvetcabaret.com.au
SUMMARY:Lucinda performs at Adventureworld Fright Nights
DESCRIPTION:Lucinda Panties plays the character of Gladys the nasty lunch lady at Adventureworld’s Fright Nights event!
URL:https://ladyvelvetcabaret.com.au/event/lucinda-performs-at-adventureworld-fright-nights-3/
LOCATION:AdventureWorld
CATEGORIES:LVC Performer at Event
ATTACH;FMTTYPE=image/jpeg:https://ladyvelvetcabaret.com.au/wp-content/uploads/2019/03/50946110_10156777409559564_4853991550528520192_n.jpg
END:VEVENT
BEGIN:VEVENT
DTSTART;TZID=Australia/Perth:20190226T201500
DTEND;TZID=Australia/Perth:20190226T211500
DTSTAMP:20260422T090722
CREATED:20190121T050154Z
LAST-MODIFIED:20190122T064606Z
UID:4468-1551212100-1551215700@ladyvelvetcabaret.com.au
SUMMARY:COVEN Five Week Bellydance Course
DESCRIPTION:Join the sisterhood! Set your inner witchy woman free in this seductive five week bellydance course with Wild Kat!
URL:https://ladyvelvetcabaret.com.au/event/coven-five-week-bellydance-course/
LOCATION:Lady Velvet Cabaret
CATEGORIES:Class or Workshop
ATTACH;FMTTYPE=image/jpeg:https://ladyvelvetcabaret.com.au/wp-content/uploads/2019/01/LVC-Coven-Instagram.jpg
END:VEVENT
BEGIN:VEVENT
DTSTART;TZID=Australia/Perth:20190224T130000
DTEND;TZID=Australia/Perth:20190224T160000
DTSTAMP:20260422T090722
CREATED:20190121T055537Z
LAST-MODIFIED:20190121T055537Z
UID:4479-1551013200-1551024000@ladyvelvetcabaret.com.au
SUMMARY:Tiki Time! Vintage Pinup Workshop (On Location)
DESCRIPTION:Join us for our first Pinup workshop for 2019\, ON LOCATION at Tiki As Fk!
URL:https://ladyvelvetcabaret.com.au/event/tiki-time-vintage-pinup-workshop-on-location/
LOCATION:Tiki As Fk\, 91a James St\, Northbridge WA 6003
CATEGORIES:Class or Workshop
ATTACH;FMTTYPE=image/jpeg:https://ladyvelvetcabaret.com.au/wp-content/uploads/2019/01/LVC-Tiki-Time.jpg
END:VEVENT
BEGIN:VEVENT
DTSTART;TZID=Australia/Perth:20190223T183000
DTEND;TZID=Australia/Perth:20190223T230000
DTSTAMP:20260422T090722
CREATED:20190301T050713Z
LAST-MODIFIED:20190301T050713Z
UID:4962-1550946600-1550962800@ladyvelvetcabaret.com.au
SUMMARY:Lucinda performs at Adventureworld Fright Nights
DESCRIPTION:Lucinda Panties plays the character of Gladys the nasty lunch lady at Adventureworld’s Fright Nights event!
URL:https://ladyvelvetcabaret.com.au/event/lucinda-performs-at-adventureworld-fright-nights-4/
LOCATION:AdventureWorld
CATEGORIES:LVC Performer at Event
ATTACH;FMTTYPE=image/jpeg:https://ladyvelvetcabaret.com.au/wp-content/uploads/2019/03/50946110_10156777409559564_4853991550528520192_n.jpg
END:VEVENT
BEGIN:VEVENT
DTSTART;TZID=Australia/Perth:20190223T150000
DTEND;TZID=Australia/Perth:20190223T170000
DTSTAMP:20260422T090722
CREATED:20190129T101718Z
LAST-MODIFIED:20190129T101718Z
UID:4648-1550934000-1550941200@ladyvelvetcabaret.com.au
SUMMARY:Wild Kat & Ginger Snaps rove at The Marina Mindarie for Chilli Fest 2019!
DESCRIPTION:Our gorgeous blonde sailor girls will be hitting the Mindarie Chilli Fest! Catch them on the boardwalk\, or helping judge the chilli-eating contest! \nEvent Cost: FREE
URL:https://ladyvelvetcabaret.com.au/event/wild-kat-ginger-snaps-rove-at-the-marina-mindarie-for-chilli-fest-2019/
LOCATION:The Marina Mindarie
CATEGORIES:LVC Performer at Event
ATTACH;FMTTYPE=image/jpeg:https://ladyvelvetcabaret.com.au/wp-content/uploads/2019/01/chilifest2018-118.jpg
END:VEVENT
BEGIN:VEVENT
DTSTART;TZID=Australia/Perth:20190222T183000
DTEND;TZID=Australia/Perth:20190222T230000
DTSTAMP:20260422T090722
CREATED:20190301T045633Z
LAST-MODIFIED:20190301T045633Z
UID:4955-1550860200-1550876400@ladyvelvetcabaret.com.au
SUMMARY:Lucinda performs at Adventureworld Fright Nights
DESCRIPTION:Lucinda Panties plays the character of Gladys the nasty lunch lady at Adventureworld’s Fright Nights event!
URL:https://ladyvelvetcabaret.com.au/event/lucinda-performs-at-adventureworld-fright-nights/
LOCATION:AdventureWorld
CATEGORIES:LVC Performer at Event
ATTACH;FMTTYPE=image/jpeg:https://ladyvelvetcabaret.com.au/wp-content/uploads/2019/03/50946110_10156777409559564_4853991550528520192_n.jpg
END:VEVENT
BEGIN:VEVENT
DTSTART;VALUE=DATE:20190217
DTEND;VALUE=DATE:20190218
DTSTAMP:20260422T090722
CREATED:20190117T091251Z
LAST-MODIFIED:20190117T091251Z
UID:4449-1550361600-1550447999@ladyvelvetcabaret.com.au
SUMMARY:Sugar performs in Instinct
DESCRIPTION:Sugar du Joure hosts Instinct\, presented by Sugar Blue Burlesque at Perth’s Fringe World Festival. \nTime: 9:45pm
URL:https://ladyvelvetcabaret.com.au/event/sugar-performs-in-instinct-6/
LOCATION:De Parel Spiegeltent\, The Woodside Pleasure Garden
CATEGORIES:LVC Performer at Event
ATTACH;FMTTYPE=image/jpeg:https://ladyvelvetcabaret.com.au/wp-content/uploads/2019/01/Instinct-Promo.jpg
END:VEVENT
BEGIN:VEVENT
DTSTART;TZID=Australia/Perth:20190216T231500
DTEND;TZID=Australia/Perth:20190217T000000
DTSTAMP:20260422T090722
CREATED:20190121T075229Z
LAST-MODIFIED:20190121T075229Z
UID:4513-1550358900-1550361600@ladyvelvetcabaret.com.au
SUMMARY:Malaika performs in Whisky's Night Cap
DESCRIPTION:Malaika Moon stars in Whisky’s Night Cap\, presented by Whisky A’More Entertainment
URL:https://ladyvelvetcabaret.com.au/event/malaika-performs-in-whiskys-night-cap-4/
LOCATION:Fringe World
CATEGORIES:LVC Performer at Event
ATTACH;FMTTYPE=image/jpeg:https://ladyvelvetcabaret.com.au/wp-content/uploads/2019/01/50851653_254507588804419_1706322401404387328_n.jpg
END:VEVENT
BEGIN:VEVENT
DTSTART;TZID=Australia/Perth:20190216T203000
DTEND;TZID=Australia/Perth:20190216T213000
DTSTAMP:20260422T090722
CREATED:20190123T041826Z
LAST-MODIFIED:20190123T041826Z
UID:4568-1550349000-1550352600@ladyvelvetcabaret.com.au
SUMMARY:Lola performs in Underemployment at Fringe World
DESCRIPTION:Lola Moore stars in her original one woman show Underemployment at Fringe World
URL:https://ladyvelvetcabaret.com.au/event/lola-performs-in-underemployment-at-fringe-world-4/
LOCATION:Fringe World
CATEGORIES:LVC Performer at Event
ATTACH;FMTTYPE=image/jpeg:https://ladyvelvetcabaret.com.au/wp-content/uploads/2019/01/50306230_332056374315317_3863381021860823040_n.jpg
END:VEVENT
BEGIN:VEVENT
DTSTART;TZID=Australia/Perth:20190216T193000
DTEND;TZID=Australia/Perth:20190216T203000
DTSTAMP:20260422T090722
CREATED:20190121T063659Z
LAST-MODIFIED:20190121T063659Z
UID:4490-1550345400-1550349000@ladyvelvetcabaret.com.au
SUMMARY:Malaika performs in Sugar Blue Shakedown
DESCRIPTION:LVC star Malaika Moon performs in Sugar Blue Shakedown\, presented by Sugar Blue Burlesque
URL:https://ladyvelvetcabaret.com.au/event/malaika-performs-in-sugar-blue-shakedown-5/
LOCATION:Connections Nightclub
CATEGORIES:LVC Performer at Event
ATTACH;FMTTYPE=image/jpeg:https://ladyvelvetcabaret.com.au/wp-content/uploads/2019/01/sugar-blue-shakedown.jpg
END:VEVENT
BEGIN:VEVENT
DTSTART;VALUE=DATE:20190216
DTEND;VALUE=DATE:20190217
DTSTAMP:20260422T090722
CREATED:20190117T091246Z
LAST-MODIFIED:20190117T091246Z
UID:4448-1550275200-1550361599@ladyvelvetcabaret.com.au
SUMMARY:Sugar performs in Instinct
DESCRIPTION:Sugar du Joure hosts Instinct\, presented by Sugar Blue Burlesque at Perth’s Fringe World Festival. \nTime: 9:45pm
URL:https://ladyvelvetcabaret.com.au/event/sugar-performs-in-instinct-5/
LOCATION:De Parel Spiegeltent\, The Woodside Pleasure Garden
CATEGORIES:LVC Performer at Event
ATTACH;FMTTYPE=image/jpeg:https://ladyvelvetcabaret.com.au/wp-content/uploads/2019/01/Instinct-Promo.jpg
END:VEVENT
BEGIN:VEVENT
DTSTART;TZID=Australia/Perth:20190215T231500
DTEND;TZID=Australia/Perth:20190216T000000
DTSTAMP:20260422T090722
CREATED:20190121T075004Z
LAST-MODIFIED:20190121T075223Z
UID:4510-1550272500-1550275200@ladyvelvetcabaret.com.au
SUMMARY:Malaika performs in Whisky's Night Cap
DESCRIPTION:Malaika Moon stars in Whisky’s Night Cap\, presented by Whisky A’More Entertainment
URL:https://ladyvelvetcabaret.com.au/event/malaika-performs-in-whiskys-night-cap-3/
LOCATION:Fringe World
CATEGORIES:LVC Performer at Event
ATTACH;FMTTYPE=image/jpeg:https://ladyvelvetcabaret.com.au/wp-content/uploads/2019/01/50851653_254507588804419_1706322401404387328_n.jpg
END:VEVENT
BEGIN:VEVENT
DTSTART;TZID=Australia/Perth:20190215T203000
DTEND;TZID=Australia/Perth:20190215T213000
DTSTAMP:20260422T090722
CREATED:20190123T041702Z
LAST-MODIFIED:20190123T041702Z
UID:4566-1550262600-1550266200@ladyvelvetcabaret.com.au
SUMMARY:Lola performs in Underemployment at Fringe World
DESCRIPTION:Lola Moore stars in her original one woman show Underemployment at Fringe World
URL:https://ladyvelvetcabaret.com.au/event/lola-performs-in-underemployment-at-fringe-world-3/
LOCATION:Fringe World
CATEGORIES:LVC Performer at Event
ATTACH;FMTTYPE=image/jpeg:https://ladyvelvetcabaret.com.au/wp-content/uploads/2019/01/50306230_332056374315317_3863381021860823040_n.jpg
END:VEVENT
BEGIN:VEVENT
DTSTART;TZID=Australia/Perth:20190215T193000
DTEND;TZID=Australia/Perth:20190215T203000
DTSTAMP:20260422T090722
CREATED:20190121T063655Z
LAST-MODIFIED:20190121T063655Z
UID:4489-1550259000-1550262600@ladyvelvetcabaret.com.au
SUMMARY:Malaika performs in Sugar Blue Shakedown
DESCRIPTION:LVC star Malaika Moon performs in Sugar Blue Shakedown\, presented by Sugar Blue Burlesque
URL:https://ladyvelvetcabaret.com.au/event/malaika-performs-in-sugar-blue-shakedown-4/
LOCATION:Connections Nightclub
CATEGORIES:LVC Performer at Event
ATTACH;FMTTYPE=image/jpeg:https://ladyvelvetcabaret.com.au/wp-content/uploads/2019/01/sugar-blue-shakedown.jpg
END:VEVENT
BEGIN:VEVENT
DTSTART;VALUE=DATE:20190215
DTEND;VALUE=DATE:20190216
DTSTAMP:20260422T090722
CREATED:20190117T091243Z
LAST-MODIFIED:20190117T091243Z
UID:4447-1550188800-1550275199@ladyvelvetcabaret.com.au
SUMMARY:Sugar performs in Instinct
DESCRIPTION:Sugar du Joure hosts Instinct\, presented by Sugar Blue Burlesque at Perth’s Fringe World Festival. \nTime: 9:45pm
URL:https://ladyvelvetcabaret.com.au/event/sugar-performs-in-instinct-4/
LOCATION:De Parel Spiegeltent\, The Woodside Pleasure Garden
CATEGORIES:LVC Performer at Event
ATTACH;FMTTYPE=image/jpeg:https://ladyvelvetcabaret.com.au/wp-content/uploads/2019/01/Instinct-Promo.jpg
END:VEVENT
BEGIN:VEVENT
DTSTART;TZID=Australia/Perth:20190214T203000
DTEND;TZID=Australia/Perth:20190214T213000
DTSTAMP:20260422T090722
CREATED:20190123T041541Z
LAST-MODIFIED:20190123T041541Z
UID:4564-1550176200-1550179800@ladyvelvetcabaret.com.au
SUMMARY:Lola performs in Underemployment at Fringe World
DESCRIPTION:Lola Moore stars in her original one woman show Underemployment at Fringe World
URL:https://ladyvelvetcabaret.com.au/event/lola-performs-in-underemployment-at-fringe-world-2/
LOCATION:Fringe World
CATEGORIES:LVC Performer at Event
ATTACH;FMTTYPE=image/jpeg:https://ladyvelvetcabaret.com.au/wp-content/uploads/2019/01/50306230_332056374315317_3863381021860823040_n.jpg
END:VEVENT
BEGIN:VEVENT
DTSTART;VALUE=DATE:20190214
DTEND;VALUE=DATE:20190215
DTSTAMP:20260422T090722
CREATED:20190117T091239Z
LAST-MODIFIED:20190117T091239Z
UID:4446-1550102400-1550188799@ladyvelvetcabaret.com.au
SUMMARY:Sugar performs in Instinct
DESCRIPTION:Sugar du Joure hosts Instinct\, presented by Sugar Blue Burlesque at Perth’s Fringe World Festival. \nTime: 9:45pm
URL:https://ladyvelvetcabaret.com.au/event/sugar-performs-in-instinct-3/
LOCATION:De Parel Spiegeltent\, The Woodside Pleasure Garden
CATEGORIES:LVC Performer at Event
ATTACH;FMTTYPE=image/jpeg:https://ladyvelvetcabaret.com.au/wp-content/uploads/2019/01/Instinct-Promo.jpg
END:VEVENT
BEGIN:VEVENT
DTSTART;TZID=Australia/Perth:20190213T203000
DTEND;TZID=Australia/Perth:20190213T213000
DTSTAMP:20260422T090722
CREATED:20190123T041310Z
LAST-MODIFIED:20190123T041310Z
UID:4561-1550089800-1550093400@ladyvelvetcabaret.com.au
SUMMARY:Lola performs in Underemployment at Fringe World
DESCRIPTION:Lola Moore stars in her original one woman show Underemployment at Fringe World
URL:https://ladyvelvetcabaret.com.au/event/lola-performs-in-underemployment-at-fringe-world/
LOCATION:Fringe World
CATEGORIES:LVC Performer at Event
ATTACH;FMTTYPE=image/jpeg:https://ladyvelvetcabaret.com.au/wp-content/uploads/2019/01/50306230_332056374315317_3863381021860823040_n.jpg
END:VEVENT
BEGIN:VEVENT
DTSTART;TZID=Australia/Perth:20190213T193000
DTEND;TZID=Australia/Perth:20190213T203000
DTSTAMP:20260422T090722
CREATED:20190121T063651Z
LAST-MODIFIED:20190121T063651Z
UID:4488-1550086200-1550089800@ladyvelvetcabaret.com.au
SUMMARY:Malaika performs in Sugar Blue Shakedown
DESCRIPTION:LVC star Malaika Moon performs in Sugar Blue Shakedown\, presented by Sugar Blue Burlesque
URL:https://ladyvelvetcabaret.com.au/event/malaika-performs-in-sugar-blue-shakedown-3/
LOCATION:Connections Nightclub
CATEGORIES:LVC Performer at Event
ATTACH;FMTTYPE=image/jpeg:https://ladyvelvetcabaret.com.au/wp-content/uploads/2019/01/sugar-blue-shakedown.jpg
END:VEVENT
BEGIN:VEVENT
DTSTART;VALUE=DATE:20190213
DTEND;VALUE=DATE:20190214
DTSTAMP:20260422T090722
CREATED:20190117T091236Z
LAST-MODIFIED:20190117T091236Z
UID:4445-1550016000-1550102399@ladyvelvetcabaret.com.au
SUMMARY:Sugar performs in Instinct
DESCRIPTION:Sugar du Joure hosts Instinct\, presented by Sugar Blue Burlesque at Perth’s Fringe World Festival. \nTime: 9:45pm
URL:https://ladyvelvetcabaret.com.au/event/sugar-performs-in-instinct-2/
LOCATION:De Parel Spiegeltent\, The Woodside Pleasure Garden
CATEGORIES:LVC Performer at Event
ATTACH;FMTTYPE=image/jpeg:https://ladyvelvetcabaret.com.au/wp-content/uploads/2019/01/Instinct-Promo.jpg
END:VEVENT
BEGIN:VEVENT
DTSTART;TZID=Australia/Perth:20190212T193000
DTEND;TZID=Australia/Perth:20190212T203000
DTSTAMP:20260422T090722
CREATED:20190121T063646Z
LAST-MODIFIED:20190121T063646Z
UID:4487-1549999800-1550003400@ladyvelvetcabaret.com.au
SUMMARY:Malaika performs in Sugar Blue Shakedown
DESCRIPTION:LVC star Malaika Moon performs in Sugar Blue Shakedown\, presented by Sugar Blue Burlesque
URL:https://ladyvelvetcabaret.com.au/event/malaika-performs-in-sugar-blue-shakedown-2/
LOCATION:Connections Nightclub
CATEGORIES:LVC Performer at Event
ATTACH;FMTTYPE=image/jpeg:https://ladyvelvetcabaret.com.au/wp-content/uploads/2019/01/sugar-blue-shakedown.jpg
END:VEVENT
BEGIN:VEVENT
DTSTART;VALUE=DATE:20190212
DTEND;VALUE=DATE:20190213
DTSTAMP:20260422T090722
CREATED:20190117T091126Z
LAST-MODIFIED:20190117T091158Z
UID:4442-1549929600-1550015999@ladyvelvetcabaret.com.au
SUMMARY:Sugar performs in Instinct
DESCRIPTION:Sugar du Joure hosts Instinct\, presented by Sugar Blue Burlesque at Perth’s Fringe World Festival. \nTime: 9:45pm
URL:https://ladyvelvetcabaret.com.au/event/sugar-performs-in-instinct/
LOCATION:De Parel Spiegeltent\, The Woodside Pleasure Garden
CATEGORIES:LVC Performer at Event
ATTACH;FMTTYPE=image/jpeg:https://ladyvelvetcabaret.com.au/wp-content/uploads/2019/01/Instinct-Promo.jpg
END:VEVENT
BEGIN:VEVENT
DTSTART;TZID=Australia/Perth:20190211T193000
DTEND;TZID=Australia/Perth:20190211T203000
DTSTAMP:20260422T090722
CREATED:20190121T063143Z
LAST-MODIFIED:20190121T063143Z
UID:4483-1549913400-1549917000@ladyvelvetcabaret.com.au
SUMMARY:Malaika performs in Sugar Blue Shakedown
DESCRIPTION:LVC star Malaika Moon performs in Sugar Blue Shakedown\, presented by Sugar Blue Burlesque
URL:https://ladyvelvetcabaret.com.au/event/malaika-performs-in-sugar-blue-shakedown/
LOCATION:Connections Nightclub
CATEGORIES:LVC Performer at Event
ATTACH;FMTTYPE=image/jpeg:https://ladyvelvetcabaret.com.au/wp-content/uploads/2019/01/sugar-blue-shakedown.jpg
END:VEVENT
BEGIN:VEVENT
DTSTART;TZID=Australia/Perth:20190209T231500
DTEND;TZID=Australia/Perth:20190210T000000
DTSTAMP:20260422T090722
CREATED:20190121T074826Z
LAST-MODIFIED:20190121T075426Z
UID:4508-1549754100-1549756800@ladyvelvetcabaret.com.au
SUMMARY:Malaika performs in Whisky's Night Cap
DESCRIPTION:Malaika Moon stars in Whisky’s Night Cap\, presented by Whisky A’More Entertainment
URL:https://ladyvelvetcabaret.com.au/event/malaika-performs-in-whiskys-night-cap-2/
LOCATION:Fringe World
CATEGORIES:LVC Performer at Event
ATTACH;FMTTYPE=image/jpeg:https://ladyvelvetcabaret.com.au/wp-content/uploads/2019/01/50851653_254507588804419_1706322401404387328_n.jpg
END:VEVENT
BEGIN:VEVENT
DTSTART;TZID=Australia/Perth:20190209T210000
DTEND;TZID=Australia/Perth:20190209T220000
DTSTAMP:20260422T090722
CREATED:20190123T040946Z
LAST-MODIFIED:20190123T040946Z
UID:4558-1549746000-1549749600@ladyvelvetcabaret.com.au
SUMMARY:Lola performs in Red Light Confidential at Fringe World
DESCRIPTION:Lola Moore stars in Red Light Confidential at Perth’s Fringe World Festival
URL:https://ladyvelvetcabaret.com.au/event/lola-performs-in-red-light-confidential-at-fringe-world/
LOCATION:Fringe World
CATEGORIES:LVC Performer at Event
END:VEVENT
BEGIN:VEVENT
DTSTART;VALUE=DATE:20190209
DTEND;VALUE=DATE:20190210
DTSTAMP:20260422T090722
CREATED:20190117T090546Z
LAST-MODIFIED:20190117T090546Z
UID:4438-1549670400-1549756799@ladyvelvetcabaret.com.au
SUMMARY:Sugar performs in Rumble!
DESCRIPTION:Burlesque gets brutal in RUMBLE\, presented by Joel Devereux – who will win in this epic battle of the burlesque greats? Support our own Sugar du Joure as she competes with someone WA’s top performers! \nTime: 11:15pm
URL:https://ladyvelvetcabaret.com.au/event/sugar-performs-in-rumble/
LOCATION:De Parel Spiegeltent\, The Woodside Pleasure Garden
CATEGORIES:LVC Performer at Event
ATTACH;FMTTYPE=image/jpeg:https://ladyvelvetcabaret.com.au/wp-content/uploads/2019/01/Rumble.jpg
END:VEVENT
BEGIN:VEVENT
DTSTART;TZID=Australia/Perth:20190208T231500
DTEND;TZID=Australia/Perth:20190209T000000
DTSTAMP:20260422T090722
CREATED:20190121T074541Z
LAST-MODIFIED:20190121T074541Z
UID:4503-1549667700-1549670400@ladyvelvetcabaret.com.au
SUMMARY:Malaika performs in Whisky's Night Cap
DESCRIPTION:Malaika Moon stars in Whisky’s Night Cap\, presented by Whisky A’More Entertainment
URL:https://ladyvelvetcabaret.com.au/event/malaika-performs-in-whiskys-night-cap/
LOCATION:Fringe World
CATEGORIES:LVC Performer at Event
ATTACH;FMTTYPE=image/jpeg:https://ladyvelvetcabaret.com.au/wp-content/uploads/2019/01/50851653_254507588804419_1706322401404387328_n.jpg
END:VEVENT
BEGIN:VEVENT
DTSTART;VALUE=DATE:20190203
DTEND;VALUE=DATE:20190204
DTSTAMP:20260422T090722
CREATED:20190117T084326Z
LAST-MODIFIED:20190117T084326Z
UID:4407-1549152000-1549238399@ladyvelvetcabaret.com.au
SUMMARY:Sugar performs in Baby Got Back: Size Queens
DESCRIPTION:Baby Got Back presents Size Queens – an incredible touring showcase of Australia’s top burlesque talent\, featuring Sugar du Joure! \nTime: 10pm
URL:https://ladyvelvetcabaret.com.au/event/sugar-performs-in-baby-got-back-size-queens-6/
LOCATION:The Edith Spiegeltent\, Yagan Square
CATEGORIES:LVC Performer at Event
ATTACH;FMTTYPE=image/jpeg:https://ladyvelvetcabaret.com.au/wp-content/uploads/2019/01/Baby-Got-Back.jpg
END:VEVENT
END:VCALENDAR