BEGIN:VCALENDAR
VERSION:2.0
PRODID:-//Lady Velvet Cabaret - ECPv6.0.9//NONSGML v1.0//EN
CALSCALE:GREGORIAN
METHOD:PUBLISH
X-WR-CALNAME:Lady Velvet Cabaret
X-ORIGINAL-URL:https://ladyvelvetcabaret.com.au
X-WR-CALDESC:Events for Lady Velvet Cabaret
REFRESH-INTERVAL;VALUE=DURATION:PT1H
X-Robots-Tag:noindex
X-PUBLISHED-TTL:PT1H
BEGIN:VTIMEZONE
TZID:Australia/Perth
BEGIN:STANDARD
TZOFFSETFROM:+0800
TZOFFSETTO:+0800
TZNAME:AWST
DTSTART:20190101T000000
END:STANDARD
END:VTIMEZONE
BEGIN:VEVENT
DTSTART;TZID=Australia/Perth:20190402T201500
DTEND;TZID=Australia/Perth:20190402T211500
DTSTAMP:20260420T010157
CREATED:20190212T104925Z
LAST-MODIFIED:20190212T104925Z
UID:4752-1554236100-1554239700@ladyvelvetcabaret.com.au
SUMMARY:Moulin Rouge! Burlesque Series Short Course
DESCRIPTION:Join prolific performer Sugar du Joure for a five week course filled with glamour\, sensuality\, fun and confidence! Step into the studio and learn everything from styling\, costuming\, persona\, stage presence and of course\, unique choreography. Suitable for dancers of all levels\, this course will have you falling in love with burlesque all over again\, and fees include your performance opportunity at our end of term graduation show.
URL:https://ladyvelvetcabaret.com.au/event/moulin-rouge-burlesque-series-short-course/
LOCATION:Lady Velvet Cabaret
CATEGORIES:Class or Workshop
ATTACH;FMTTYPE=image/jpeg:https://ladyvelvetcabaret.com.au/wp-content/uploads/2019/02/LVC-Moulin-Rouge-Instagram-4-.jpg
END:VEVENT
BEGIN:VEVENT
DTSTART;TZID=Australia/Perth:20190326T201500
DTEND;TZID=Australia/Perth:20190326T211500
DTSTAMP:20260420T010157
CREATED:20190121T050435Z
LAST-MODIFIED:20190122T065432Z
UID:4471-1553631300-1553634900@ladyvelvetcabaret.com.au
SUMMARY:COVEN Five Week Bellydance Course
DESCRIPTION:Join the sisterhood! Set your inner witchy woman free in this seductive five week bellydance course with Wild Kat!
URL:https://ladyvelvetcabaret.com.au/event/coven-five-week-bellydance-course-5/
LOCATION:Lady Velvet Cabaret
CATEGORIES:Class or Workshop
ATTACH;FMTTYPE=image/jpeg:https://ladyvelvetcabaret.com.au/wp-content/uploads/2019/01/LVC-Coven-Instagram.jpg
END:VEVENT
BEGIN:VEVENT
DTSTART;VALUE=DATE:20190323
DTEND;VALUE=DATE:20190324
DTSTAMP:20260420T010157
CREATED:20190318T063709Z
LAST-MODIFIED:20190318T063915Z
UID:5378-1553299200-1553385599@ladyvelvetcabaret.com.au
SUMMARY:Candy Cheeks roves at a special birthday celebration
DESCRIPTION:Candy Cheeks joins a team of professional performers roving and greeting guests at a special birthday celebration.
URL:https://ladyvelvetcabaret.com.au/event/candy-cheeks-roves-at-a-special-birthday-celebration/
LOCATION:Private home\, Peppermint Grove
CATEGORIES:LVC Performer at Event
ATTACH;FMTTYPE=image/jpeg:https://ladyvelvetcabaret.com.au/wp-content/uploads/2019/03/candy-cheeks-roves-at-a-special-birthday-celebration.jpg
END:VEVENT
BEGIN:VEVENT
DTSTART;TZID=Australia/Perth:20190319T201500
DTEND;TZID=Australia/Perth:20190319T211500
DTSTAMP:20260420T010157
CREATED:20190121T050427Z
LAST-MODIFIED:20190122T065316Z
UID:4474-1553026500-1553030100@ladyvelvetcabaret.com.au
SUMMARY:COVEN Five Week Bellydance Course
DESCRIPTION:Join the sisterhood! Set your inner witchy woman free in this seductive five week bellydance course with Wild Kat!
URL:https://ladyvelvetcabaret.com.au/event/coven-five-week-bellydance-course-4/
LOCATION:Lady Velvet Cabaret
CATEGORIES:Class or Workshop
ATTACH;FMTTYPE=image/jpeg:https://ladyvelvetcabaret.com.au/wp-content/uploads/2019/01/LVC-Coven-Instagram.jpg
END:VEVENT
BEGIN:VEVENT
DTSTART;VALUE=DATE:20190317
DTEND;VALUE=DATE:20190318
DTSTAMP:20260420T010157
CREATED:20190117T085531Z
LAST-MODIFIED:20190117T085531Z
UID:4435-1552780800-1552867199@ladyvelvetcabaret.com.au
SUMMARY:Sugar performs in Adelaide\, in Baby Got Back: Size Queens
DESCRIPTION:Sugar du Joure joins the cast of Baby Got Back for a national tour of Size Queens! Catch her performing at Adelaide Fringe 5-17 March. \nTime: 8:40pm
URL:https://ladyvelvetcabaret.com.au/event/sugar-performs-in-adelaide-in-baby-got-back-size-queens-11-3/
LOCATION:Gluttony
CATEGORIES:LVC Performer at Event
ATTACH;FMTTYPE=image/jpeg:https://ladyvelvetcabaret.com.au/wp-content/uploads/2019/01/Baby-Got-Back.jpg
END:VEVENT
BEGIN:VEVENT
DTSTART;VALUE=DATE:20190316
DTEND;VALUE=DATE:20190317
DTSTAMP:20260420T010157
CREATED:20190318T064708Z
LAST-MODIFIED:20190318T064708Z
UID:5384-1552694400-1552780799@ladyvelvetcabaret.com.au
SUMMARY:Candy Cheeks performs a Moulin Rouge-style solo at a private event
DESCRIPTION:Candy Cheeks performs a cancan-inspired solo for a special birthday celebration
URL:https://ladyvelvetcabaret.com.au/event/candy-cheeks-performs-a-moulin-rouge-style-solo-at-a-private-event/
LOCATION:Private home\, Doubleview
CATEGORIES:LVC Performer at Event
ATTACH;FMTTYPE=image/jpeg:https://ladyvelvetcabaret.com.au/wp-content/uploads/2019/03/candy-cheeks-performs-a-moulin-rouge-style-solo-at-a-private-event.jpg
END:VEVENT
BEGIN:VEVENT
DTSTART;VALUE=DATE:20190316
DTEND;VALUE=DATE:20190317
DTSTAMP:20260420T010157
CREATED:20190117T085527Z
LAST-MODIFIED:20190117T085527Z
UID:4434-1552694400-1552780799@ladyvelvetcabaret.com.au
SUMMARY:Sugar performs in Adelaide\, in Baby Got Back: Size Queens
DESCRIPTION:Sugar du Joure joins the cast of Baby Got Back for a national tour of Size Queens! Catch her performing at Adelaide Fringe 5-17 March. \nTime: 8:40pm
URL:https://ladyvelvetcabaret.com.au/event/sugar-performs-in-adelaide-in-baby-got-back-size-queens-11-2/
LOCATION:Gluttony
CATEGORIES:LVC Performer at Event
ATTACH;FMTTYPE=image/jpeg:https://ladyvelvetcabaret.com.au/wp-content/uploads/2019/01/Baby-Got-Back.jpg
END:VEVENT
BEGIN:VEVENT
DTSTART;VALUE=DATE:20190315
DTEND;VALUE=DATE:20190316
DTSTAMP:20260420T010157
CREATED:20190117T085512Z
LAST-MODIFIED:20190117T085512Z
UID:4432-1552608000-1552694399@ladyvelvetcabaret.com.au
SUMMARY:Sugar performs in Adelaide\, in Baby Got Back: Size Queens
DESCRIPTION:Sugar du Joure joins the cast of Baby Got Back for a national tour of Size Queens! Catch her performing at Adelaide Fringe 5-17 March. \nTime: 8:40pm
URL:https://ladyvelvetcabaret.com.au/event/sugar-performs-in-adelaide-in-baby-got-back-size-queens-11/
LOCATION:Gluttony
CATEGORIES:LVC Performer at Event
ATTACH;FMTTYPE=image/jpeg:https://ladyvelvetcabaret.com.au/wp-content/uploads/2019/01/Baby-Got-Back.jpg
END:VEVENT
BEGIN:VEVENT
DTSTART;VALUE=DATE:20190314
DTEND;VALUE=DATE:20190315
DTSTAMP:20260420T010157
CREATED:20190117T085433Z
LAST-MODIFIED:20190117T085433Z
UID:4430-1552521600-1552607999@ladyvelvetcabaret.com.au
SUMMARY:Sugar performs in Adelaide\, in Baby Got Back: Size Queens
DESCRIPTION:Sugar du Joure joins the cast of Baby Got Back for a national tour of Size Queens! Catch her performing at Adelaide Fringe 5-17 March. \nTime: 8:40pm
URL:https://ladyvelvetcabaret.com.au/event/sugar-performs-in-adelaide-in-baby-got-back-size-queens-10/
LOCATION:Gluttony
CATEGORIES:LVC Performer at Event
ATTACH;FMTTYPE=image/jpeg:https://ladyvelvetcabaret.com.au/wp-content/uploads/2019/01/Baby-Got-Back.jpg
END:VEVENT
BEGIN:VEVENT
DTSTART;VALUE=DATE:20190313
DTEND;VALUE=DATE:20190314
DTSTAMP:20260420T010157
CREATED:20190117T085423Z
LAST-MODIFIED:20190117T085423Z
UID:4428-1552435200-1552521599@ladyvelvetcabaret.com.au
SUMMARY:Sugar performs in Adelaide\, in Baby Got Back: Size Queens
DESCRIPTION:Sugar du Joure joins the cast of Baby Got Back for a national tour of Size Queens! Catch her performing at Adelaide Fringe 5-17 March. \nTime: 8:40pm
URL:https://ladyvelvetcabaret.com.au/event/sugar-performs-in-adelaide-in-baby-got-back-size-queens-9/
LOCATION:Gluttony
CATEGORIES:LVC Performer at Event
ATTACH;FMTTYPE=image/jpeg:https://ladyvelvetcabaret.com.au/wp-content/uploads/2019/01/Baby-Got-Back.jpg
END:VEVENT
BEGIN:VEVENT
DTSTART;TZID=Australia/Perth:20190312T201500
DTEND;TZID=Australia/Perth:20190312T211500
DTSTAMP:20260420T010157
CREATED:20190121T050418Z
LAST-MODIFIED:20190122T065013Z
UID:4473-1552421700-1552425300@ladyvelvetcabaret.com.au
SUMMARY:COVEN Five Week Bellydance Course
DESCRIPTION:Join the sisterhood! Set your inner witchy woman free in this seductive five week bellydance course with Wild Kat!
URL:https://ladyvelvetcabaret.com.au/event/coven-five-week-bellydance-course-3/
LOCATION:Lady Velvet Cabaret
CATEGORIES:Class or Workshop
ATTACH;FMTTYPE=image/jpeg:https://ladyvelvetcabaret.com.au/wp-content/uploads/2019/01/LVC-Coven-Instagram.jpg
END:VEVENT
BEGIN:VEVENT
DTSTART;VALUE=DATE:20190312
DTEND;VALUE=DATE:20190313
DTSTAMP:20260420T010157
CREATED:20190117T085343Z
LAST-MODIFIED:20190117T085343Z
UID:4426-1552348800-1552435199@ladyvelvetcabaret.com.au
SUMMARY:Sugar performs in Adelaide\, in Baby Got Back: Size Queens
DESCRIPTION:Sugar du Joure joins the cast of Baby Got Back for a national tour of Size Queens! Catch her performing at Adelaide Fringe 5-17 March. \nTime: 8:40pm
URL:https://ladyvelvetcabaret.com.au/event/sugar-performs-in-adelaide-in-baby-got-back-size-queens-8/
LOCATION:Gluttony
CATEGORIES:LVC Performer at Event
ATTACH;FMTTYPE=image/jpeg:https://ladyvelvetcabaret.com.au/wp-content/uploads/2019/01/Baby-Got-Back.jpg
END:VEVENT
BEGIN:VEVENT
DTSTART;VALUE=DATE:20190310
DTEND;VALUE=DATE:20190311
DTSTAMP:20260420T010157
CREATED:20190117T085316Z
LAST-MODIFIED:20190117T085316Z
UID:4422-1552176000-1552262399@ladyvelvetcabaret.com.au
SUMMARY:Sugar performs in Adelaide\, in Baby Got Back: Size Queens
DESCRIPTION:Sugar du Joure joins the cast of Baby Got Back for a national tour of Size Queens! Catch her performing at Adelaide Fringe 5-17 March. \nTime: 8:40pm
URL:https://ladyvelvetcabaret.com.au/event/sugar-performs-in-adelaide-in-baby-got-back-size-queens-6/
LOCATION:Gluttony
CATEGORIES:LVC Performer at Event
ATTACH;FMTTYPE=image/jpeg:https://ladyvelvetcabaret.com.au/wp-content/uploads/2019/01/Baby-Got-Back.jpg
END:VEVENT
BEGIN:VEVENT
DTSTART;VALUE=DATE:20190309
DTEND;VALUE=DATE:20190310
DTSTAMP:20260420T010157
CREATED:20190117T085304Z
LAST-MODIFIED:20190117T085304Z
UID:4420-1552089600-1552175999@ladyvelvetcabaret.com.au
SUMMARY:Sugar performs in Adelaide\, in Baby Got Back: Size Queens
DESCRIPTION:Sugar du Joure joins the cast of Baby Got Back for a national tour of Size Queens! Catch her performing at Adelaide Fringe 5-17 March. \nTime: 8:40pm
URL:https://ladyvelvetcabaret.com.au/event/sugar-performs-in-adelaide-in-baby-got-back-size-queens-5/
LOCATION:Gluttony
CATEGORIES:LVC Performer at Event
ATTACH;FMTTYPE=image/jpeg:https://ladyvelvetcabaret.com.au/wp-content/uploads/2019/01/Baby-Got-Back.jpg
END:VEVENT
BEGIN:VEVENT
DTSTART;VALUE=DATE:20190308
DTEND;VALUE=DATE:20190309
DTSTAMP:20260420T010157
CREATED:20190117T085252Z
LAST-MODIFIED:20190117T085252Z
UID:4418-1552003200-1552089599@ladyvelvetcabaret.com.au
SUMMARY:Sugar performs in Adelaide\, in Baby Got Back: Size Queens
DESCRIPTION:Sugar du Joure joins the cast of Baby Got Back for a national tour of Size Queens! Catch her performing at Adelaide Fringe 5-17 March. \nTime: 8:40pm
URL:https://ladyvelvetcabaret.com.au/event/sugar-performs-in-adelaide-in-baby-got-back-size-queens-4/
LOCATION:Gluttony
CATEGORIES:LVC Performer at Event
ATTACH;FMTTYPE=image/jpeg:https://ladyvelvetcabaret.com.au/wp-content/uploads/2019/01/Baby-Got-Back.jpg
END:VEVENT
BEGIN:VEVENT
DTSTART;VALUE=DATE:20190307
DTEND;VALUE=DATE:20190308
DTSTAMP:20260420T010157
CREATED:20190117T085241Z
LAST-MODIFIED:20190117T085241Z
UID:4416-1551916800-1552003199@ladyvelvetcabaret.com.au
SUMMARY:Sugar performs in Adelaide\, in Baby Got Back: Size Queens
DESCRIPTION:Sugar du Joure joins the cast of Baby Got Back for a national tour of Size Queens! Catch her performing at Adelaide Fringe 5-17 March. \nTime: 8:40pm
URL:https://ladyvelvetcabaret.com.au/event/sugar-performs-in-adelaide-in-baby-got-back-size-queens-3/
LOCATION:Gluttony
CATEGORIES:LVC Performer at Event
ATTACH;FMTTYPE=image/jpeg:https://ladyvelvetcabaret.com.au/wp-content/uploads/2019/01/Baby-Got-Back.jpg
END:VEVENT
BEGIN:VEVENT
DTSTART;VALUE=DATE:20190306
DTEND;VALUE=DATE:20190307
DTSTAMP:20260420T010157
CREATED:20190117T085229Z
LAST-MODIFIED:20190117T085229Z
UID:4414-1551830400-1551916799@ladyvelvetcabaret.com.au
SUMMARY:Sugar performs in Adelaide\, in Baby Got Back: Size Queens
DESCRIPTION:Sugar du Joure joins the cast of Baby Got Back for a national tour of Size Queens! Catch her performing at Adelaide Fringe 5-17 March. \nTime: 8:40pm
URL:https://ladyvelvetcabaret.com.au/event/sugar-performs-in-adelaide-in-baby-got-back-size-queens-2/
LOCATION:Gluttony
CATEGORIES:LVC Performer at Event
ATTACH;FMTTYPE=image/jpeg:https://ladyvelvetcabaret.com.au/wp-content/uploads/2019/01/Baby-Got-Back.jpg
END:VEVENT
BEGIN:VEVENT
DTSTART;TZID=Australia/Perth:20190305T201500
DTEND;TZID=Australia/Perth:20190305T211500
DTSTAMP:20260420T010157
CREATED:20190121T050407Z
LAST-MODIFIED:20190122T064831Z
UID:4472-1551816900-1551820500@ladyvelvetcabaret.com.au
SUMMARY:COVEN Five Week Bellydance Course
DESCRIPTION:Join the sisterhood! Set your inner witchy woman free in this seductive five week bellydance course with Wild Kat!
URL:https://ladyvelvetcabaret.com.au/event/coven-five-week-bellydance-course-2/
LOCATION:Lady Velvet Cabaret
CATEGORIES:Class or Workshop
ATTACH;FMTTYPE=image/jpeg:https://ladyvelvetcabaret.com.au/wp-content/uploads/2019/01/LVC-Coven-Instagram.jpg
END:VEVENT
BEGIN:VEVENT
DTSTART;VALUE=DATE:20190305
DTEND;VALUE=DATE:20190306
DTSTAMP:20260420T010157
CREATED:20190117T085156Z
LAST-MODIFIED:20190117T085455Z
UID:4409-1551744000-1551830399@ladyvelvetcabaret.com.au
SUMMARY:Sugar performs in Adelaide\, in Baby Got Back: Size Queens
DESCRIPTION:Sugar du Joure joins the cast of Baby Got Back for a national tour of Size Queens! Catch her performing at Adelaide Fringe 5-17 March. \nTime: 8:40pm
URL:https://ladyvelvetcabaret.com.au/event/sugar-performs-in-adelaide-in-baby-got-back-size-queens/
LOCATION:Gluttony
CATEGORIES:LVC Performer at Event
ATTACH;FMTTYPE=image/jpeg:https://ladyvelvetcabaret.com.au/wp-content/uploads/2019/01/Baby-Got-Back.jpg
END:VEVENT
BEGIN:VEVENT
DTSTART;TZID=Australia/Perth:20190302T183000
DTEND;TZID=Australia/Perth:20190302T230000
DTSTAMP:20260420T010157
CREATED:20190301T050705Z
LAST-MODIFIED:20190301T050705Z
UID:4960-1551551400-1551567600@ladyvelvetcabaret.com.au
SUMMARY:Lucinda performs at Adventureworld Fright Nights
DESCRIPTION:Lucinda Panties plays the character of Gladys the nasty lunch lady at Adventureworld’s Fright Nights event!
URL:https://ladyvelvetcabaret.com.au/event/lucinda-performs-at-adventureworld-fright-nights-2/
LOCATION:AdventureWorld
CATEGORIES:LVC Performer at Event
ATTACH;FMTTYPE=image/jpeg:https://ladyvelvetcabaret.com.au/wp-content/uploads/2019/03/50946110_10156777409559564_4853991550528520192_n.jpg
END:VEVENT
BEGIN:VEVENT
DTSTART;TZID=Australia/Perth:20190301T183000
DTEND;TZID=Australia/Perth:20190301T230000
DTSTAMP:20260420T010157
CREATED:20190301T050710Z
LAST-MODIFIED:20190301T050710Z
UID:4961-1551465000-1551481200@ladyvelvetcabaret.com.au
SUMMARY:Lucinda performs at Adventureworld Fright Nights
DESCRIPTION:Lucinda Panties plays the character of Gladys the nasty lunch lady at Adventureworld’s Fright Nights event!
URL:https://ladyvelvetcabaret.com.au/event/lucinda-performs-at-adventureworld-fright-nights-3/
LOCATION:AdventureWorld
CATEGORIES:LVC Performer at Event
ATTACH;FMTTYPE=image/jpeg:https://ladyvelvetcabaret.com.au/wp-content/uploads/2019/03/50946110_10156777409559564_4853991550528520192_n.jpg
END:VEVENT
BEGIN:VEVENT
DTSTART;TZID=Australia/Perth:20190226T201500
DTEND;TZID=Australia/Perth:20190226T211500
DTSTAMP:20260420T010157
CREATED:20190121T050154Z
LAST-MODIFIED:20190122T064606Z
UID:4468-1551212100-1551215700@ladyvelvetcabaret.com.au
SUMMARY:COVEN Five Week Bellydance Course
DESCRIPTION:Join the sisterhood! Set your inner witchy woman free in this seductive five week bellydance course with Wild Kat!
URL:https://ladyvelvetcabaret.com.au/event/coven-five-week-bellydance-course/
LOCATION:Lady Velvet Cabaret
CATEGORIES:Class or Workshop
ATTACH;FMTTYPE=image/jpeg:https://ladyvelvetcabaret.com.au/wp-content/uploads/2019/01/LVC-Coven-Instagram.jpg
END:VEVENT
BEGIN:VEVENT
DTSTART;TZID=Australia/Perth:20190224T130000
DTEND;TZID=Australia/Perth:20190224T160000
DTSTAMP:20260420T010157
CREATED:20190121T055537Z
LAST-MODIFIED:20190121T055537Z
UID:4479-1551013200-1551024000@ladyvelvetcabaret.com.au
SUMMARY:Tiki Time! Vintage Pinup Workshop (On Location)
DESCRIPTION:Join us for our first Pinup workshop for 2019\, ON LOCATION at Tiki As Fk!
URL:https://ladyvelvetcabaret.com.au/event/tiki-time-vintage-pinup-workshop-on-location/
LOCATION:Tiki As Fk\, 91a James St\, Northbridge WA 6003
CATEGORIES:Class or Workshop
ATTACH;FMTTYPE=image/jpeg:https://ladyvelvetcabaret.com.au/wp-content/uploads/2019/01/LVC-Tiki-Time.jpg
END:VEVENT
BEGIN:VEVENT
DTSTART;TZID=Australia/Perth:20190223T183000
DTEND;TZID=Australia/Perth:20190223T230000
DTSTAMP:20260420T010157
CREATED:20190301T050713Z
LAST-MODIFIED:20190301T050713Z
UID:4962-1550946600-1550962800@ladyvelvetcabaret.com.au
SUMMARY:Lucinda performs at Adventureworld Fright Nights
DESCRIPTION:Lucinda Panties plays the character of Gladys the nasty lunch lady at Adventureworld’s Fright Nights event!
URL:https://ladyvelvetcabaret.com.au/event/lucinda-performs-at-adventureworld-fright-nights-4/
LOCATION:AdventureWorld
CATEGORIES:LVC Performer at Event
ATTACH;FMTTYPE=image/jpeg:https://ladyvelvetcabaret.com.au/wp-content/uploads/2019/03/50946110_10156777409559564_4853991550528520192_n.jpg
END:VEVENT
BEGIN:VEVENT
DTSTART;TZID=Australia/Perth:20190223T150000
DTEND;TZID=Australia/Perth:20190223T170000
DTSTAMP:20260420T010157
CREATED:20190129T101718Z
LAST-MODIFIED:20190129T101718Z
UID:4648-1550934000-1550941200@ladyvelvetcabaret.com.au
SUMMARY:Wild Kat & Ginger Snaps rove at The Marina Mindarie for Chilli Fest 2019!
DESCRIPTION:Our gorgeous blonde sailor girls will be hitting the Mindarie Chilli Fest! Catch them on the boardwalk\, or helping judge the chilli-eating contest! \nEvent Cost: FREE
URL:https://ladyvelvetcabaret.com.au/event/wild-kat-ginger-snaps-rove-at-the-marina-mindarie-for-chilli-fest-2019/
LOCATION:The Marina Mindarie
CATEGORIES:LVC Performer at Event
ATTACH;FMTTYPE=image/jpeg:https://ladyvelvetcabaret.com.au/wp-content/uploads/2019/01/chilifest2018-118.jpg
END:VEVENT
BEGIN:VEVENT
DTSTART;TZID=Australia/Perth:20190222T183000
DTEND;TZID=Australia/Perth:20190222T230000
DTSTAMP:20260420T010157
CREATED:20190301T045633Z
LAST-MODIFIED:20190301T045633Z
UID:4955-1550860200-1550876400@ladyvelvetcabaret.com.au
SUMMARY:Lucinda performs at Adventureworld Fright Nights
DESCRIPTION:Lucinda Panties plays the character of Gladys the nasty lunch lady at Adventureworld’s Fright Nights event!
URL:https://ladyvelvetcabaret.com.au/event/lucinda-performs-at-adventureworld-fright-nights/
LOCATION:AdventureWorld
CATEGORIES:LVC Performer at Event
ATTACH;FMTTYPE=image/jpeg:https://ladyvelvetcabaret.com.au/wp-content/uploads/2019/03/50946110_10156777409559564_4853991550528520192_n.jpg
END:VEVENT
BEGIN:VEVENT
DTSTART;VALUE=DATE:20190217
DTEND;VALUE=DATE:20190218
DTSTAMP:20260420T010157
CREATED:20190117T091251Z
LAST-MODIFIED:20190117T091251Z
UID:4449-1550361600-1550447999@ladyvelvetcabaret.com.au
SUMMARY:Sugar performs in Instinct
DESCRIPTION:Sugar du Joure hosts Instinct\, presented by Sugar Blue Burlesque at Perth’s Fringe World Festival. \nTime: 9:45pm
URL:https://ladyvelvetcabaret.com.au/event/sugar-performs-in-instinct-6/
LOCATION:De Parel Spiegeltent\, The Woodside Pleasure Garden
CATEGORIES:LVC Performer at Event
ATTACH;FMTTYPE=image/jpeg:https://ladyvelvetcabaret.com.au/wp-content/uploads/2019/01/Instinct-Promo.jpg
END:VEVENT
BEGIN:VEVENT
DTSTART;TZID=Australia/Perth:20190216T231500
DTEND;TZID=Australia/Perth:20190217T000000
DTSTAMP:20260420T010157
CREATED:20190121T075229Z
LAST-MODIFIED:20190121T075229Z
UID:4513-1550358900-1550361600@ladyvelvetcabaret.com.au
SUMMARY:Malaika performs in Whisky's Night Cap
DESCRIPTION:Malaika Moon stars in Whisky’s Night Cap\, presented by Whisky A’More Entertainment
URL:https://ladyvelvetcabaret.com.au/event/malaika-performs-in-whiskys-night-cap-4/
LOCATION:Fringe World
CATEGORIES:LVC Performer at Event
ATTACH;FMTTYPE=image/jpeg:https://ladyvelvetcabaret.com.au/wp-content/uploads/2019/01/50851653_254507588804419_1706322401404387328_n.jpg
END:VEVENT
BEGIN:VEVENT
DTSTART;TZID=Australia/Perth:20190216T203000
DTEND;TZID=Australia/Perth:20190216T213000
DTSTAMP:20260420T010157
CREATED:20190123T041826Z
LAST-MODIFIED:20190123T041826Z
UID:4568-1550349000-1550352600@ladyvelvetcabaret.com.au
SUMMARY:Lola performs in Underemployment at Fringe World
DESCRIPTION:Lola Moore stars in her original one woman show Underemployment at Fringe World
URL:https://ladyvelvetcabaret.com.au/event/lola-performs-in-underemployment-at-fringe-world-4/
LOCATION:Fringe World
CATEGORIES:LVC Performer at Event
ATTACH;FMTTYPE=image/jpeg:https://ladyvelvetcabaret.com.au/wp-content/uploads/2019/01/50306230_332056374315317_3863381021860823040_n.jpg
END:VEVENT
BEGIN:VEVENT
DTSTART;TZID=Australia/Perth:20190216T193000
DTEND;TZID=Australia/Perth:20190216T203000
DTSTAMP:20260420T010157
CREATED:20190121T063659Z
LAST-MODIFIED:20190121T063659Z
UID:4490-1550345400-1550349000@ladyvelvetcabaret.com.au
SUMMARY:Malaika performs in Sugar Blue Shakedown
DESCRIPTION:LVC star Malaika Moon performs in Sugar Blue Shakedown\, presented by Sugar Blue Burlesque
URL:https://ladyvelvetcabaret.com.au/event/malaika-performs-in-sugar-blue-shakedown-5/
LOCATION:Connections Nightclub
CATEGORIES:LVC Performer at Event
ATTACH;FMTTYPE=image/jpeg:https://ladyvelvetcabaret.com.au/wp-content/uploads/2019/01/sugar-blue-shakedown.jpg
END:VEVENT
END:VCALENDAR