BEGIN:VCALENDAR
VERSION:2.0
PRODID:-//Lady Velvet Cabaret - ECPv6.0.9//NONSGML v1.0//EN
CALSCALE:GREGORIAN
METHOD:PUBLISH
X-ORIGINAL-URL:https://ladyvelvetcabaret.com.au
X-WR-CALDESC:Events for Lady Velvet Cabaret
REFRESH-INTERVAL;VALUE=DURATION:PT1H
X-Robots-Tag:noindex
X-PUBLISHED-TTL:PT1H
BEGIN:VTIMEZONE
TZID:Australia/Perth
BEGIN:STANDARD
TZOFFSETFROM:+0800
TZOFFSETTO:+0800
TZNAME:AWST
DTSTART:20200101T000000
END:STANDARD
END:VTIMEZONE
BEGIN:VEVENT
DTSTART;VALUE=DATE:20201017
DTEND;VALUE=DATE:20201018
DTSTAMP:20260420T031651
CREATED:20201022T082828Z
LAST-MODIFIED:20201022T083231Z
UID:9986-1602892800-1602979199@ladyvelvetcabaret.com.au
SUMMARY:Lotta L'Amour performs in Cabaret de Paris at Crown Perth
DESCRIPTION:Lotta takes to the stage to bring a touch of Paris to Perth!
URL:https://ladyvelvetcabaret.com.au/event/lotta-lamour-performs-in-cabaret-de-paris-at-crown-perth-3/
LOCATION:Crown Perth
CATEGORIES:LVC Performer at Event
ATTACH;FMTTYPE=image/jpeg:https://ladyvelvetcabaret.com.au/wp-content/uploads/2020/10/maxresdefault.jpg
END:VEVENT
BEGIN:VEVENT
DTSTART;TZID=Australia/Perth:20201024T223000
DTEND;TZID=Australia/Perth:20201024T235500
DTSTAMP:20260420T031651
CREATED:20201022T075830Z
LAST-MODIFIED:20201022T080036Z
UID:9973-1603578600-1603583700@ladyvelvetcabaret.com.au
SUMMARY:Lucinda Panties hosts the PIBF Afterparty
DESCRIPTION:Lucinda Panties will be hosting and performing at the Glitter Crash afterparty for Perth Burlesque Festival!
URL:https://ladyvelvetcabaret.com.au/event/lucinda-panties-hosts-the-pibf-afterparty/
LOCATION:Connections Nightclub
CATEGORIES:LVC Performer at Event
ATTACH;FMTTYPE=image/jpeg:https://ladyvelvetcabaret.com.au/wp-content/uploads/2020/10/119456501_5100346556657433_7213197687780446714_o.jpg
END:VEVENT
BEGIN:VEVENT
DTSTART;TZID=Australia/Perth:20201031T160000
DTEND;TZID=Australia/Perth:20201031T190000
DTSTAMP:20260420T031651
CREATED:20201022T070018Z
LAST-MODIFIED:20201022T070018Z
UID:9960-1604160000-1604170800@ladyvelvetcabaret.com.au
SUMMARY:Malaika Moon performs in The Big Tease Gala
DESCRIPTION:From the Facebook event – Streamed Live is a night of glamorous classic tease and modern neo-burlesque that will dazzle\, delight and stimulate the senses! The online show will consist of some of the best and most entertaining international and local burlesque performers. \nJoin us in celebrating traditional Bump n’ Grind\, vintage-flavoured tease\, sizzling cabaret and variety entertainment! \nBe delighted\, tantalised and pleasantly entertained as you experience jaw-dropping glamour and high quality shows from leading stars of the stage.
URL:https://ladyvelvetcabaret.com.au/event/malaika-moon-performs-in-the-big-tease-gala/
LOCATION:Streamed Live on Zoom
CATEGORIES:LVC Performer at Event
ATTACH;FMTTYPE=image/jpeg:https://ladyvelvetcabaret.com.au/wp-content/uploads/2020/10/122156327_1903509719788904_8795970796360211711_n.jpg
END:VEVENT
BEGIN:VEVENT
DTSTART;TZID=Australia/Perth:20201031T190000
DTEND;TZID=Australia/Perth:20201031T210000
DTSTAMP:20260420T031651
CREATED:20201110T063233Z
LAST-MODIFIED:20201110T063233Z
UID:10150-1604170800-1604178000@ladyvelvetcabaret.com.au
SUMMARY:LVC Showgirls roving at private event
DESCRIPTION:Two LVC Showgirls will add some sparkle to a special birthday at the Crystal Villas at Crown Towers\, Perth
URL:https://ladyvelvetcabaret.com.au/event/lvc-showgirls-roving-at-private-event-2/
LOCATION:Crown Towers
CATEGORIES:LVC Performer at Event
ATTACH;FMTTYPE=image/jpeg:https://ladyvelvetcabaret.com.au/wp-content/uploads/2020/11/Showgirl-Fan.jpg
END:VEVENT
BEGIN:VEVENT
DTSTART;TZID=Australia/Perth:20201110T201500
DTEND;TZID=Australia/Perth:20201110T211500
DTSTAMP:20260420T031651
CREATED:20201026T071004Z
LAST-MODIFIED:20201026T071004Z
UID:10011-1605039300-1605042900@ladyvelvetcabaret.com.au
SUMMARY:Tricks of the Trade with Sugar du Joure
DESCRIPTION:Sugar du Joure’s final six week course for 2020!
URL:https://ladyvelvetcabaret.com.au/event/tricks-of-the-trade-with-sugar-du-joure/
LOCATION:Lady Velvet Cabaret
CATEGORIES:Class or Workshop
ATTACH;FMTTYPE=image/jpeg:https://ladyvelvetcabaret.com.au/wp-content/uploads/2020/10/LVC-Tricks-of-the-Trade-Instagram-SQUARE-v1.jpg
END:VEVENT
BEGIN:VEVENT
DTSTART;TZID=Australia/Perth:20201111T193000
DTEND;TZID=Australia/Perth:20201111T213000
DTSTAMP:20260420T031651
CREATED:20201110T061825Z
LAST-MODIFIED:20201110T061825Z
UID:10142-1605123000-1605130200@ladyvelvetcabaret.com.au
SUMMARY:LVC Showgirls roving at private event
DESCRIPTION:Two LVC Showgirls will add some sparkle to a Casino night event at the Joondalup Resort
URL:https://ladyvelvetcabaret.com.au/event/lvc-showgirls-roving-at-private-event/
LOCATION:Joondalup Resort
CATEGORIES:LVC Performer at Event
ATTACH;FMTTYPE=image/jpeg:https://ladyvelvetcabaret.com.au/wp-content/uploads/2020/11/VegasShowgirl.jpg
END:VEVENT
BEGIN:VEVENT
DTSTART;TZID=Australia/Perth:20201113T223000
DTEND;TZID=Australia/Perth:20201113T235900
DTSTAMP:20260420T031651
CREATED:20201022T072341Z
LAST-MODIFIED:20201023T033545Z
UID:9965-1605306600-1605311940@ladyvelvetcabaret.com.au
SUMMARY:Malaika Moon performs in I’m With The Banned SOLD OUT
DESCRIPTION:BANNED /ban/ \nverb / bænd / \n________________ \nI’m with the BANNED – SPOOKY EDITION \nWelcome to our jungle… they call it the house of the rising sun. Like the great mother said\, I don’t give a damn ’bout my bad reputation\, so come and be a rock star for the night\, and maybe the next morning…. \nWe’re serving you late night rock & roll \, wrapped in cabaret chaos. Expect sparkly burlesque dancers\, bendy circus stars\, sideshow freaks\, & drag performers shaking you all night long! Catch them at and on the bar\, where drinks are stiff\, the music is loud\, and the only way in is by saying “I’m with the BANNED.” \nWe are the people that can find whatever you may need\, and we’re gonna rock and roll all night\, and party every day. \nSo why don’t you walk this way\, because we’ve got what you want\, and one way or another\, we’re gonna get ya\, get ya\, get ya\, get ya. \n~ BANNED members ~ \nNot just yet… \n~ GOGO dancers ~ \nKeep your eyes peeled… \n________________________
URL:https://ladyvelvetcabaret.com.au/event/malaika-moon-performs-in-im-with-the-banned-sold-out/
LOCATION:The Ellington Jazz Club
CATEGORIES:LVC Performer at Event
ATTACH;FMTTYPE=image/png:https://ladyvelvetcabaret.com.au/wp-content/uploads/2020/10/121456101_373280110522931_9106144394082933503_n.png
END:VEVENT
BEGIN:VEVENT
DTSTART;TZID=Australia/Perth:20201117T201500
DTEND;TZID=Australia/Perth:20201117T211500
DTSTAMP:20260420T031651
CREATED:20201026T071114Z
LAST-MODIFIED:20201026T071114Z
UID:10014-1605644100-1605647700@ladyvelvetcabaret.com.au
SUMMARY:Tricks of the Trade with Sugar du Joure
DESCRIPTION:Sugar du Joure’s final six week course for 2020!
URL:https://ladyvelvetcabaret.com.au/event/tricks-of-the-trade-with-sugar-du-joure-2/
LOCATION:Lady Velvet Cabaret
CATEGORIES:Class or Workshop
ATTACH;FMTTYPE=image/jpeg:https://ladyvelvetcabaret.com.au/wp-content/uploads/2020/10/LVC-Tricks-of-the-Trade-Instagram-SQUARE-v1.jpg
END:VEVENT
BEGIN:VEVENT
DTSTART;TZID=Australia/Perth:20201120T200000
DTEND;TZID=Australia/Perth:20201120T200000
DTSTAMP:20260420T031651
CREATED:20201022T074636Z
LAST-MODIFIED:20201022T074636Z
UID:9969-1605902400-1605902400@ladyvelvetcabaret.com.au
SUMMARY:Malaika Moon performs in Burlezque: Spellbound! (Encore)
DESCRIPTION:The queer collective BurLEZque is back with an encore performance of their bewitching\, award-winning show\, Spellbound! \nGrab your ouija board and settle in for a spooky sleepover as we summon otherworldly creatures in a breathtaking spectacle unlike anything you’ve ever seen from your fave queer girl gang. Surrender to your darkest fantasies\, shed your skin and release your fears as we join together to step into our power. \nA dynamic showcase of Perth’s best queer-femme burlesque performers\, BurLEZque presents work for queers\, by queers. BurLEZque strives to empower audiences through thought-provoking entertainment and LGBTQIA+ representation within our community. \nCome into our world as we explore sexuality\, sensuality\, and the magic of desire. \n★★★★★ “This is a show fizzing with so much creativity and energy\, that catching it even at full price is a bargain.” – FringeFeed 2020 \n“The troupe on everyone’s lips is BurLEZque… some of the highest quality burlesque in Australia.” – Dollar Dazzler\, 2020
URL:https://ladyvelvetcabaret.com.au/event/malaika-moon-performs-in-burlezque-spellbound-encore/
LOCATION:Connections Nightclub
CATEGORIES:LVC Performer at Event
ATTACH;FMTTYPE=image/jpeg:https://ladyvelvetcabaret.com.au/wp-content/uploads/2020/10/122098238_1057202278056594_8128528994162736656_n.jpg
END:VEVENT
BEGIN:VEVENT
DTSTART;TZID=Australia/Perth:20201124T201500
DTEND;TZID=Australia/Perth:20201124T211500
DTSTAMP:20260420T031651
CREATED:20201026T071738Z
LAST-MODIFIED:20201026T072333Z
UID:10016-1606248900-1606252500@ladyvelvetcabaret.com.au
SUMMARY:Tricks of the Trade with Sugar du Joure
DESCRIPTION:Sugar du Joure’s final six week course for 2020!
URL:https://ladyvelvetcabaret.com.au/event/tricks-of-the-trade-with-sugar-du-joure-3/
LOCATION:Lady Velvet Cabaret
CATEGORIES:Class or Workshop
ATTACH;FMTTYPE=image/jpeg:https://ladyvelvetcabaret.com.au/wp-content/uploads/2020/10/LVC-Tricks-of-the-Trade-Instagram-SQUARE-v1.jpg
END:VEVENT
BEGIN:VEVENT
DTSTART;TZID=Australia/Perth:20201128T200000
DTEND;TZID=Australia/Perth:20201128T210000
DTSTAMP:20260420T031651
CREATED:20201110T061958Z
LAST-MODIFIED:20201110T061958Z
UID:10147-1606593600-1606597200@ladyvelvetcabaret.com.au
SUMMARY:Cece Desist performs at a Private Event
DESCRIPTION:Cece Desist performs a song & dance number at a spectacular Priscilla-themed private party
URL:https://ladyvelvetcabaret.com.au/event/cece-desist-performs-at-a-private-event/
LOCATION:Private Event
CATEGORIES:LVC Performer at Event
ATTACH;FMTTYPE=image/jpeg:https://ladyvelvetcabaret.com.au/wp-content/uploads/2020/11/CECE-YOUTUBE.jpg
END:VEVENT
BEGIN:VEVENT
DTSTART;TZID=Australia/Perth:20201201T201500
DTEND;TZID=Australia/Perth:20201201T211500
DTSTAMP:20260420T031651
CREATED:20201026T072549Z
LAST-MODIFIED:20201026T072549Z
UID:10018-1606853700-1606857300@ladyvelvetcabaret.com.au
SUMMARY:Tricks of the Trade with Sugar du Joure
DESCRIPTION:Sugar du Joure’s final six week course for 2020!
URL:https://ladyvelvetcabaret.com.au/event/tricks-of-the-trade-with-sugar-du-joure-4/
LOCATION:Lady Velvet Cabaret
CATEGORIES:Class or Workshop
ATTACH;FMTTYPE=image/jpeg:https://ladyvelvetcabaret.com.au/wp-content/uploads/2020/10/LVC-Tricks-of-the-Trade-Instagram-SQUARE-v1.jpg
END:VEVENT
BEGIN:VEVENT
DTSTART;TZID=Australia/Perth:20201204T223000
DTEND;TZID=Australia/Perth:20201204T223000
DTSTAMP:20260420T031651
CREATED:20201118T025622Z
LAST-MODIFIED:20201126T073054Z
UID:10208-1607121000-1607121000@ladyvelvetcabaret.com.au
SUMMARY:Lotta L'Amour performs in Cleo's Big Gay Cabaret
DESCRIPTION:A glorious night of cabaret\, burlesque\, drag and all things queer! 
URL:https://ladyvelvetcabaret.com.au/event/cleos-big-gay-cabaret/
LOCATION:The Ellington Jazz Club
CATEGORIES:LVC Performer at Event
ATTACH;FMTTYPE=image/jpeg:https://ladyvelvetcabaret.com.au/wp-content/uploads/2020/11/Lotta.jpg
END:VEVENT
BEGIN:VEVENT
DTSTART;TZID=Australia/Perth:20201206T080000
DTEND;TZID=Australia/Perth:20201206T163000
DTSTAMP:20260420T031651
CREATED:20200819T142626Z
LAST-MODIFIED:20200819T142626Z
UID:9565-1607241600-1607272200@ladyvelvetcabaret.com.au
SUMMARY:Dress Rehearsal & Photo Day
DESCRIPTION:The dress rehearsal and photo portrait day for the 2020 End of Year Concert
URL:https://ladyvelvetcabaret.com.au/event/dress-rehearsal-photo-day/
LOCATION:Lady Velvet Cabaret
CATEGORIES:Class or Workshop
END:VEVENT
BEGIN:VEVENT
DTSTART;TZID=Australia/Perth:20201208T201500
DTEND;TZID=Australia/Perth:20201208T211500
DTSTAMP:20260420T031651
CREATED:20201026T073430Z
LAST-MODIFIED:20201026T073430Z
UID:10020-1607458500-1607462100@ladyvelvetcabaret.com.au
SUMMARY:Tricks of the Trade with Sugar du Joure
DESCRIPTION:Sugar du Joure’s final six week course for 2020!
URL:https://ladyvelvetcabaret.com.au/event/tricks-of-the-trade-with-sugar-du-joure-5/
LOCATION:Lady Velvet Cabaret
CATEGORIES:Class or Workshop
ATTACH;FMTTYPE=image/jpeg:https://ladyvelvetcabaret.com.au/wp-content/uploads/2020/10/LVC-Tricks-of-the-Trade-Instagram-SQUARE-v1.jpg
END:VEVENT
BEGIN:VEVENT
DTSTART;TZID=Australia/Perth:20201210T190000
DTEND;TZID=Australia/Perth:20201210T210000
DTSTAMP:20260420T031651
CREATED:20201126T021411Z
LAST-MODIFIED:20201126T021411Z
UID:10271-1607626800-1607634000@ladyvelvetcabaret.com.au
SUMMARY:Christmas Karaoke at the Subiaco Xmas Frolics event
DESCRIPTION:Lucinda will be hosting a special evening of Christmas karaoke at The Regal Theatre\, as part of the Subiaco Xmas Frolics event for 2020. Stop by and belt out your favourite festive hits – let’s get merry!
URL:https://ladyvelvetcabaret.com.au/event/christmas-karaoke-at-the-subiaco-xmas-frolics-event/
LOCATION:The Regal Theatre\, 474 Hay Street Subiaco WA 6008
CATEGORIES:LVC Performer at Event
ATTACH;FMTTYPE=image/jpeg:https://ladyvelvetcabaret.com.au/wp-content/uploads/2020/11/Xmas-Frolics-in-Subi-E-signature-1.jpg
END:VEVENT
BEGIN:VEVENT
DTSTART;TZID=Australia/Perth:20201212T230000
DTEND;TZID=Australia/Perth:20201212T230000
DTSTAMP:20260420T031651
CREATED:20201118T025803Z
LAST-MODIFIED:20201126T073210Z
UID:10212-1607814000-1607814000@ladyvelvetcabaret.com.au
SUMMARY:Lotta L'Amour performs in I'm With The Banned
DESCRIPTION:We’re serving you late night rock & roll\, wrapped in cabaret chaos. Expect sparkly burlesque dancers\, bendy circus stars\, sideshow freaks\, & drag performers shaking you all night long! 
URL:https://ladyvelvetcabaret.com.au/event/im-with-the-banned/
LOCATION:The Ellington Jazz Club
CATEGORIES:LVC Performer at Event
ATTACH;FMTTYPE=image/jpeg:https://ladyvelvetcabaret.com.au/wp-content/uploads/2020/11/Lotta.jpg
END:VEVENT
BEGIN:VEVENT
DTSTART;TZID=Australia/Perth:20201215T201500
DTEND;TZID=Australia/Perth:20201215T211500
DTSTAMP:20260420T031651
CREATED:20201026T074525Z
LAST-MODIFIED:20201026T074525Z
UID:10022-1608063300-1608066900@ladyvelvetcabaret.com.au
SUMMARY:Tricks of the Trade with Sugar du Joure
DESCRIPTION:Sugar du Joure’s final six week course for 2020!
URL:https://ladyvelvetcabaret.com.au/event/tricks-of-the-trade-with-sugar-du-joure-6/
LOCATION:Lady Velvet Cabaret
CATEGORIES:Class or Workshop
ATTACH;FMTTYPE=image/jpeg:https://ladyvelvetcabaret.com.au/wp-content/uploads/2020/10/LVC-Tricks-of-the-Trade-Instagram-SQUARE-v1.jpg
END:VEVENT
BEGIN:VEVENT
DTSTART;TZID=Australia/Perth:20201218T090000
DTEND;TZID=Australia/Perth:20201218T163000
DTSTAMP:20260420T031651
CREATED:20200819T143023Z
LAST-MODIFIED:20200819T143238Z
UID:9567-1608282000-1608309000@ladyvelvetcabaret.com.au
SUMMARY:Technical Rehearsal for End of Year Concert
DESCRIPTION:The technical rehearsal for the 2020 End of Year Concert
URL:https://ladyvelvetcabaret.com.au/event/technical-rehearsal-for-end-of-year-concert/
LOCATION:The Regal Theatre\, 474 Hay Street Subiaco WA 6008
CATEGORIES:Class or Workshop
END:VEVENT
BEGIN:VEVENT
DTSTART;TZID=Australia/Perth:20201231T000000
DTEND;TZID=Australia/Perth:20201231T000000
DTSTAMP:20260420T031651
CREATED:20201229T052100Z
LAST-MODIFIED:20201229T052100Z
UID:10468-1609372800-1609372800@ladyvelvetcabaret.com.au
SUMMARY:Lola & Sugar rove at The Royal
DESCRIPTION:Lola Moore and Sugar du Joure will be meeting and greeting at The Royal for a New Year’s Eve speakeasy!
URL:https://ladyvelvetcabaret.com.au/event/lola-sugar-rove-at-the-royal/
LOCATION:The Royal
CATEGORIES:LVC Performer at Event
ATTACH;FMTTYPE=image/jpeg:https://ladyvelvetcabaret.com.au/wp-content/uploads/2020/12/lolasug.jpg
END:VEVENT
BEGIN:VEVENT
DTSTART;TZID=Australia/Perth:20201231T203000
DTEND;TZID=Australia/Perth:20201231T203000
DTSTAMP:20260420T031651
CREATED:20201118T030310Z
LAST-MODIFIED:20201126T073929Z
UID:10215-1609446600-1609446600@ladyvelvetcabaret.com.au
SUMMARY:Lotta L'Amour performs in The Ultimate Vegas Show
DESCRIPTION:The Ultimate Vegas show New Year’s Eve celebration at Crown Theatre
URL:https://ladyvelvetcabaret.com.au/event/the-ultimate-vegas-show/
LOCATION:Crown Theatre
CATEGORIES:LVC Performer at Event
ATTACH;FMTTYPE=image/jpeg:https://ladyvelvetcabaret.com.au/wp-content/uploads/2020/11/Lotta.jpg
END:VEVENT
BEGIN:VEVENT
DTSTART;TZID=Australia/Perth:20210102T000000
DTEND;TZID=Australia/Perth:20210102T000000
DTSTAMP:20260420T031651
CREATED:20201229T051700Z
LAST-MODIFIED:20201229T052021Z
UID:10463-1609545600-1609545600@ladyvelvetcabaret.com.au
SUMMARY:Bambi & Candy perform at a private event
DESCRIPTION:Bambi la Belle and Candy Cheeks take to the stage and perform for a luxe private event at Vin & Flower
URL:https://ladyvelvetcabaret.com.au/event/bambi-candy-perform-at-a-private-event/
LOCATION:Vin & Flower
CATEGORIES:LVC Performer at Event
ATTACH;FMTTYPE=image/jpeg:https://ladyvelvetcabaret.com.au/wp-content/uploads/2020/12/event.jpg
END:VEVENT
BEGIN:VEVENT
DTSTART;TZID=Australia/Perth:20210109T000000
DTEND;TZID=Australia/Perth:20210109T000000
DTSTAMP:20260420T031651
CREATED:20201118T030723Z
LAST-MODIFIED:20201126T074006Z
UID:10219-1610150400-1610150400@ladyvelvetcabaret.com.au
SUMMARY:Lotta L'Amour performs in The Mind Warp Pavillion
DESCRIPTION:A Celebration of the life and times of DAVID BOWIE
URL:https://ladyvelvetcabaret.com.au/event/the-mind-warp-pavilion-5/
LOCATION:The Rechabite
CATEGORIES:LVC Performer at Event
ATTACH;FMTTYPE=image/jpeg:https://ladyvelvetcabaret.com.au/wp-content/uploads/2020/11/Lotta.jpg
END:VEVENT
BEGIN:VEVENT
DTSTART;TZID=Australia/Perth:20210115T194500
DTEND;TZID=Australia/Perth:20210115T204500
DTSTAMP:20260420T031651
CREATED:20201126T013447Z
LAST-MODIFIED:20201126T013447Z
UID:10261-1610739900-1610743500@ladyvelvetcabaret.com.au
SUMMARY:Lucinda Panties presents Super Funtimes Singalong Jamboree Part 2 at Fringe World
DESCRIPTION:Panties performs and produces the sequel to her award-winning show: Lucinda Panties’ Super Funtimes Singalong Jamboree at Fringe World Festival 2021!
URL:https://ladyvelvetcabaret.com.au/event/lucinda-panties-presents-super-funtimes-singalong-jamboree-part-2-at-fringe-world/
LOCATION:Chemistry – Girls School\, 2 Wellington Street Perth 6000
CATEGORIES:LVC Performer at Event
ATTACH;FMTTYPE=image/png:https://ladyvelvetcabaret.com.au/wp-content/uploads/2020/11/Lucinda-Panties-Jamboree-Fringe.png
END:VEVENT
BEGIN:VEVENT
DTSTART;TZID=Australia/Perth:20210115T223000
DTEND;TZID=Australia/Perth:20210115T234500
DTSTAMP:20260420T031651
CREATED:20201111T050758Z
LAST-MODIFIED:20201111T050758Z
UID:10163-1610749800-1610754300@ladyvelvetcabaret.com.au
SUMMARY:LVC presents Red Velvet Revue at Fringe World 2020
DESCRIPTION:Help yourself to a decadent slice of FRINGE WORLD flavour at Red Velvet Revue! Meet Fringe’s finest artists\, performing cabaret\, burlesque\, circus\, drag\, music\, comedy\, magic and more fabulous feats of genre-defying performance. With a rotating lineup of Fringe faves and surprise guests\, you can treat yourself to a fresh new taste of Red Velvet delights every night\, at Perth’s favourite late night spot the Ellington Jazz Club. \nDip into our delicious melting pot of talent and sample the incredible variety of flavours that WA has to offer! The ideal showcase whether it’s your first Fringe\, or you’ve seen it all\, join us for a mouth-watering late night dessert that will have you coming back again and again.
URL:https://ladyvelvetcabaret.com.au/event/lvc-presents-red-velvet-revue-at-fringe-world-2020/
LOCATION:The Ellington Jazz Club
CATEGORIES:Lady Velvet Cabaret Show
ATTACH;FMTTYPE=image/jpeg:https://ladyvelvetcabaret.com.au/wp-content/uploads/2020/11/Red-Velvet-Square.jpg
END:VEVENT
BEGIN:VEVENT
DTSTART;TZID=Australia/Perth:20210116T194500
DTEND;TZID=Australia/Perth:20210116T204500
DTSTAMP:20260420T031651
CREATED:20201126T013603Z
LAST-MODIFIED:20201126T013603Z
UID:10265-1610826300-1610829900@ladyvelvetcabaret.com.au
SUMMARY:Lucinda Panties presents Super Funtimes Singalong Jamboree Part 2 at Fringe World
DESCRIPTION:Panties performs and produces the sequel to her award-winning show: Lucinda Panties’ Super Funtimes Singalong Jamboree at Fringe World Festival 2021!
URL:https://ladyvelvetcabaret.com.au/event/lucinda-panties-presents-super-funtimes-singalong-jamboree-part-2-at-fringe-world-2/
LOCATION:Chemistry – Girls School\, 2 Wellington Street Perth 6000
CATEGORIES:LVC Performer at Event
ATTACH;FMTTYPE=image/png:https://ladyvelvetcabaret.com.au/wp-content/uploads/2020/11/Lucinda-Panties-Jamboree-Fringe.png
END:VEVENT
BEGIN:VEVENT
DTSTART;TZID=Australia/Perth:20210116T223000
DTEND;TZID=Australia/Perth:20210116T234500
DTSTAMP:20260420T031651
CREATED:20201111T051201Z
LAST-MODIFIED:20201111T051201Z
UID:10168-1610836200-1610840700@ladyvelvetcabaret.com.au
SUMMARY:LVC presents Red Velvet Revue at Fringe World 2020
DESCRIPTION:Help yourself to a decadent slice of FRINGE WORLD flavour at Red Velvet Revue! Meet Fringe’s finest artists\, performing cabaret\, burlesque\, circus\, drag\, music\, comedy\, magic and more fabulous feats of genre-defying performance. With a rotating lineup of Fringe faves and surprise guests\, you can treat yourself to a fresh new taste of Red Velvet delights every night\, at Perth’s favourite late night spot the Ellington Jazz Club. \nDip into our delicious melting pot of talent and sample the incredible variety of flavours that WA has to offer! The ideal showcase whether it’s your first Fringe\, or you’ve seen it all\, join us for a mouth-watering late night dessert that will have you coming back again and again.
URL:https://ladyvelvetcabaret.com.au/event/lvc-presents-red-velvet-revue-at-fringe-world-2020-2/
LOCATION:The Ellington Jazz Club
CATEGORIES:Lady Velvet Cabaret Show
ATTACH;FMTTYPE=image/jpeg:https://ladyvelvetcabaret.com.au/wp-content/uploads/2020/11/Red-Velvet-Square.jpg
END:VEVENT
BEGIN:VEVENT
DTSTART;TZID=Australia/Perth:20210117T194500
DTEND;TZID=Australia/Perth:20210117T204500
DTSTAMP:20260420T031651
CREATED:20201126T013653Z
LAST-MODIFIED:20201126T013653Z
UID:10267-1610912700-1610916300@ladyvelvetcabaret.com.au
SUMMARY:Lucinda Panties presents Super Funtimes Singalong Jamboree Part 2 at Fringe World
DESCRIPTION:Panties performs and produces the sequel to her award-winning show: Lucinda Panties’ Super Funtimes Singalong Jamboree at Fringe World Festival 2021!
URL:https://ladyvelvetcabaret.com.au/event/lucinda-panties-presents-super-funtimes-singalong-jamboree-part-2-at-fringe-world-3/
LOCATION:Chemistry – Girls School\, 2 Wellington Street Perth 6000
CATEGORIES:LVC Performer at Event
ATTACH;FMTTYPE=image/png:https://ladyvelvetcabaret.com.au/wp-content/uploads/2020/11/Lucinda-Panties-Jamboree-Fringe.png
END:VEVENT
BEGIN:VEVENT
DTSTART;TZID=Australia/Perth:20210118T194500
DTEND;TZID=Australia/Perth:20210118T204500
DTSTAMP:20260420T031651
CREATED:20201126T013723Z
LAST-MODIFIED:20201126T013723Z
UID:10269-1610999100-1611002700@ladyvelvetcabaret.com.au
SUMMARY:Lucinda Panties presents Super Funtimes Singalong Jamboree Part 2 at Fringe World
DESCRIPTION:Panties performs and produces the sequel to her award-winning show: Lucinda Panties’ Super Funtimes Singalong Jamboree at Fringe World Festival 2021!
URL:https://ladyvelvetcabaret.com.au/event/lucinda-panties-presents-super-funtimes-singalong-jamboree-part-2-at-fringe-world-4/
LOCATION:Chemistry – Girls School\, 2 Wellington Street Perth 6000
CATEGORIES:LVC Performer at Event
ATTACH;FMTTYPE=image/png:https://ladyvelvetcabaret.com.au/wp-content/uploads/2020/11/Lucinda-Panties-Jamboree-Fringe.png
END:VEVENT
BEGIN:VEVENT
DTSTART;TZID=Australia/Perth:20210123T193000
DTEND;TZID=Australia/Perth:20210123T203000
DTSTAMP:20260420T031651
CREATED:20210127T064039Z
LAST-MODIFIED:20210127T064039Z
UID:10732-1611430200-1611433800@ladyvelvetcabaret.com.au
SUMMARY:Cece Desist adds some glamour and sparkle to a Private Event
DESCRIPTION:Cece Desist adds some glamour and sparkle to a 1920 themed Private Event\, posing for photos\, greeting guests\, and just generally being fabulous!
URL:https://ladyvelvetcabaret.com.au/event/cece-desist-adds-some-glamour-and-sparkle-to-a-private-event/
LOCATION:Private Venue
CATEGORIES:LVC Performer at Event
ATTACH;FMTTYPE=image/jpeg:https://ladyvelvetcabaret.com.au/wp-content/uploads/2021/01/CECE-Square-Sized.jpg
END:VEVENT
END:VCALENDAR