BEGIN:VCALENDAR
VERSION:2.0
PRODID:-//Lady Velvet Cabaret - ECPv6.0.9//NONSGML v1.0//EN
CALSCALE:GREGORIAN
METHOD:PUBLISH
X-ORIGINAL-URL:https://ladyvelvetcabaret.com.au
X-WR-CALDESC:Events for Lady Velvet Cabaret
REFRESH-INTERVAL;VALUE=DURATION:PT1H
X-Robots-Tag:noindex
X-PUBLISHED-TTL:PT1H
BEGIN:VTIMEZONE
TZID:Australia/Perth
BEGIN:STANDARD
TZOFFSETFROM:+0800
TZOFFSETTO:+0800
TZNAME:AWST
DTSTART:20180101T000000
END:STANDARD
END:VTIMEZONE
BEGIN:VEVENT
DTSTART;VALUE=DATE:20180907
DTEND;VALUE=DATE:20180908
DTSTAMP:20260422T120003
CREATED:20180911T032207Z
LAST-MODIFIED:20180911T032302Z
UID:4192-1536278400-1536364799@ladyvelvetcabaret.com.au
SUMMARY:Lola & Bambi pose for Life Drawing with Andy Quilty
DESCRIPTION:Lola Moore & Bambi La Belle will be posing as life drawing models for special sessions with Andy Quilty. \nEvent Cost – Amount: TBC
URL:https://ladyvelvetcabaret.com.au/event/lola-bambi-pose-for-life-drawing-with-andy-quilty/
LOCATION:Shenton College
CATEGORIES:LVC Performer at Event
ATTACH;FMTTYPE=image/jpeg:https://ladyvelvetcabaret.com.au/wp-content/uploads/2018/09/Andy-Quilty-sm.jpg
END:VEVENT
END:VCALENDAR