BEGIN:VCALENDAR
VERSION:2.0
PRODID:-//Lady Velvet Cabaret - ECPv6.0.9//NONSGML v1.0//EN
CALSCALE:GREGORIAN
METHOD:PUBLISH
X-WR-CALNAME:Lady Velvet Cabaret
X-ORIGINAL-URL:https://ladyvelvetcabaret.com.au
X-WR-CALDESC:Events for Lady Velvet Cabaret
REFRESH-INTERVAL;VALUE=DURATION:PT1H
X-Robots-Tag:noindex
X-PUBLISHED-TTL:PT1H
BEGIN:VTIMEZONE
TZID:Australia/Perth
BEGIN:STANDARD
TZOFFSETFROM:+0800
TZOFFSETTO:+0800
TZNAME:AWST
DTSTART:20180101T000000
END:STANDARD
END:VTIMEZONE
BEGIN:VEVENT
DTSTART;VALUE=DATE:20181104
DTEND;VALUE=DATE:20181105
DTSTAMP:20260422T085221
CREATED:20180920T042314Z
LAST-MODIFIED:20180920T045535Z
UID:4209-1541289600-1541375999@ladyvelvetcabaret.com.au
SUMMARY:Tribal Fusion Bellydance Zills Short Course
DESCRIPTION:Wild Kat teaches a unique Tribal Fusion short course teaching Zills (finger cymbals)
URL:https://ladyvelvetcabaret.com.au/event/tribal-fusion-bellydance-zills-short-course/
LOCATION:Lady Velvet Cabaret
CATEGORIES:Class or Workshop
ATTACH;FMTTYPE=image/jpeg:https://ladyvelvetcabaret.com.au/wp-content/uploads/2018/09/tribal-fusion-bellydance-zills-short-course.jpg
END:VEVENT
END:VCALENDAR