BEGIN:VCALENDAR
VERSION:2.0
PRODID:-//Lady Velvet Cabaret - ECPv6.0.9//NONSGML v1.0//EN
CALSCALE:GREGORIAN
METHOD:PUBLISH
X-WR-CALNAME:Lady Velvet Cabaret
X-ORIGINAL-URL:https://ladyvelvetcabaret.com.au
X-WR-CALDESC:Events for Lady Velvet Cabaret
REFRESH-INTERVAL;VALUE=DURATION:PT1H
X-Robots-Tag:noindex
X-PUBLISHED-TTL:PT1H
BEGIN:VTIMEZONE
TZID:Australia/Perth
BEGIN:STANDARD
TZOFFSETFROM:+0800
TZOFFSETTO:+0800
TZNAME:AWST
DTSTART:20190101T000000
END:STANDARD
END:VTIMEZONE
BEGIN:VEVENT
DTSTART;TZID=Australia/Perth:20190505T180000
DTEND;TZID=Australia/Perth:20190505T210000
DTSTAMP:20260421T233423
CREATED:20190326T085958Z
LAST-MODIFIED:20190326T090928Z
UID:5436-1557079200-1557090000@ladyvelvetcabaret.com.au
SUMMARY:Lady Velvet Cabaret presents... PARLEZ-VOUS CABARET!
DESCRIPTION:Join us for PARLEZ-VOUS CABARET\, a show with a flirty French twist! If you’ve got a hankering for song and dance\, variety acts\, prizes\, laughs\, sizzling burlesque\, and inSEINE amounts of talent – you are in the right place. Sit back and relax\, enjoy a meal from Rosemount Hotels delicious menu as you enjoy a magnifique showcase of the artists\, students\, and special guests of Lady Velvet Cabaret. Let us transport you to the cobbled streets of fair Paris for an evening of glitz and glamour!  \nWHEN: Sunday May 5th. Doors open at 6.00pm\, show starts at 7.00pm sharp!\nWHERE: Rosemount Hotel\, North Perth\nTICKETS: $15+BF from Oztix.com.au\, 18+ only\nDRESS: Your cabaret best! Prizes for the fanciest frocks. \nEmail us info@ladyvelvetcabaret.com.au if you have any questions or queries! ♥
URL:https://ladyvelvetcabaret.com.au/event/lady-velvet-cabaret-presents-parlez-vous-cabaret/
LOCATION:The Rosemount Hotel\, North Perth
CATEGORIES:Lady Velvet Cabaret Show
ATTACH;FMTTYPE=image/jpeg:https://ladyvelvetcabaret.com.au/wp-content/uploads/2019/03/lady-velvet-cabaret-presents-parlez-vous-cabaret-event-1.jpg
END:VEVENT
BEGIN:VEVENT
DTSTART;TZID=Australia/Perth:20190511T200000
DTEND;TZID=Australia/Perth:20190511T233000
DTSTAMP:20260421T233423
CREATED:20190403T084321Z
LAST-MODIFIED:20190403T084321Z
UID:5517-1557604800-1557617400@ladyvelvetcabaret.com.au
SUMMARY:Lucinda judges The Apprentease Awards!
DESCRIPTION:The Apprentease is a new burlesque competition aiming to shine the spotlight on new talent and semi-established artists keen to refine their skills and advance their performer profile. Prizes for this fabulous competition include mentorship from renowned performers\, a graphics designer package\, professional show photos and videos of their act\, and many more prizes that are still being confirmed! Performers will be judged on Characterisation\, Engagement\, Visual Presentation\, Art of Tease and Movement & Musicality. We are so excited for this new competition to kick off\, and are happy to be a sponsor for this year too!\nOur wonderful Resident Mistress of Ceremonies – Lucinda Panties – will also be sitting as an esteemed judge on the judging panel!  \nDATE: Saturday 11th May 2019 \nWHERE: Connections Nightclub\, 81 James St\, Northbridge\, Perth\, WA \nTIME: Doors open 8pm\, show starts 8.30pm \nTICKETS: General Admission seating $28 + booking fee online\, $35 tickets on the door (Cash only) \nTickets here: https://events.ticketbooth.com.au/event/the-apprentease
URL:https://ladyvelvetcabaret.com.au/event/lucinda-judges-the-apprentease-awards/
LOCATION:Connections Nightclub\, 81 James St\, Northbridge\, Perth\, WA
CATEGORIES:LVC Performer at Event
ATTACH;FMTTYPE=image/jpeg:https://ladyvelvetcabaret.com.au/wp-content/uploads/2019/04/apaprentese.jpg
END:VEVENT
BEGIN:VEVENT
DTSTART;TZID=Australia/Perth:20190526T130000
DTEND;TZID=Australia/Perth:20190526T160000
DTSTAMP:20260421T233423
CREATED:20190410T101631Z
LAST-MODIFIED:20190410T101631Z
UID:5553-1558875600-1558886400@ladyvelvetcabaret.com.au
SUMMARY:Burly Babes Studio Pinup Workshop
DESCRIPTION:Join the LVC team for a fun afternoon pinup workshop with a sizzling “BURLESQUE” theme! Bookings limited\, email info@ladyvelvetcabaret.com.au to sign up!
URL:https://ladyvelvetcabaret.com.au/event/burly-babes-studio-pinup-workshop/
LOCATION:Lady Velvet Cabaret
CATEGORIES:Class or Workshop
ATTACH;FMTTYPE=image/jpeg:https://ladyvelvetcabaret.com.au/wp-content/uploads/2019/04/burly-babes-studio-pinup-workshop.jpg
END:VEVENT
END:VCALENDAR