BEGIN:VCALENDAR
VERSION:2.0
PRODID:-//Lady Velvet Cabaret - ECPv6.0.9//NONSGML v1.0//EN
CALSCALE:GREGORIAN
METHOD:PUBLISH
X-WR-CALNAME:Lady Velvet Cabaret
X-ORIGINAL-URL:https://ladyvelvetcabaret.com.au
X-WR-CALDESC:Events for Lady Velvet Cabaret
REFRESH-INTERVAL;VALUE=DURATION:PT1H
X-Robots-Tag:noindex
X-PUBLISHED-TTL:PT1H
BEGIN:VTIMEZONE
TZID:Australia/Perth
BEGIN:STANDARD
TZOFFSETFROM:+0800
TZOFFSETTO:+0800
TZNAME:AWST
DTSTART:20190101T000000
END:STANDARD
END:VTIMEZONE
BEGIN:VEVENT
DTSTART;TZID=Australia/Perth:20190607T200000
DTEND;TZID=Australia/Perth:20190607T220000
DTSTAMP:20260421T220615
CREATED:20190523T071411Z
LAST-MODIFIED:20190523T071411Z
UID:5892-1559937600-1559944800@ladyvelvetcabaret.com.au
SUMMARY:Sugar performs at Cocktail Hour
DESCRIPTION:Sugar du Joure joins the lineup for Sugar Blue Burlesque’s Cocktail Hour at Freo Social!
URL:https://ladyvelvetcabaret.com.au/event/sugar-performs-at-cocktail-hour/
LOCATION:Freo Social\, Australia
CATEGORIES:LVC Performer at Event
ATTACH;FMTTYPE=image/jpeg:https://ladyvelvetcabaret.com.au/wp-content/uploads/2019/05/60820955_10157333361465879_5055932808183152640_n.jpg
END:VEVENT
BEGIN:VEVENT
DTSTART;TZID=Australia/Perth:20190611T201500
DTEND;TZID=Australia/Perth:20190611T211500
DTSTAMP:20260421T220615
CREATED:20190529T041157Z
LAST-MODIFIED:20190529T041157Z
UID:5949-1560284100-1560287700@ladyvelvetcabaret.com.au
SUMMARY:Robo-A-Gogo Six Week Course
DESCRIPTION:Join Sugar du Joure for a sexy swingin’ sixties course with a twist (and shout!)
URL:https://ladyvelvetcabaret.com.au/event/robo-a-gogo-six-week-course/
LOCATION:Lady Velvet Cabaret
CATEGORIES:Class or Workshop
ATTACH;FMTTYPE=image/jpeg:https://ladyvelvetcabaret.com.au/wp-content/uploads/2019/05/robo-a-gogo-six-week-course.jpg
END:VEVENT
BEGIN:VEVENT
DTSTART;VALUE=DATE:20190615
DTEND;VALUE=DATE:20190616
DTSTAMP:20260421T220615
CREATED:20190531T031556Z
LAST-MODIFIED:20190531T031556Z
UID:5977-1560556800-1560643199@ladyvelvetcabaret.com.au
SUMMARY:Wild Kat competes in the Miss Koolsville contest
DESCRIPTION:Wild Kat joins contestants competing for the title of Miss Koolsville.
URL:https://ladyvelvetcabaret.com.au/event/wild-kat-competes-in-the-miss-koolsville-contest/
LOCATION:Claremont Showgrounds
CATEGORIES:LVC Performer at Event
ATTACH;FMTTYPE=image/jpeg:https://ladyvelvetcabaret.com.au/wp-content/uploads/2019/05/61182700_2539167969448937_4913801809098702848_n.jpg
END:VEVENT
BEGIN:VEVENT
DTSTART;TZID=Australia/Perth:20190618T201500
DTEND;TZID=Australia/Perth:20190618T211500
DTSTAMP:20260421T220616
CREATED:20190529T041238Z
LAST-MODIFIED:20190529T041238Z
UID:5952-1560888900-1560892500@ladyvelvetcabaret.com.au
SUMMARY:Robo-A-Gogo Six Week Course
DESCRIPTION:Join Sugar du Joure for a sexy swingin’ sixties course with a twist (and shout!)
URL:https://ladyvelvetcabaret.com.au/event/robo-a-gogo-six-week-course-2/
LOCATION:Lady Velvet Cabaret
CATEGORIES:Class or Workshop
ATTACH;FMTTYPE=image/jpeg:https://ladyvelvetcabaret.com.au/wp-content/uploads/2019/05/robo-a-gogo-six-week-course.jpg
END:VEVENT
BEGIN:VEVENT
DTSTART;TZID=Australia/Perth:20190622T200000
DTEND;TZID=Australia/Perth:20190622T210000
DTSTAMP:20260421T220616
CREATED:20190618T070135Z
LAST-MODIFIED:20190619T030944Z
UID:6403-1561233600-1561237200@ladyvelvetcabaret.com.au
SUMMARY:Candy Cheeks and Bambi la Belle perform at the White Winter Ball
DESCRIPTION:Candy and Bambi perform a glamorous cabaret fan dance at an event at Pan Pacific\, Perth
URL:https://ladyvelvetcabaret.com.au/event/candy-cheeks-and-bambi-la-belle-perform-at-the-white-winter-ball/
LOCATION:Pan Pacific Hotel\, Perth
CATEGORIES:LVC Performer at Event
ATTACH;FMTTYPE=image/jpeg:https://ladyvelvetcabaret.com.au/wp-content/uploads/2019/06/candy-cheeks-and-bambi-la-belle-perform-at-the-white-winter-ball.jpg
END:VEVENT
BEGIN:VEVENT
DTSTART;TZID=Australia/Perth:20190625T201500
DTEND;TZID=Australia/Perth:20190625T211500
DTSTAMP:20260421T220616
CREATED:20190529T041308Z
LAST-MODIFIED:20190529T041308Z
UID:5954-1561493700-1561497300@ladyvelvetcabaret.com.au
SUMMARY:Robo-A-Gogo Six Week Course
DESCRIPTION:Join Sugar du Joure for a sexy swingin’ sixties course with a twist (and shout!)
URL:https://ladyvelvetcabaret.com.au/event/robo-a-gogo-six-week-course-3/
LOCATION:Lady Velvet Cabaret
CATEGORIES:Class or Workshop
ATTACH;FMTTYPE=image/jpeg:https://ladyvelvetcabaret.com.au/wp-content/uploads/2019/05/robo-a-gogo-six-week-course.jpg
END:VEVENT
BEGIN:VEVENT
DTSTART;TZID=Australia/Perth:20190629T190000
DTEND;TZID=Australia/Perth:20190629T220000
DTSTAMP:20260421T220616
CREATED:20190619T074719Z
LAST-MODIFIED:20190619T074958Z
UID:6424-1561834800-1561845600@ladyvelvetcabaret.com.au
SUMMARY:Lola Moore competes in Miss Burlesque WA Finals
DESCRIPTION:Lola Moore competes in the Miss Burlesque Western Australia finals at the Astor Theatre\, Perth\nEvent Cost – Currency: (Dollars) $\nEvent Cost – Amount: 30+
URL:https://ladyvelvetcabaret.com.au/event/lola-moore-competes-in-miss-burlesque-wa-finals/
LOCATION:The Astor Theatre\,
CATEGORIES:LVC Performer at Event
ATTACH;FMTTYPE=image/jpeg:https://ladyvelvetcabaret.com.au/wp-content/uploads/2019/06/lola-moore-competes-in-miss-burlesque-wa-finals.jpg
END:VEVENT
BEGIN:VEVENT
DTSTART;TZID=Australia/Perth:20190629T190000
DTEND;TZID=Australia/Perth:20190629T220000
DTSTAMP:20260421T220616
CREATED:20190620T032133Z
LAST-MODIFIED:20190620T032201Z
UID:6436-1561834800-1561845600@ladyvelvetcabaret.com.au
SUMMARY:Sugar du Joure\, featured performer at Miss Burlesque WA 2019
DESCRIPTION:Sugar du Joure performs a very special routine as featured performer for Miss Burlesque WA 2019\nEvent Cost: $
URL:https://ladyvelvetcabaret.com.au/event/sugar-du-joure-featured-performer-at-miss-burlesque-wa-2019/
LOCATION:The Astor Theatre
CATEGORIES:LVC Performer at Event
ATTACH;FMTTYPE=image/jpeg:https://ladyvelvetcabaret.com.au/wp-content/uploads/2019/06/Sugar1.jpg
END:VEVENT
END:VCALENDAR