BEGIN:VCALENDAR
VERSION:2.0
PRODID:-//Lady Velvet Cabaret - ECPv6.0.9//NONSGML v1.0//EN
CALSCALE:GREGORIAN
METHOD:PUBLISH
X-ORIGINAL-URL:https://ladyvelvetcabaret.com.au
X-WR-CALDESC:Events for Lady Velvet Cabaret
REFRESH-INTERVAL;VALUE=DURATION:PT1H
X-Robots-Tag:noindex
X-PUBLISHED-TTL:PT1H
BEGIN:VTIMEZONE
TZID:Australia/Perth
BEGIN:STANDARD
TZOFFSETFROM:+0800
TZOFFSETTO:+0800
TZNAME:AWST
DTSTART:20200101T000000
END:STANDARD
END:VTIMEZONE
BEGIN:VEVENT
DTSTART;TZID=Australia/Perth:20200510T000000
DTEND;TZID=Australia/Perth:20200510T000000
DTSTAMP:20260421T173319
CREATED:20200225T044835Z
LAST-MODIFIED:20200225T044835Z
UID:8205-1589068800-1589068800@ladyvelvetcabaret.com.au
SUMMARY:Burlesque After Dark Graduation Showcase
DESCRIPTION:Join the Term 1 graduates of the Lady Velvet Academy for a special showcase at the Rosemount Hotel
URL:https://ladyvelvetcabaret.com.au/event/burlesque-after-dark-graduation-showcase/
LOCATION:The Rosemount Hotel
CATEGORIES:Lady Velvet Cabaret Show
ATTACH;FMTTYPE=image/jpeg:https://ladyvelvetcabaret.com.au/wp-content/uploads/2020/02/LVC-Burlesque-After-Dark-Instagram-SQUARE.jpg
END:VEVENT
END:VCALENDAR