BEGIN:VCALENDAR
VERSION:2.0
PRODID:-//Lady Velvet Cabaret - ECPv6.0.9//NONSGML v1.0//EN
CALSCALE:GREGORIAN
METHOD:PUBLISH
X-ORIGINAL-URL:https://ladyvelvetcabaret.com.au
X-WR-CALDESC:Events for Lady Velvet Cabaret
REFRESH-INTERVAL;VALUE=DURATION:PT1H
X-Robots-Tag:noindex
X-PUBLISHED-TTL:PT1H
BEGIN:VTIMEZONE
TZID:Australia/Perth
BEGIN:STANDARD
TZOFFSETFROM:+0800
TZOFFSETTO:+0800
TZNAME:AWST
DTSTART:20200101T000000
END:STANDARD
END:VTIMEZONE
BEGIN:VEVENT
DTSTART;TZID=Australia/Perth:20200815T000000
DTEND;TZID=Australia/Perth:20200815T000000
DTSTAMP:20260421T220655
CREATED:20200819T051443Z
LAST-MODIFIED:20200819T051524Z
UID:9552-1597449600-1597449600@ladyvelvetcabaret.com.au
SUMMARY:Lotta L'Amour performs with BURLEZQUE
DESCRIPTION:Lotta L’Amour will join the BURLEZQUE birthday celebrations at Ellington Jazz Club
URL:https://ladyvelvetcabaret.com.au/event/lotta-lamour-performs-with-burlezque/
LOCATION:The Ellington Jazz Club
CATEGORIES:LVC Performer at Event
END:VEVENT
BEGIN:VEVENT
DTSTART;TZID=Australia/Perth:20200815T000000
DTEND;TZID=Australia/Perth:20200815T000000
DTSTAMP:20260421T220655
CREATED:20200819T052323Z
LAST-MODIFIED:20200819T052435Z
UID:9555-1597449600-1597449600@ladyvelvetcabaret.com.au
SUMMARY:Roving Showgirls at Private Event
DESCRIPTION:Two LVC showgirls add some sparkle to a private event at Lumber Punks and Whippersnapper Distillery\, East Perth
URL:https://ladyvelvetcabaret.com.au/event/roving-showgirls-at-private-event/
LOCATION:Private Event
CATEGORIES:Private Event
END:VEVENT
BEGIN:VEVENT
DTSTART;TZID=Australia/Perth:20200816T000000
DTEND;TZID=Australia/Perth:20200816T000000
DTSTAMP:20260421T220655
CREATED:20200819T050834Z
LAST-MODIFIED:20200819T050834Z
UID:9550-1597536000-1597536000@ladyvelvetcabaret.com.au
SUMMARY:Wild Kat & Lotta L'Amour perform at UNLEASHED
DESCRIPTION:Sugar Blue Burlesque’s UNLEASHED takes over Rosemount Hotel\, featuring our artists Wild Kat and Lotta L’Amour
URL:https://ladyvelvetcabaret.com.au/event/wild-kat-lotta-lamour-perform-at-unleashed/
LOCATION:The Rosemount Hotel
CATEGORIES:LVC Performer at Event
END:VEVENT
BEGIN:VEVENT
DTSTART;TZID=Australia/Perth:20200822T000000
DTEND;TZID=Australia/Perth:20200822T000000
DTSTAMP:20260421T220655
CREATED:20200810T020328Z
LAST-MODIFIED:20200810T020328Z
UID:9471-1598054400-1598054400@ladyvelvetcabaret.com.au
SUMMARY:Wild Kat performs at the Grand Opening of Sanctuary Sisu\, Mandurah
DESCRIPTION:Wild Kat will make an appearance performing and greeting guests at the grand opening of Sanctuary Sisu in Mandurah
URL:https://ladyvelvetcabaret.com.au/event/wild-kat-performs-at-the-grand-opening-of-sanctuary-sisu-mandurah/
LOCATION:Private Event
CATEGORIES:LVC Performer at Event
ATTACH;FMTTYPE=image/jpeg:https://ladyvelvetcabaret.com.au/wp-content/uploads/2020/08/WILD-KAT.jpg
END:VEVENT
BEGIN:VEVENT
DTSTART;TZID=Australia/Perth:20200823T130000
DTEND;TZID=Australia/Perth:20200823T160000
DTSTAMP:20260421T220655
CREATED:20200810T022047Z
LAST-MODIFIED:20200810T022047Z
UID:9479-1598187600-1598198400@ladyvelvetcabaret.com.au
SUMMARY:Goddess Pinup Workshop
DESCRIPTION:We are excited to reschedule our Goddess workshop with Sugar du Joure\, Wild Kat Photography and local designer and artist Tempest Eve\, originally planned for April! Bookings are filling fast\, email info@ladyvelvetcabaret.com.au to sign up\, or to join our VIP Pinup Mailing List for future updates.
URL:https://ladyvelvetcabaret.com.au/event/goddess-pinup-workshop/
LOCATION:Lady Velvet Cabaret
CATEGORIES:Class or Workshop
ATTACH;FMTTYPE=image/jpeg:https://ladyvelvetcabaret.com.au/wp-content/uploads/2020/08/LVC-Goddess-Instagram-SQUARE-08-05-20.jpg
END:VEVENT
END:VCALENDAR