BEGIN:VCALENDAR
VERSION:2.0
PRODID:-//Lady Velvet Cabaret - ECPv6.0.9//NONSGML v1.0//EN
CALSCALE:GREGORIAN
METHOD:PUBLISH
X-WR-CALNAME:Lady Velvet Cabaret
X-ORIGINAL-URL:https://ladyvelvetcabaret.com.au
X-WR-CALDESC:Events for Lady Velvet Cabaret
REFRESH-INTERVAL;VALUE=DURATION:PT1H
X-Robots-Tag:noindex
X-PUBLISHED-TTL:PT1H
BEGIN:VTIMEZONE
TZID:Australia/Perth
BEGIN:STANDARD
TZOFFSETFROM:+0800
TZOFFSETTO:+0800
TZNAME:AWST
DTSTART:20200101T000000
END:STANDARD
END:VTIMEZONE
BEGIN:VEVENT
DTSTART;TZID=Australia/Perth:20200901T201500
DTEND;TZID=Australia/Perth:20200901T211500
DTSTAMP:20260421T233423
CREATED:20200810T011340Z
LAST-MODIFIED:20200810T011340Z
UID:9450-1598991300-1598994900@ladyvelvetcabaret.com.au
SUMMARY:Burlesque Series Six Week Course: Burlesque Discotheque
DESCRIPTION:Disco divas\, get ready to hit the dance floor with icon\, titleholder and disco fiend Sugar du Joure! Dust off your boogie shoes and enter a world of glamour\, gold\, and glitter as we embark on a brand new Burlesque Series six week course.\nDiscover or develop your stage persona\, grow new skills and confidence\, and enter a world of fierce self-love\, support and encouragement.
URL:https://ladyvelvetcabaret.com.au/event/burlesque-series-six-week-course-burlesque-discotheque/
LOCATION:Lady Velvet Cabaret
CATEGORIES:Class or Workshop
ATTACH;FMTTYPE=image/png:https://ladyvelvetcabaret.com.au/wp-content/uploads/2020/08/B-Disco.png
END:VEVENT
BEGIN:VEVENT
DTSTART;TZID=Australia/Perth:20200908T201500
DTEND;TZID=Australia/Perth:20200908T211500
DTSTAMP:20260421T233423
CREATED:20200810T011716Z
LAST-MODIFIED:20200810T011716Z
UID:9453-1599596100-1599599700@ladyvelvetcabaret.com.au
SUMMARY:Burlesque Series Six Week Course: Burlesque Discotheque
DESCRIPTION:Disco divas\, get ready to hit the dance floor with icon\, titleholder and disco fiend Sugar du Joure! Dust off your boogie shoes and enter a world of glamour\, gold\, and glitter as we embark on a brand new Burlesque Series six week course.\nDiscover or develop your stage persona\, grow new skills and confidence\, and enter a world of fierce self-love\, support and encouragement.
URL:https://ladyvelvetcabaret.com.au/event/burlesque-series-six-week-course-burlesque-discotheque-2/
LOCATION:Lady Velvet Cabaret
CATEGORIES:Class or Workshop
ATTACH;FMTTYPE=image/png:https://ladyvelvetcabaret.com.au/wp-content/uploads/2020/08/B-Disco.png
END:VEVENT
BEGIN:VEVENT
DTSTART;TZID=Australia/Perth:20200915T201500
DTEND;TZID=Australia/Perth:20200915T211500
DTSTAMP:20260421T233423
CREATED:20200810T011827Z
LAST-MODIFIED:20200810T011827Z
UID:9455-1600200900-1600204500@ladyvelvetcabaret.com.au
SUMMARY:Burlesque Series Six Week Course: Burlesque Discotheque
DESCRIPTION:Disco divas\, get ready to hit the dance floor with icon\, titleholder and disco fiend Sugar du Joure! Dust off your boogie shoes and enter a world of glamour\, gold\, and glitter as we embark on a brand new Burlesque Series six week course.\nDiscover or develop your stage persona\, grow new skills and confidence\, and enter a world of fierce self-love\, support and encouragement.
URL:https://ladyvelvetcabaret.com.au/event/burlesque-series-six-week-course-burlesque-discotheque-3/
LOCATION:Lady Velvet Cabaret
CATEGORIES:Class or Workshop
ATTACH;FMTTYPE=image/png:https://ladyvelvetcabaret.com.au/wp-content/uploads/2020/08/B-Disco.png
END:VEVENT
BEGIN:VEVENT
DTSTART;TZID=Australia/Perth:20200919T000000
DTEND;TZID=Australia/Perth:20200919T000000
DTSTAMP:20260421T233423
CREATED:20200810T021048Z
LAST-MODIFIED:20200810T021048Z
UID:9475-1600473600-1600473600@ladyvelvetcabaret.com.au
SUMMARY:LVC at The Apprentease
DESCRIPTION:New troupe member Lotta L’Amour is excited to be competing at The Apprentease in September! We also have LVC members participating as judges or hosts – join the LVC gang as we cheer on Lotta!
URL:https://ladyvelvetcabaret.com.au/event/lvc-at-the-apprentease/
LOCATION:Connections Nightclub
CATEGORIES:LVC Performer at Event
ATTACH;FMTTYPE=image/png:https://ladyvelvetcabaret.com.au/wp-content/uploads/2020/08/48422156_447213452479474_3016390845201907712_o.png
END:VEVENT
BEGIN:VEVENT
DTSTART;TZID=Australia/Perth:20200922T201500
DTEND;TZID=Australia/Perth:20200922T211500
DTSTAMP:20260421T233423
CREATED:20200810T012335Z
LAST-MODIFIED:20200810T012335Z
UID:9457-1600805700-1600809300@ladyvelvetcabaret.com.au
SUMMARY:Burlesque Series Six Week Course: Burlesque Discotheque
DESCRIPTION:Disco divas\, get ready to hit the dance floor with icon\, titleholder and disco fiend Sugar du Joure! Dust off your boogie shoes and enter a world of glamour\, gold\, and glitter as we embark on a brand new Burlesque Series six week course.\nDiscover or develop your stage persona\, grow new skills and confidence\, and enter a world of fierce self-love\, support and encouragement.
URL:https://ladyvelvetcabaret.com.au/event/burlesque-series-six-week-course-burlesque-discotheque-4/
LOCATION:Lady Velvet Cabaret
CATEGORIES:Class or Workshop
ATTACH;FMTTYPE=image/png:https://ladyvelvetcabaret.com.au/wp-content/uploads/2020/08/B-Disco.png
END:VEVENT
BEGIN:VEVENT
DTSTART;TZID=Australia/Perth:20200926T000000
DTEND;TZID=Australia/Perth:20200926T000000
DTSTAMP:20260421T233423
CREATED:20200810T015344Z
LAST-MODIFIED:20200810T015344Z
UID:9465-1601078400-1601078400@ladyvelvetcabaret.com.au
SUMMARY:LVC at Miss Burlesque WA
DESCRIPTION:Text: Malaika Moon and Wild Kat take to the stage to battle it out with some of Perth’s favourite burlesque starlets for the title of Miss Burlesque WA. Former Miss Burlesque WA 2016 (and national runner up) LVC member Sugar du Joure featured on the judging panel.
URL:https://ladyvelvetcabaret.com.au/event/lvc-at-miss-burlesque-wa/
LOCATION:Astor Theatre\, 659 Beaufort St\, Mt Lawley\, WA\, 6050\, Australia
CATEGORIES:LVC Performer at Event
ATTACH;FMTTYPE=image/jpeg:https://ladyvelvetcabaret.com.au/wp-content/uploads/2020/08/87120372_2694122050694750_2549858823061897216_o.jpg
END:VEVENT
BEGIN:VEVENT
DTSTART;TZID=Australia/Perth:20200928T180000
DTEND;TZID=Australia/Perth:20200928T190000
DTSTAMP:20260421T233423
CREATED:20200907T014010Z
LAST-MODIFIED:20200907T014010Z
UID:9691-1601316000-1601319600@ladyvelvetcabaret.com.au
SUMMARY:TAP DAT! Mini-Course
DESCRIPTION:The TAP DAT! Taplesque mini course with Candy Cheeks
URL:https://ladyvelvetcabaret.com.au/event/tap-dat-mini-course-3/
LOCATION:Lady Velvet Cabaret
CATEGORIES:Class or Workshop
ATTACH;FMTTYPE=image/jpeg:https://ladyvelvetcabaret.com.au/wp-content/uploads/2020/09/TAP-DAT-Instagram-SQUARE-09-02-20.jpg
END:VEVENT
BEGIN:VEVENT
DTSTART;TZID=Australia/Perth:20200929T201500
DTEND;TZID=Australia/Perth:20200929T211500
DTSTAMP:20260421T233423
CREATED:20200810T012821Z
LAST-MODIFIED:20200810T012821Z
UID:9459-1601410500-1601414100@ladyvelvetcabaret.com.au
SUMMARY:Burlesque Series Six Week Course: Burlesque Discotheque
DESCRIPTION:Disco divas\, get ready to hit the dance floor with icon\, titleholder and disco fiend Sugar du Joure! Dust off your boogie shoes and enter a world of glamour\, gold\, and glitter as we embark on a brand new Burlesque Series six week course.\nDiscover or develop your stage persona\, grow new skills and confidence\, and enter a world of fierce self-love\, support and encouragement.
URL:https://ladyvelvetcabaret.com.au/event/burlesque-series-six-week-course-burlesque-discotheque-5/
LOCATION:Lady Velvet Cabaret
CATEGORIES:Class or Workshop
ATTACH;FMTTYPE=image/png:https://ladyvelvetcabaret.com.au/wp-content/uploads/2020/08/B-Disco.png
END:VEVENT
END:VCALENDAR