BEGIN:VCALENDAR
VERSION:2.0
PRODID:-//Lady Velvet Cabaret - ECPv6.0.9//NONSGML v1.0//EN
CALSCALE:GREGORIAN
METHOD:PUBLISH
X-ORIGINAL-URL:https://ladyvelvetcabaret.com.au
X-WR-CALDESC:Events for Lady Velvet Cabaret
REFRESH-INTERVAL;VALUE=DURATION:PT1H
X-Robots-Tag:noindex
X-PUBLISHED-TTL:PT1H
BEGIN:VTIMEZONE
TZID:Australia/Perth
BEGIN:STANDARD
TZOFFSETFROM:+0800
TZOFFSETTO:+0800
TZNAME:AWST
DTSTART:20210101T000000
END:STANDARD
END:VTIMEZONE
BEGIN:VEVENT
DTSTART;TZID=Australia/Perth:20210203T190000
DTEND;TZID=Australia/Perth:20210203T190000
DTSTAMP:20260422T072250
CREATED:20210127T061627Z
LAST-MODIFIED:20210128T013829Z
UID:10728-1612378800-1612378800@ladyvelvetcabaret.com.au
SUMMARY:Malaika Moon performs at Sonder
DESCRIPTION:Sonder n. “the realisation that each random passer-by is living a life as vivid and complex as your own.” Welcome to Sonder\, an immersive life drawing experience\, designed for the curious. Rove through the winding spaces and discover five vignettes\, glimpses into the private lives of strangers\, unknowingly waiting for you to capture them in time. We invite you to satiate your curiosity; to meet a stranger’s gaze; indulge in the luxury of art and observe the sensuality of the human body; to leave your own world and be suspended in another’s. We invite you to Sonder. Featuring live music. Enjoy a complimentary drink with ticket purchase. All art materials supplied.
URL:https://ladyvelvetcabaret.com.au/event/malaikamoonsonder-2/
LOCATION:Henry on Eighth
CATEGORIES:LVC Performer at Event
ATTACH;FMTTYPE=image/jpeg:https://ladyvelvetcabaret.com.au/wp-content/uploads/2021/01/143489782_4012451698765573_4049966015876455116_n.jpg
END:VEVENT
BEGIN:VEVENT
DTSTART;TZID=Australia/Perth:20210205T223000
DTEND;TZID=Australia/Perth:20210205T234500
DTSTAMP:20260422T072250
CREATED:20201111T052759Z
LAST-MODIFIED:20201111T052759Z
UID:10172-1612564200-1612568700@ladyvelvetcabaret.com.au
SUMMARY:LVC presents Red Velvet Revue at Fringe World 2020
DESCRIPTION:Help yourself to a decadent slice of FRINGE WORLD flavour at Red Velvet Revue! Meet Fringe’s finest artists\, performing cabaret\, burlesque\, circus\, drag\, music\, comedy\, magic and more fabulous feats of genre-defying performance. With a rotating lineup of Fringe faves and surprise guests\, you can treat yourself to a fresh new taste of Red Velvet delights every night\, at Perth’s favourite late night spot the Ellington Jazz Club. \nDip into our delicious melting pot of talent and sample the incredible variety of flavours that WA has to offer! The ideal showcase whether it’s your first Fringe\, or you’ve seen it all\, join us for a mouth-watering late night dessert that will have you coming back again and again.
URL:https://ladyvelvetcabaret.com.au/event/lvc-presents-red-velvet-revue-at-fringe-world-2020-4/
LOCATION:The Ellington Jazz Club
CATEGORIES:Lady Velvet Cabaret Show
ATTACH;FMTTYPE=image/jpeg:https://ladyvelvetcabaret.com.au/wp-content/uploads/2020/11/Red-Velvet-Square.jpg
END:VEVENT
BEGIN:VEVENT
DTSTART;TZID=Australia/Perth:20210206T221000
DTEND;TZID=Australia/Perth:20210206T231000
DTSTAMP:20260422T072250
CREATED:20210118T070604Z
LAST-MODIFIED:20210118T070604Z
UID:10646-1612649400-1612653000@ladyvelvetcabaret.com.au
SUMMARY:Malaika Moon performs at Scarlet Affaire: Late Night Lust
DESCRIPTION:Late Night Lust will tease and titillate with debut routines\, provocative costumery and fresh faced fantasies for you to feast your eyes on. Bring a loved one\, or even a first date perhaps?
URL:https://ladyvelvetcabaret.com.au/event/malaika-moon-performs-at-scarlet-affaire-late-night-lust/
LOCATION:Cheeky Sparrow
CATEGORIES:LVC Performer at Event
ATTACH;FMTTYPE=image/jpeg:https://ladyvelvetcabaret.com.au/wp-content/uploads/2021/01/139908351_412158726719097_6662633941850421643_n.jpg
END:VEVENT
BEGIN:VEVENT
DTSTART;TZID=Australia/Perth:20210210T190000
DTEND;TZID=Australia/Perth:20210210T190000
DTSTAMP:20260422T072250
CREATED:20210127T061702Z
LAST-MODIFIED:20210128T014446Z
UID:10730-1612983600-1612983600@ladyvelvetcabaret.com.au
SUMMARY:Malaika Moon performs at Sonder
DESCRIPTION:Sonder n. “the realisation that each random passer-by is living a life as vivid and complex as your own.” Welcome to Sonder\, an immersive life drawing experience\, designed for the curious. Rove through the winding spaces and discover five vignettes\, glimpses into the private lives of strangers\, unknowingly waiting for you to capture them in time. We invite you to satiate your curiosity; to meet a stranger’s gaze; indulge in the luxury of art and observe the sensuality of the human body; to leave your own world and be suspended in another’s. We invite you to Sonder. Featuring live music. Enjoy a complimentary drink with ticket purchase. All art materials supplied.
URL:https://ladyvelvetcabaret.com.au/event/malaikamoonsonder-3/
LOCATION:Henry on Eighth
CATEGORIES:LVC Performer at Event
ATTACH;FMTTYPE=image/jpeg:https://ladyvelvetcabaret.com.au/wp-content/uploads/2021/01/143489782_4012451698765573_4049966015876455116_n.jpg
END:VEVENT
BEGIN:VEVENT
DTSTART;TZID=Australia/Perth:20210212T223000
DTEND;TZID=Australia/Perth:20210212T234500
DTSTAMP:20260422T072250
CREATED:20201111T053552Z
LAST-MODIFIED:20201111T053552Z
UID:10174-1613169000-1613173500@ladyvelvetcabaret.com.au
SUMMARY:LVC presents Red Velvet Revue at Fringe World 2020
DESCRIPTION:Help yourself to a decadent slice of FRINGE WORLD flavour at Red Velvet Revue! Meet Fringe’s finest artists\, performing cabaret\, burlesque\, circus\, drag\, music\, comedy\, magic and more fabulous feats of genre-defying performance. With a rotating lineup of Fringe faves and surprise guests\, you can treat yourself to a fresh new taste of Red Velvet delights every night\, at Perth’s favourite late night spot the Ellington Jazz Club. \nDip into our delicious melting pot of talent and sample the incredible variety of flavours that WA has to offer! The ideal showcase whether it’s your first Fringe\, or you’ve seen it all\, join us for a mouth-watering late night dessert that will have you coming back again and again.
URL:https://ladyvelvetcabaret.com.au/event/lvc-presents-red-velvet-revue-at-fringe-world-2020-5/
LOCATION:The Ellington Jazz Club
CATEGORIES:Lady Velvet Cabaret Show
ATTACH;FMTTYPE=image/jpeg:https://ladyvelvetcabaret.com.au/wp-content/uploads/2020/11/Red-Velvet-Square.jpg
END:VEVENT
BEGIN:VEVENT
DTSTART;TZID=Australia/Perth:20210219T200000
DTEND;TZID=Australia/Perth:20210219T200000
DTSTAMP:20260422T072250
CREATED:20210217T073705Z
LAST-MODIFIED:20210217T073705Z
UID:10882-1613764800-1613764800@ladyvelvetcabaret.com.au
SUMMARY:Malaika Moon & Lotta L'Amour perform at Snatch for Girls Perth
DESCRIPTION:Join Malaika and Lotta\, plus a whole host of incredible DJs & entertainers at Snatch for Girls\, Perth!
URL:https://ladyvelvetcabaret.com.au/event/malaika-moon-lotta-lamour-perform-at-snatch-for-girls-perth/
LOCATION:Barbes Perth
CATEGORIES:LVC Performer at Event
ATTACH;FMTTYPE=image/jpeg:https://ladyvelvetcabaret.com.au/wp-content/uploads/2021/02/LVC-Snatch-Featured-Image.jpg
END:VEVENT
BEGIN:VEVENT
DTSTART;TZID=Australia/Perth:20210220T140000
DTEND;TZID=Australia/Perth:20210220T140000
DTSTAMP:20260422T072250
CREATED:20210217T080128Z
LAST-MODIFIED:20210217T080128Z
UID:10893-1613829600-1613829600@ladyvelvetcabaret.com.au
SUMMARY:Wild Kat performs at the Perth Rocks festival
DESCRIPTION:Wild Kat dances at the Perth Rocks festival\, at one of our favourite Perth venues\, Badlands Bar
URL:https://ladyvelvetcabaret.com.au/event/wild-kat-performs-at-the-perth-rocks-festival/
LOCATION:Badlands Bar\, 1/3 ABERDEEN STREET\, PERTH\, WA\, 6000\, Australia
CATEGORIES:LVC Performer at Event
ATTACH;FMTTYPE=image/jpeg:https://ladyvelvetcabaret.com.au/wp-content/uploads/2021/02/FB_IMG_1613540006694.jpg
END:VEVENT
BEGIN:VEVENT
DTSTART;TZID=Australia/Perth:20210220T200000
DTEND;TZID=Australia/Perth:20210220T200000
DTSTAMP:20260422T072250
CREATED:20210217T075246Z
LAST-MODIFIED:20210217T075246Z
UID:10888-1613851200-1613851200@ladyvelvetcabaret.com.au
SUMMARY:Sugar du Joure performs in Caged at Albany Pride Festival
DESCRIPTION:Sugar du Joure and the cast of Kinetica’s Caged head to Albany to celebrate Pride weekend
URL:https://ladyvelvetcabaret.com.au/event/sugar-du-joure-performs-in-caged-at-albany-pride-festival/
LOCATION:Albany Entertainment Centre
CATEGORIES:LVC Performer at Event
ATTACH;FMTTYPE=image/jpeg:https://ladyvelvetcabaret.com.au/wp-content/uploads/2021/02/FB_IMG_1613538662998.jpg
ORGANIZER;CN="Kinetica%20Circus":MAILTO:https://www.kineticacdt.com.au/
END:VEVENT
BEGIN:VEVENT
DTSTART;TZID=Australia/Perth:20210228T200000
DTEND;TZID=Australia/Perth:20210228T220000
DTSTAMP:20260422T072250
CREATED:20210224T050533Z
LAST-MODIFIED:20210224T050533Z
UID:10958-1614542400-1614549600@ladyvelvetcabaret.com.au
SUMMARY:Lucinda Panties performs at Flight of Fancy\, Mandurah Fringe
DESCRIPTION:Lucinda Panties hosts and performs in Flight of Fancy for Mandurah Fringe Festival
URL:https://ladyvelvetcabaret.com.au/event/lucinda-panties-performs-at-flight-of-fancy-mandurah-fringe/
LOCATION:TBC
CATEGORIES:LVC Performer at Event
ATTACH;FMTTYPE=image/png:https://ladyvelvetcabaret.com.au/wp-content/uploads/2021/02/74234639_3808395889185846_7053801850247577600_n.png
END:VEVENT
END:VCALENDAR