BEGIN:VCALENDAR
VERSION:2.0
PRODID:-//Lady Velvet Cabaret - ECPv6.0.9//NONSGML v1.0//EN
CALSCALE:GREGORIAN
METHOD:PUBLISH
X-WR-CALNAME:Lady Velvet Cabaret
X-ORIGINAL-URL:https://ladyvelvetcabaret.com.au
X-WR-CALDESC:Events for Lady Velvet Cabaret
REFRESH-INTERVAL;VALUE=DURATION:PT1H
X-Robots-Tag:noindex
X-PUBLISHED-TTL:PT1H
BEGIN:VTIMEZONE
TZID:Australia/Perth
BEGIN:STANDARD
TZOFFSETFROM:+0800
TZOFFSETTO:+0800
TZNAME:AWST
DTSTART:20210101T000000
END:STANDARD
TZID:Africa/Abidjan
BEGIN:STANDARD
TZOFFSETFROM:+0000
TZOFFSETTO:+0000
TZNAME:GMT
DTSTART:20210101T000000
END:STANDARD
END:VTIMEZONE
BEGIN:VEVENT
DTSTART;TZID=Australia/Perth:20210306T093000
DTEND;TZID=Australia/Perth:20210307T160000
DTSTAMP:20260422T085221
CREATED:20210224T051605Z
LAST-MODIFIED:20210224T051605Z
UID:10962-1615023000-1615132800@ladyvelvetcabaret.com.au
SUMMARY:Lucinda Panties hosts the Coogee Live event for City of Cockburn
DESCRIPTION:Lucinda Panties hosts festivities at the Coogee Live event for the City of Cockburn
URL:https://ladyvelvetcabaret.com.au/event/lucinda-panties-hosts-the-coogee-live-event-for-city-of-cockburn/
LOCATION:Coogee Beach\, WA
CATEGORIES:LVC Performer at Event
ATTACH;FMTTYPE=image/png:https://ladyvelvetcabaret.com.au/wp-content/uploads/2021/02/74234639_3808395889185846_7053801850247577600_n.png
END:VEVENT
BEGIN:VEVENT
DTSTART;TZID=Australia/Perth:20210318T180000
DTEND;TZID=Australia/Perth:20210318T213000
DTSTAMP:20260422T085221
CREATED:20210317T094630Z
LAST-MODIFIED:20210317T094630Z
UID:11128-1616090400-1616103000@ladyvelvetcabaret.com.au
SUMMARY:Cece Desist performs at Casino Royale: Immersive Movie Experience
DESCRIPTION:Iconic Bond-girl glamour is brought to life by Perth’s best Burlesque entertainers this summer in the live immersive screening of Casino Royale\, presented by Rooftop Movies and Tease Industries.\nSuit up! Beautiful Bond girls (& boys!) await\, as the thrilling and tantalizing world of James Bond is brought to life atop the Perth city skyline. Cast your bets and keep your poker face steady\, these Bond girls would melt even Daniel Craig’s cold heart!\nBurlesque Cinema is an immersive cinema event that includes live burlesque performances from Perth’s best\, both before and during the film\, bringing iconic movie moments to life before your eyes.
URL:https://ladyvelvetcabaret.com.au/event/cece-desist-performs-at-casino-royale-immersive-movie-experience/
LOCATION:Rooftop Cinemas
CATEGORIES:LVC Performer at Event
ATTACH;FMTTYPE=image/png:https://ladyvelvetcabaret.com.au/wp-content/uploads/2021/03/Screen-Shot-2021-03-17-at-5.04.54-pm.png
END:VEVENT
BEGIN:VEVENT
DTSTART;TZID=Australia/Perth:20210319T180000
DTEND;TZID=Australia/Perth:20210319T213000
DTSTAMP:20260422T085221
CREATED:20210317T094728Z
LAST-MODIFIED:20210317T094728Z
UID:11133-1616176800-1616189400@ladyvelvetcabaret.com.au
SUMMARY:Cece Desist performs at Casino Royale: Immersive Movie Experience
DESCRIPTION:Iconic Bond-girl glamour is brought to life by Perth’s best Burlesque entertainers this summer in the live immersive screening of Casino Royale\, presented by Rooftop Movies and Tease Industries.\nSuit up! Beautiful Bond girls (& boys!) await\, as the thrilling and tantalizing world of James Bond is brought to life atop the Perth city skyline. Cast your bets and keep your poker face steady\, these Bond girls would melt even Daniel Craig’s cold heart!\nBurlesque Cinema is an immersive cinema event that includes live burlesque performances from Perth’s best\, both before and during the film\, bringing iconic movie moments to life before your eyes.
URL:https://ladyvelvetcabaret.com.au/event/cece-desist-performs-at-casino-royale-immersive-movie-experience-2/
LOCATION:Rooftop Cinemas
CATEGORIES:LVC Performer at Event
ATTACH;FMTTYPE=image/png:https://ladyvelvetcabaret.com.au/wp-content/uploads/2021/03/Screen-Shot-2021-03-17-at-5.04.54-pm.png
END:VEVENT
BEGIN:VEVENT
DTSTART;TZID=Australia/Perth:20210320T180000
DTEND;TZID=Australia/Perth:20210320T213000
DTSTAMP:20260422T085221
CREATED:20210317T094814Z
LAST-MODIFIED:20210317T094814Z
UID:11135-1616263200-1616275800@ladyvelvetcabaret.com.au
SUMMARY:Cece Desist performs at Casino Royale: Immersive Movie Experience
DESCRIPTION:Iconic Bond-girl glamour is brought to life by Perth’s best Burlesque entertainers this summer in the live immersive screening of Casino Royale\, presented by Rooftop Movies and Tease Industries.\nSuit up! Beautiful Bond girls (& boys!) await\, as the thrilling and tantalizing world of James Bond is brought to life atop the Perth city skyline. Cast your bets and keep your poker face steady\, these Bond girls would melt even Daniel Craig’s cold heart!\nBurlesque Cinema is an immersive cinema event that includes live burlesque performances from Perth’s best\, both before and during the film\, bringing iconic movie moments to life before your eyes.
URL:https://ladyvelvetcabaret.com.au/event/cece-desist-performs-at-casino-royale-immersive-movie-experience-3/
LOCATION:Rooftop Cinemas
CATEGORIES:LVC Performer at Event
ATTACH;FMTTYPE=image/png:https://ladyvelvetcabaret.com.au/wp-content/uploads/2021/03/Screen-Shot-2021-03-17-at-5.04.54-pm.png
END:VEVENT
BEGIN:VEVENT
DTSTART;TZID=Australia/Perth:20210321T123000
DTEND;TZID=Australia/Perth:20210321T235900
DTSTAMP:20260422T085221
CREATED:20210317T090805Z
LAST-MODIFIED:20210322T010350Z
UID:11121-1616329800-1616371140@ladyvelvetcabaret.com.au
SUMMARY:Malaika Moon performs at Snatch Street Party - Sunday Sesh
DESCRIPTION:Snatch is opening up the Street of Fremantle’s Paddy Troy Mall and turning it into one big dance floor and drinking space. 2021 is the year of firsts for us: first Sunday session + first street party + first foray into Fremantle + first team up with WAM and Newport + first time street drinking has ever been legal in Perth.
URL:https://ladyvelvetcabaret.com.au/event/malaika-moon-performs-at-snatch-street-party-sunday-sesh/
LOCATION:The Newport Hotel\, Fremantle
CATEGORIES:LVC Performer at Event
ATTACH;FMTTYPE=image/jpeg:https://ladyvelvetcabaret.com.au/wp-content/uploads/2021/03/snatch.jpeg
END:VEVENT
BEGIN:VEVENT
DTSTART;TZID=Africa/Abidjan:20210327T223000
DTEND;TZID=Africa/Abidjan:20210328T013000
DTSTAMP:20260422T085221
CREATED:20210324T081734Z
LAST-MODIFIED:20210324T082149Z
UID:11126-1616884200-1616895000@ladyvelvetcabaret.com.au
SUMMARY:Malaika Moon and Cece Desist perform at Cleo's Big Gay Cabaret
DESCRIPTION:After three fully sold out shows\, Cléo’s Big Gay Cabaret is back for a fourth instalment in March with a brilliant new line up\, showcasing some ridiculously fabulous and varied queer talent! Get your tickets quick\, this will sell out again!\nHosted by The Ellington’s own sometimes chanteuse and all times raging homosexual\, Cléo’s Big Gay Cabaret promises to be a glorious night of cabaret\, burlesque\, drag and all things queer! Prepare to be thoroughly entertained by an illustrious all-queer cast\, then dance the night away to all your favourite gay anthems after the show\, with a $10 big gay pink cocktail and free glow sticks and lollipops!
URL:https://ladyvelvetcabaret.com.au/event/malaika-moon-and-cece-desist-perform-at-cleos-big-gay-cabaret/
LOCATION:The Ellington Jazz Club
CATEGORIES:LVC Performer at Event
ATTACH;FMTTYPE=image/png:https://ladyvelvetcabaret.com.au/wp-content/uploads/2021/03/Screen-Shot-2021-03-17-at-4.46.27-pm.png
END:VEVENT
END:VCALENDAR