BEGIN:VCALENDAR
VERSION:2.0
PRODID:-//Lady Velvet Cabaret - ECPv6.0.9//NONSGML v1.0//EN
CALSCALE:GREGORIAN
METHOD:PUBLISH
X-ORIGINAL-URL:https://ladyvelvetcabaret.com.au
X-WR-CALDESC:Events for Lady Velvet Cabaret
REFRESH-INTERVAL;VALUE=DURATION:PT1H
X-Robots-Tag:noindex
X-PUBLISHED-TTL:PT1H
BEGIN:VTIMEZONE
TZID:Australia/Perth
BEGIN:STANDARD
TZOFFSETFROM:+0800
TZOFFSETTO:+0800
TZNAME:AWST
DTSTART:20210101T000000
END:STANDARD
END:VTIMEZONE
BEGIN:VEVENT
DTSTART;TZID=Australia/Perth:20210410T000000
DTEND;TZID=Australia/Perth:20210411T000000
DTSTAMP:20260422T102348
CREATED:20210409T011114Z
LAST-MODIFIED:20210409T011114Z
UID:11275-1618012800-1618099200@ladyvelvetcabaret.com.au
SUMMARY:Sugar du Joure performs at a private event
DESCRIPTION:Sugar will be adding her signature sweet and spicy burlesque style to a fantastic private party.
URL:https://ladyvelvetcabaret.com.au/event/sugar-du-joure-performs-at-a-private-event/
LOCATION:Private Event
CATEGORIES:LVC Performer at Event
ATTACH;FMTTYPE=image/jpeg:https://ladyvelvetcabaret.com.au/wp-content/uploads/2021/04/166602702_120310010079100_4397483549396101664_n.jpg
END:VEVENT
BEGIN:VEVENT
DTSTART;TZID=Australia/Perth:20210410T203000
DTEND;TZID=Australia/Perth:20210410T213000
DTSTAMP:20260422T102348
CREATED:20210409T010923Z
LAST-MODIFIED:20210409T010923Z
UID:11272-1618086600-1618090200@ladyvelvetcabaret.com.au
SUMMARY:Lola Moore and Sugar du Joure perform at a private event
DESCRIPTION:Lola and Sugar add some sparkle and sass to a fabulous private party!
URL:https://ladyvelvetcabaret.com.au/event/lola-moore-and-sugar-du-joure-perform-at-a-private-event/
LOCATION:Private Event
CATEGORIES:LVC Performer at Event
ATTACH;FMTTYPE=image/jpeg:https://ladyvelvetcabaret.com.au/wp-content/uploads/2021/04/Lola-Moore-and-Sugar-du-Joure-Featured-Image.jpg
END:VEVENT
BEGIN:VEVENT
DTSTART;TZID=Australia/Perth:20210413T190000
DTEND;TZID=Australia/Perth:20210413T220000
DTSTAMP:20260422T102348
CREATED:20210409T011403Z
LAST-MODIFIED:20210409T011403Z
UID:11278-1618340400-1618351200@ladyvelvetcabaret.com.au
SUMMARY:Lucinda Panties hosts Quiz Night
DESCRIPTION:Lucinda will be hosting the annual quiz night for the History Teacher’s Association of WA
URL:https://ladyvelvetcabaret.com.au/event/lucinda-panties-hosts-quiz-night/
LOCATION:Private Event
CATEGORIES:LVC Performer at Event
ATTACH;FMTTYPE=image/jpeg:https://ladyvelvetcabaret.com.au/wp-content/uploads/2021/04/Lucinda-Featured-Image.jpg
END:VEVENT
BEGIN:VEVENT
DTSTART;TZID=Australia/Perth:20210418T190000
DTEND;TZID=Australia/Perth:20210418T213000
DTSTAMP:20260422T102348
CREATED:20210310T052012Z
LAST-MODIFIED:20210310T052012Z
UID:11067-1618772400-1618781400@ladyvelvetcabaret.com.au
SUMMARY:Miami Nights - Graduation Show
DESCRIPTION:Spend a sizzling Sunday night with Lady Velvet Cabaret and experience just how hot Miami Nights can get!\nEach term a scintillating selection of burlesque\, cabaret\, acrobatics and song & dance is unleashed onstage at the Rosemount Hotel in a special showcase\, hosted by Perth’s loosest\, loudest emcee: Lucinda Panties. Join us as we celebrate the graduates of the Lady Velvet Academy\, joined by your favourite LVC stars and special guests\, for the perfect mix of belly laughs\, breathtaking talent\, and the art of the tease.
URL:https://ladyvelvetcabaret.com.au/event/miami-nights-graduation-show/
LOCATION:The Rosemount Hotel
CATEGORIES:Lady Velvet Cabaret Show
ATTACH;FMTTYPE=image/jpeg:https://ladyvelvetcabaret.com.au/wp-content/uploads/2021/03/157195697_424900108597963_6921197699812066723_n.jpg
END:VEVENT
END:VCALENDAR