BEGIN:VCALENDAR
VERSION:2.0
PRODID:-//Lady Velvet Cabaret - ECPv6.0.9//NONSGML v1.0//EN
CALSCALE:GREGORIAN
METHOD:PUBLISH
X-ORIGINAL-URL:https://ladyvelvetcabaret.com.au
X-WR-CALDESC:Events for Lady Velvet Cabaret
REFRESH-INTERVAL;VALUE=DURATION:PT1H
X-Robots-Tag:noindex
X-PUBLISHED-TTL:PT1H
BEGIN:VTIMEZONE
TZID:Australia/Perth
BEGIN:STANDARD
TZOFFSETFROM:+0800
TZOFFSETTO:+0800
TZNAME:AWST
DTSTART:20210101T000000
END:STANDARD
END:VTIMEZONE
BEGIN:VEVENT
DTSTART;TZID=Australia/Perth:20210508T190000
DTEND;TZID=Australia/Perth:20210508T220000
DTSTAMP:20260422T120003
CREATED:20210510T051908Z
LAST-MODIFIED:20210510T051908Z
UID:11516-1620500400-1620511200@ladyvelvetcabaret.com.au
SUMMARY:Cece Desist performs at Kwinana Fringe
DESCRIPTION:Cece Desist joins a talented lineup at the OMG Fringe event for City of Kwinana
URL:https://ladyvelvetcabaret.com.au/event/cece-desist-performs-at-kwinana-fringe/
LOCATION:Koorliny Arts Centre
CATEGORIES:LVC Performer at Event
ATTACH;FMTTYPE=image/jpeg:https://ladyvelvetcabaret.com.au/wp-content/uploads/2021/05/65523186_2357945074444449_2570823550571118592_n.jpg
END:VEVENT
BEGIN:VEVENT
DTSTART;TZID=Australia/Perth:20210508T220000
DTEND;TZID=Australia/Perth:20210508T230000
DTSTAMP:20260422T120003
CREATED:20210506T081703Z
LAST-MODIFIED:20210506T081703Z
UID:11491-1620511200-1620514800@ladyvelvetcabaret.com.au
SUMMARY:Sugar du Joure performs at a private party
DESCRIPTION:Sugar performs at a private Fringe Festival-themed party!
URL:https://ladyvelvetcabaret.com.au/event/sugar-du-joure-performs-at-a-private-party/
LOCATION:Private Venue
CATEGORIES:LVC Performer at Event
ATTACH;FMTTYPE=image/jpeg:https://ladyvelvetcabaret.com.au/wp-content/uploads/2021/04/166602702_120310010079100_4397483549396101664_n.jpg
END:VEVENT
BEGIN:VEVENT
DTSTART;TZID=Australia/Perth:20210515T183000
DTEND;TZID=Australia/Perth:20210515T203000
DTSTAMP:20260422T120003
CREATED:20210420T094427Z
LAST-MODIFIED:20210420T094455Z
UID:11381-1621103400-1621110600@ladyvelvetcabaret.com.au
SUMMARY:Nothing Compares: Music of Prince
DESCRIPTION:LVC’s showgirl extraordinaire Lotta L’amour choreographs for the Perth Symphony Orchestra’s upcoming tribute to pop legend Prince! \nOne of the world’s most unique artists is next in line for Perth Symphony’s compelling orchestral treatment\, as part of a series of concerts celebrating 10 years as the Orchestra that breaks the rules.\nThe orchestra\, known for their extraordinary performances that celebrate some of the most loved contemporary music in an incredibly rich\, emotional and expansive way\, is about to take you on a symphonic exploration of the music of Prince like nothing before.
URL:https://ladyvelvetcabaret.com.au/event/nothing-compares-music-of-prince/
LOCATION:HBF Stadium\, Mt Claremont\, Perth\, WA\, Australia
CATEGORIES:LVC Performer and Choreographer at event 
ATTACH;FMTTYPE=image/png:https://ladyvelvetcabaret.com.au/wp-content/uploads/2021/04/Screen-Shot-2021-04-20-at-2.53.11-pm-1.png
END:VEVENT
BEGIN:VEVENT
DTSTART;TZID=Australia/Perth:20210515T200000
DTEND;TZID=Australia/Perth:20210515T220000
DTSTAMP:20260422T120003
CREATED:20210512T092730Z
LAST-MODIFIED:20210512T092730Z
UID:11548-1621108800-1621116000@ladyvelvetcabaret.com.au
SUMMARY:Dancer & Choreographer Lotta L'Amour features in Nothing Compares.. The Music of Prince
DESCRIPTION:Lotta is the choreographer and a performer in the Perth Symphony Orchestra’s tribute to the music of Prince!
URL:https://ladyvelvetcabaret.com.au/event/dancer-choreographer-lotta-lamour-features-in-nothing-compares-the-music-of-prince/
LOCATION:HBF Stadium\, Mt Claremont\, Perth\, WA\, Australia
CATEGORIES:LVC Performer at Event
ATTACH;FMTTYPE=image/jpeg:https://ladyvelvetcabaret.com.au/wp-content/uploads/2021/05/PSO-PRINCE-2021-HOME-PAGE-IMAGE-1030x579px-copy-1030x579-1.jpg
END:VEVENT
BEGIN:VEVENT
DTSTART;TZID=Australia/Perth:20210521T190000
DTEND;TZID=Australia/Perth:20210521T220000
DTSTAMP:20260422T120003
CREATED:20210511T055712Z
LAST-MODIFIED:20210511T055712Z
UID:11529-1621623600-1621634400@ladyvelvetcabaret.com.au
SUMMARY:Lotta L'Amour performs at Full Phat Cabaret
DESCRIPTION:Lotta takes to the stage with the Perth Cabaret Collective for this spectacular show!
URL:https://ladyvelvetcabaret.com.au/event/lotta-lamour-performs-at-full-phat-cabaret/
LOCATION:The Rechabite
CATEGORIES:LVC Performer at Event
ATTACH;FMTTYPE=image/jpeg:https://ladyvelvetcabaret.com.au/wp-content/uploads/2021/04/Lotta.jpg
END:VEVENT
BEGIN:VEVENT
DTSTART;TZID=Australia/Perth:20210521T193000
DTEND;TZID=Australia/Perth:20210521T214500
DTSTAMP:20260422T120003
CREATED:20210420T092940Z
LAST-MODIFIED:20210420T092940Z
UID:11376-1621625400-1621633500@ladyvelvetcabaret.com.au
SUMMARY:Perth Cabaret Collective Full Phat Cabaret
DESCRIPTION:LVC’s showgirl extraordinaire Lotta L’amour joins Perth Cabaret Collective for their upcoming show ‘Full Phat Cabaret’!
URL:https://ladyvelvetcabaret.com.au/event/perth-cabaret-collective-full-phat-cabaret/
LOCATION:The Rechabite
CATEGORIES:LVC Performer at Event
ATTACH;FMTTYPE=image/png:https://ladyvelvetcabaret.com.au/wp-content/uploads/2021/04/169088442_4133304463374324_5422739175261816593_n.png
END:VEVENT
BEGIN:VEVENT
DTSTART;TZID=Australia/Perth:20210527T223000
DTEND;TZID=Australia/Perth:20210528T223000
DTSTAMP:20260422T120003
CREATED:20210420T091808Z
LAST-MODIFIED:20210420T093102Z
UID:11373-1622154600-1622241000@ladyvelvetcabaret.com.au
SUMMARY:Cléo’s Big Gay Cabaret
DESCRIPTION:LVC’s showgirl extraordinaire Lotta L’amour joins the lineup of Cleo’s Big Gay Cabaret!
URL:https://ladyvelvetcabaret.com.au/event/cleos-big-gay-cabaret-2/
LOCATION:The Ellington Jazz Club
CATEGORIES:LVC Performer at Event
ATTACH;FMTTYPE=image/jpeg:https://ladyvelvetcabaret.com.au/wp-content/uploads/2021/04/Lotta.jpg
END:VEVENT
BEGIN:VEVENT
DTSTART;TZID=Australia/Perth:20210529T190000
DTEND;TZID=Australia/Perth:20210529T200000
DTSTAMP:20260422T120003
CREATED:20210512T090230Z
LAST-MODIFIED:20210512T090230Z
UID:11544-1622314800-1622318400@ladyvelvetcabaret.com.au
SUMMARY:Lucinda Panties performs at Belmont's Imaginarium
DESCRIPTION:Lucinda’s popular show: Lucinda Panties’ Super Funtimes Singalong Jamboree takes place at the City of Belmont’s Imaginarium festival – tickets are FREE!
URL:https://ladyvelvetcabaret.com.au/event/lucinda-panties-performs-at-belmonts-imaginarium/
LOCATION:Belmont
CATEGORIES:LVC Performer at Event
ATTACH;FMTTYPE=image/jpeg:https://ladyvelvetcabaret.com.au/wp-content/uploads/2021/04/Lucinda-Featured-Image.jpg
END:VEVENT
END:VCALENDAR