BEGIN:VCALENDAR
VERSION:2.0
PRODID:-//Lady Velvet Cabaret - ECPv6.0.9//NONSGML v1.0//EN
CALSCALE:GREGORIAN
METHOD:PUBLISH
X-ORIGINAL-URL:https://ladyvelvetcabaret.com.au
X-WR-CALDESC:Events for Lady Velvet Cabaret
REFRESH-INTERVAL;VALUE=DURATION:PT1H
X-Robots-Tag:noindex
X-PUBLISHED-TTL:PT1H
BEGIN:VTIMEZONE
TZID:Australia/Perth
BEGIN:STANDARD
TZOFFSETFROM:+0800
TZOFFSETTO:+0800
TZNAME:AWST
DTSTART:20240101T000000
END:STANDARD
END:VTIMEZONE
BEGIN:VEVENT
DTSTART;TZID=Australia/Perth:20240714T183000
DTEND;TZID=Australia/Perth:20240714T213000
DTSTAMP:20260421T161201
CREATED:20240710T062608Z
LAST-MODIFIED:20240710T062608Z
UID:16844-1720981800-1720992600@ladyvelvetcabaret.com.au
SUMMARY:After Dark with Lady Velvet Cabaret at the Rosemount - July 14th!
DESCRIPTION:The stage is set\, the lights are dimmed\, and it’s time for our graduates to shine! “After Dark with Lady Velvet Cabaret” is a dazzling celebration of talent\, creativity\, and the art of burlesque. Join us at the Rosemount Hotel on July 14th for a night of jaw-dropping performances you won’t want to miss. Featuring headliner\, Bettie Bombshell! Tickets available here. 
URL:https://ladyvelvetcabaret.com.au/event/after-dark-with-lady-velvet-cabaret-at-the-rosemount-july-14th/
LOCATION:The Rosemount Hotel
END:VEVENT
END:VCALENDAR